Workbook

Sheet RESUMEN 
A1: MINISTERIO DE SALUD
A2: SERVICIO DE SALUD COQUIMBO
A3: SUBDIRECCION DE GESTION ASISTENCIAL
A4: SUBDEPTO DE ESTADÍSTICA Y GESTIÓN DE LA INFORMACIÓN
A5: COMUNA | B5: RESUMEN DE CUMPLIMIENTO DE METAS A DICIEMBRE 2016
B6: CORTE A DICIEMBRE
B8: METAS COMPONENTE ACTIVIDAD GENERAL
B9: META Nº1 | C9: META Nº2 | D9: META Nº3 | E9: META Nº4 | F9: META Nº5 | G9: META Nº6 | H9: META Nº7 | I9: META Nº8 | J9: META Nº9 | K9: META Nº10 | L9: META Nº11 | M9: META Nº12 | N9: META Nº13 | O9: CUMPLIMIENTO GENERAL | P9: CUMPLIMIENTO META GES
B10: EMP hombres 20 a 44 años | C10: EMP mujeres de 45 a 64 años | D10: EMP 65 y mas años | E10: Control embarazada | F10: Alta odontologica menores de 20 años | G10: Gestion de reclamos | H10: Cobertura DM2 en personas de 15 y mas años | I10: Cobertutra HTA en personas de 15 y mas años | J10: Cobertura de Evaluación del desarrollo Psicomotor de niños/as de 12 a 23 meses bajo control | K10: Visita domiciliaria integral | L10: Cobertura de Atención de Asma en Población general y EPOC en personas de 40 años y más | M10: Cobertura de Atención Integral de trastornos mentales en personas de 5 y más años | N10: Cobertura de control de salud integral a adolescentes de 10 a 14 años
A12: LA SERENA | B12: =+'META 1'!$C$25 -> 0.69495658 | C12: =+'META 2'!$C$25 -> 0.79830716 | D12: =+'META 3'!$C$25 -> 0.84797755 | E12: =+'META 4'!$C$25 -> 1.0080587 | F12: =+'META 5'!$C$25 -> 0.84589299 | G12: =+'META 6'!$C$25 -> 1.0171585 | H12: =+'META 7'!$C$25 -> 0.87936628 | I12: =+'META 8'!$C$25 -> 0.83550369 | J12: =+'META 9'!$C$25 -> 1.0526316 | K12: =+'META 10'!$C$25 -> 0.98836001 | L12: =+'META 11'!$C$25 -> 0.58792905 | M12: =+'META 12'!$C$25 -> 1.0256709 | N12: =+'META 13'!$C$25 -> 1.0378648 | O12: =+B42*8%+C42*8%+D42*8%+E42*7%+F42*8%+G42*7%+H42*8%+I42*8%+J42*8%+K42*7%+L42*8%+M42*8%+N42*7% -> 0.87837987
A13: COQUIMBO | B13: =+'META 1'!$C$36 -> 0.97002941 | C13: =+'META 2'!$C$36 -> 1.0611989 | D13: =+'META 3'!$C$36 -> 0.95691813 | E13: =+'META 4'!$C$36 -> 0.95801041 | F13: =+'META 5'!$C$36 -> 0.92251254 | G13: =+'META 6'!$C$36 -> 1.0184229 | H13: =+'META 7'!$C$36 -> 1.0369457 | I13: =+'META 8'!$C$36 -> 0.98750967 | J13: =+'META 9'!$C$36 -> 0.99319988 | K13: =+'META 10'!$C$36 -> 0.93450646 | L13: =+'META 11'!$C$36 -> 0.71601976 | M13: =+'META 12'!$C$36 -> 0.84655317 | N13: =+'META 13'!$C$36 -> 1.0707241 | O13: =+B43*8%+C43*8%+D43*8%+E43*7%+F43*8%+G43*7%+H43*8%+I43*8%+J43*8%+K43*7%+L43*8%+M43*8%+N43*7% -> 0.94389558
A14: VICUÑA | B14: =+'META 1'!$C$47 -> 1.0274054 | C14: =+'META 2'!$C$47 -> 1.0036765 | D14: =+'META 3'!$C$47 -> 0.80414291 | E14: =+'META 4'!$C$47 -> 0.9344921 | F14: =+'META 5'!$C$47 -> 1.0288923 | G14: =+'META 6'!$C$47 -> 1.0204082 | H14: =+'META 7'!$C$47 -> 1.1128386 | I14: =+'META 8'!$C$47 -> 1.0242487 | J14: =+'META 9'!$C$47 -> 1.0034364 | K14: =+'META 10'!$C$47 -> 1.4508057 | L14: =+'META 11'!$C$47 -> 0.94911074 | M14: =+'META 12'!$C$47 -> 1.3253881 | N14: =+'META 13'!$C$47 -> 1.0534781 | O14: =+B44*8%+C44*8%+D44*8%+E44*7%+F44*8%+G44*7%+H44*8%+I44*8%+J44*8%+K44*7%+L44*8%+M44*8%+N44*7% -> 0.97567474
A15: ILLAPEL | B15: =+'META 1'!$C$61 -> 1.0004876 | C15: =+'META 2'!$C$61 -> 0.99805849 | D15: =+'META 3'!$C$61 -> 1.0540378 | E15: =+'META 4'!$C$61 -> 1.0295617 | F15: =+'META 5'!$C$61 -> 0.92051115 | G15: =+'META 6'!$C$61 -> 1.0204082 | H15: =+'META 7'!$C$61 -> 1.0079375 | I15: =+'META 8'!$C$61 -> 1.0086298 | J15: =+'META 9'!$C$61 -> 1.0129987 | K15: =+'META 10'!$C$61 -> 1.1918022 | L15: =+'META 11'!$C$61 -> 0.97081113 | M15: =+'META 12'!$C$61 -> 1.2533422 | N15: =+'META 13'!$C$61 -> 1.1045365 | O15: =+B45*8%+C45*8%+D45*8%+E45*7%+F45*8%+G45*7%+H45*8%+I45*8%+J45*8%+K45*7%+L45*8%+M45*8%+N45*7% -> 0.99115046
A16: CANELA | B16: =+'META 1'!$C$72 -> 0.92923057 | C16: =+'META 2'!$C$72 -> 0.90273733 | D16: =+'META 3'!$C$72 -> 1.137583 | E16: =+'META 4'!$C$72 -> 0.96277279 | F16: =+'META 5'!$C$72 -> 0.84965928 | G16: =+'META 6'!$C$72 -> 1.0204082 | H16: =+'META 7'!$C$72 -> 1.0218377 | I16: =+'META 8'!$C$72 -> 0.99074254 | J16: =+'META 9'!$C$72 -> 0.9787234 | K16: =+'META 10'!$C$72 -> 0.87912088 | L16: =+'META 11'!$C$72 -> 0.61060464 | M16: =+'META 12'!$C$72 -> 0.74510121 | N16: =+'META 13'!$C$72 -> 1.0200927 | O16: =+B46*8%+C46*8%+D46*8%+E46*7%+F46*8%+G46*7%+H46*8%+I46*8%+J46*8%+K46*7%+L46*8%+M46*8%+N46*7% -> 0.90947648
A17: LOS VILOS | B17: =+'META 1'!$C$78 -> 1.0447761 | C17: =+'META 2'!$C$78 -> 1.0968761 | D17: =+'META 3'!$C$78 -> 0.98924731 | E17: =+'META 4'!$C$78 -> 1.0378827 | F17: =+'META 5'!$C$78 -> 1.2908599 | G17: =+'META 6'!$C$78 -> 1.0204082 | H17: =+'META 7'!$C$78 -> 0.99421845 | I17: =+'META 8'!$C$78 -> 1.0361001 | J17: =+'META 9'!$C$78 -> 0.97666848 | K17: =+'META 10'!$C$78 -> 1.0124873 | L17: =+'META 11'!$C$78 -> 0.82041702 | M17: =+'META 12'!$C$78 -> 1.0106106 | N17: =+'META 13'!$C$78 -> 1.0793651 | O17: =+B47*8%+C47*8%+D47*8%+E47*7%+F47*8%+G47*7%+H47*8%+I47*8%+J47*8%+K47*7%+L47*8%+M47*8%+N47*7% -> 0.9824441
A18: SALAMANCA | B18: =+'META 1'!$C$89 -> 1.0512452 | C18: =+'META 2'!$C$89 -> 1.0662838 | D18: =+'META 3'!$C$89 -> 0.99473062 | E18: =+'META 4'!$C$89 -> 1.0026901 | F18: =+'META 5'!$C$89 -> 1.2511784 | G18: =+'META 6'!$C$89 -> 1.0204082 | H18: =+'META 7'!$C$89 -> 1.0147722 | I18: =+'META 8'!$C$89 -> 1.0250755 | J18: =+'META 9'!$C$89 -> 1.2524495 | K18: =+'META 10'!$C$89 -> 1.2325647 | L18: =+'META 11'!$C$89 -> 1.0098115 | M18: =+'META 12'!$C$89 -> 1.0640714 | N18: =+'META 13'!$C$89 -> 1.8635478 | O18: =+B48*8%+C48*8%+D48*8%+E48*7%+F48*8%+G48*7%+H48*8%+I48*8%+J48*8%+K48*7%+L48*8%+M48*8%+N48*7% -> 0.99957845
A19: OVALLE | B19: =+'META 1'!$C$106 -> 0.99774867 | C19: =+'META 2'!$C$106 -> 1.06894 | D19: =+'META 3'!$C$106 -> 0.95279084 | E19: =+'META 4'!$C$106 -> 1.0015247 | F19: =+'META 5'!$C$106 -> 1.0613485 | G19: =+'META 6'!$C$106 -> 1.0204082 | H19: =+'META 7'!$C$106 -> 1.0574132 | I19: =+'META 8'!$C$106 -> 1.0348152 | J19: =+'META 9'!$C$106 -> 1.0914302 | K19: =+'META 10'!$C$106 -> 0.70740417 | L19: =+'META 11'!$C$106 -> 0.79266871 | M19: =+'META 12'!$C$106 -> 1.0716978 | N19: =+'META 13'!$C$106 -> 1.2243047 | O19: =+B49*8%+C49*8%+D49*8%+E49*7%+F49*8%+G49*7%+H49*8%+I49*8%+J49*8%+K49*7%+L49*8%+M49*8%+N49*7% -> 0.95897495
A20: COMBARBALÁ | B20: =+'META 1'!$C$119 -> 0.79949239 | C20: =+'META 2'!$C$119 -> 0.88385099 | D20: =+'META 3'!$C$119 -> 1.0727911 | E20: =+'META 4'!$C$119 -> 1.0670732 | F20: =+'META 5'!$C$119 -> 1.0779981 | G20: =+'META 6'!$C$119 -> 1.0204082 | H20: =+'META 7'!$C$119 -> 1.0544149 | I20: =+'META 8'!$C$119 -> 0.99921028 | J20: =+'META 9'!$C$119 -> 1.1012184 | K20: =+'META 10'!$C$119 -> 1.1950402 | L20: =+'META 11'!$C$119 -> 0.80156275 | M20: =+'META 12'!$C$119 -> 0.96693909 | N20: =+'META 13'!$C$119 -> 1.0989011 | O20: =+B50*8%+C50*8%+D50*8%+E50*7%+F50*8%+G50*7%+H50*8%+I50*8%+J50*8%+K50*7%+L50*8%+M50*8%+N50*7% -> 0.95608444
A21: MONTE PATRIA | B21: =+'META 1'!$C$133 -> 1.0021065 | C21: =+'META 2'!$C$133 -> 1.0784944 | D21: =+'META 3'!$C$133 -> 0.99206869 | E21: =+'META 4'!$C$133 -> 1.0116287 | F21: =+'META 5'!$C$133 -> 1.0443431 | G21: =+'META 6'!$C$133 -> 1.0204082 | H21: =+'META 7'!$C$133 -> 1.1611563 | I21: =+'META 8'!$C$133 -> 0.99065213 | J21: =+'META 9'!$C$133 -> 1.0542241 | K21: =+'META 10'!$C$133 -> 0.87547194 | L21: =+'META 11'!$C$133 -> 0.761658 | M21: =+'META 12'!$C$133 -> 0.96205021 | N21: =+'META 13'!$C$133 -> 1.1426797 | O21: =+B51*8%+C51*8%+D51*8%+E51*7%+F51*8%+G51*7%+H51*8%+I51*8%+J51*8%+K51*7%+L51*8%+M51*8%+N51*7% -> 0.96779736
A22: PUNITAQUI | B22: =+'META 1'!$C$138 -> 0.77822248 | C22: =+'META 2'!$C$138 -> 1.0588843 | D22: =+'META 3'!$C$138 -> 0.85332642 | E22: =+'META 4'!$C$138 -> 0.98372258 | F22: =+'META 5'!$C$138 -> 0.93632959 | G22: =+'META 6'!$C$138 -> 1.0204082 | H22: =+'META 7'!$C$138 -> 1.0904776 | I22: =+'META 8'!$C$138 -> 1.0552715 | J22: =+'META 9'!$C$138 -> 1.1073784 | K22: =+'META 10'!$C$138 -> 1.0978628 | L22: =+'META 11'!$C$138 -> 0.93028175 | M22: =+'META 12'!$C$138 -> 0.97209552 | N22: =+'META 13'!$C$138 -> 1.2681663 | O22: =+B52*8%+C52*8%+D52*8%+E52*7%+F52*8%+G52*7%+H52*8%+I52*8%+J52*8%+K52*7%+L52*8%+M52*8%+N52*7% -> 0.95648104
A23: RIO HURTADO | B23: =+'META 1'!$C$146 -> 1.0170807 | C23: =+'META 2'!$C$146 -> 1.0026738 | D23: =+'META 3'!$C$146 -> 1.0076349 | E23: =+'META 4'!$C$146 -> 0.99409755 | F23: =+'META 5'!$C$146 -> 0.99775846 | G23: =+'META 6'!$C$146 -> 1.0204082 | H23: =+'META 7'!$C$146 -> 0.96409562 | I23: =+'META 8'!$C$146 -> 0.96109802 | J23: =+'META 9'!$C$146 -> 1.0030649 | K23: =+'META 10'!$C$146 -> 1.0860192 | L23: =+'META 11'!$C$146 -> 0.99133883 | M23: =+'META 12'!$C$146 -> 0.88825258 | N23: =+'META 13'!$C$146 -> 1.5846995 | O23: =+B53*8%+C53*8%+D53*8%+E53*7%+F53*8%+G53*7%+H53*8%+I53*8%+J53*8%+K53*7%+L53*8%+M53*8%+N53*7% -> 0.98379031
A31: MINISTERIO DE SALUD
A32: SERVICIO DE SALUD COQUIMBO
A33: SUBDIRECCION DE GESTION ASISTENCIAL
A34: SUBDEPTO DE ESTADÍSTICA Y GESTIÓN DE LA INFORMACIÓN
A35: COMUNA | B35: RESUMEN DE CUMPLIMIENTO DE METAS A JUNIO 2016
B37: CORTE A JUNIO
B38: METAS COMPONENTE ACTIVIDAD GENERAL
B39: META Nº1 | C39: META Nº2 | D39: META Nº3 | E39: META Nº4 | F39: META Nº5 | G39: META Nº6 | H39: META Nº7 | I39: META Nº8 | J39: META Nº9 | K39: META Nº10 | L39: META Nº11 | M39: META Nº12 | N39: META Nº13
B40: EMP hombres 20 a 44 años | C40: EMP mujeres de 45 a 64 años | D40: EMP 65 y mas años | E40: Control embarazada | F40: Alta odontologica menores de 20 años | G40: Gestion de reclamos | H40: Cobertura DM2 en personas de 15 y mas años | I40: Cobertutra HTA en personas de 15 y mas años | J40: Cobertura de Evaluación del desarrollo Psicomotor de niños/as de 12 a 23 meses bajo control | K40: Visita domiciliaria integral | L40: Cobertura de Atención de Asma en Población general y EPOC en personas de 40 años y más | M40: Cobertura de Atención Integral de trastornos mentales en personas de 5 y más años | N40: Cobertura de control de salud integral a adolescentes de 10 a 14 años
A42: LA SERENA | B42: =IF(B12="n/a","n/a",IF(B12="","",IF(B12>1,1,B12))) -> 0.69495658 | C42: =IF(C12="n/a","n/a",IF(C12="","",IF(C12>1,1,C12))) -> 0.79830716 | D42: =IF(D12="n/a","n/a",IF(D12="","",IF(D12>1,1,D12))) -> 0.84797755 | E42: =IF(E12="n/a","n/a",IF(E12="","",IF(E12>1,1,E12))) -> 1 | F42: =IF(F12="n/a","n/a",IF(F12="","",IF(F12>1,1,F12))) -> 0.84589299 | G42: =IF(G12="n/a","n/a",IF(G12="","",IF(G12>1,1,G12))) -> 1 | H42: =IF(H12="n/a","n/a",IF(H12="","",IF(H12>1,1,H12))) -> 0.87936628 | I42: =IF(I12="n/a","n/a",IF(I12="","",IF(I12>1,1,I12))) -> 0.83550369 | ... N42: =IF(N12="n/a","n/a",IF(N12="","",IF(N12>1,1,N12))) -> 1
A43: COQUIMBO | B43: =IF(B13="n/a","n/a",IF(B13="","",IF(B13>1,1,B13))) -> 0.97002941 | C43: =IF(C13="n/a","n/a",IF(C13="","",IF(C13>1,1,C13))) -> 1 | D43: =IF(D13="n/a","n/a",IF(D13="","",IF(D13>1,1,D13))) -> 0.95691813 | E43: =IF(E13="n/a","n/a",IF(E13="","",IF(E13>1,1,E13))) -> 0.95801041 | F43: =IF(F13="n/a","n/a",IF(F13="","",IF(F13>1,1,F13))) -> 0.92251254 | G43: =IF(G13="n/a","n/a",IF(G13="","",IF(G13>1,1,G13))) -> 1 | H43: =IF(H13="n/a","n/a",IF(H13="","",IF(H13>1,1,H13))) -> 1 | I43: =IF(I13="n/a","n/a",IF(I13="","",IF(I13>1,1,I13))) -> 0.98750967 | ... N43: =IF(N13="n/a","n/a",IF(N13="","",IF(N13>1,1,N13))) -> 1
A44: VICUÑA | B44: =IF(B14="n/a","n/a",IF(B14="","",IF(B14>1,1,B14))) -> 1 | C44: =IF(C14="n/a","n/a",IF(C14="","",IF(C14>1,1,C14))) -> 1 | D44: =IF(D14="n/a","n/a",IF(D14="","",IF(D14>1,1,D14))) -> 0.80414291 | E44: =IF(E14="n/a","n/a",IF(E14="","",IF(E14>1,1,E14))) -> 0.9344921 | F44: =IF(F14="n/a","n/a",IF(F14="","",IF(F14>1,1,F14))) -> 1 | G44: =IF(G14="n/a","n/a",IF(G14="","",IF(G14>1,1,G14))) -> 1 | H44: =IF(H14="n/a","n/a",IF(H14="","",IF(H14>1,1,H14))) -> 1 | I44: =IF(I14="n/a","n/a",IF(I14="","",IF(I14>1,1,I14))) -> 1 | ... N44: =IF(N14="n/a","n/a",IF(N14="","",IF(N14>1,1,N14))) -> 1
A45: ILLAPEL | B45: =IF(B15="n/a","n/a",IF(B15="","",IF(B15>1,1,B15))) -> 1 | C45: =IF(C15="n/a","n/a",IF(C15="","",IF(C15>1,1,C15))) -> 0.99805849 | D45: =IF(D15="n/a","n/a",IF(D15="","",IF(D15>1,1,D15))) -> 1 | E45: =IF(E15="n/a","n/a",IF(E15="","",IF(E15>1,1,E15))) -> 1 | F45: =IF(F15="n/a","n/a",IF(F15="","",IF(F15>1,1,F15))) -> 0.92051115 | G45: =IF(G15="n/a","n/a",IF(G15="","",IF(G15>1,1,G15))) -> 1 | H45: =IF(H15="n/a","n/a",IF(H15="","",IF(H15>1,1,H15))) -> 1 | I45: =IF(I15="n/a","n/a",IF(I15="","",IF(I15>1,1,I15))) -> 1 | ... N45: =IF(N15="n/a","n/a",IF(N15="","",IF(N15>1,1,N15))) -> 1
A46: CANELA | B46: =IF(B16="n/a","n/a",IF(B16="","",IF(B16>1,1,B16))) -> 0.92923057 | C46: =IF(C16="n/a","n/a",IF(C16="","",IF(C16>1,1,C16))) -> 0.90273733 | D46: =IF(D16="n/a","n/a",IF(D16="","",IF(D16>1,1,D16))) -> 1 | E46: =IF(E16="n/a","n/a",IF(E16="","",IF(E16>1,1,E16))) -> 0.96277279 | F46: =IF(F16="n/a","n/a",IF(F16="","",IF(F16>1,1,F16))) -> 0.84965928 | G46: =IF(G16="n/a","n/a",IF(G16="","",IF(G16>1,1,G16))) -> 1 | H46: =IF(H16="n/a","n/a",IF(H16="","",IF(H16>1,1,H16))) -> 1 | I46: =IF(I16="n/a","n/a",IF(I16="","",IF(I16>1,1,I16))) -> 0.99074254 | ... N46: =IF(N16="n/a","n/a",IF(N16="","",IF(N16>1,1,N16))) -> 1
A47: LOS VILOS | B47: =IF(B17="n/a","n/a",IF(B17="","",IF(B17>1,1,B17))) -> 1 | C47: =IF(C17="n/a","n/a",IF(C17="","",IF(C17>1,1,C17))) -> 1 | D47: =IF(D17="n/a","n/a",IF(D17="","",IF(D17>1,1,D17))) -> 0.98924731 | E47: =IF(E17="n/a","n/a",IF(E17="","",IF(E17>1,1,E17))) -> 1 | F47: =IF(F17="n/a","n/a",IF(F17="","",IF(F17>1,1,F17))) -> 1 | G47: =IF(G17="n/a","n/a",IF(G17="","",IF(G17>1,1,G17))) -> 1 | H47: =IF(H17="n/a","n/a",IF(H17="","",IF(H17>1,1,H17))) -> 0.99421845 | I47: =IF(I17="n/a","n/a",IF(I17="","",IF(I17>1,1,I17))) -> 1 | ... N47: =IF(N17="n/a","n/a",IF(N17="","",IF(N17>1,1,N17))) -> 1
A48: SALAMANCA | B48: =IF(B18="n/a","n/a",IF(B18="","",IF(B18>1,1,B18))) -> 1 | C48: =IF(C18="n/a","n/a",IF(C18="","",IF(C18>1,1,C18))) -> 1 | D48: =IF(D18="n/a","n/a",IF(D18="","",IF(D18>1,1,D18))) -> 0.99473062 | E48: =IF(E18="n/a","n/a",IF(E18="","",IF(E18>1,1,E18))) -> 1 | F48: =IF(F18="n/a","n/a",IF(F18="","",IF(F18>1,1,F18))) -> 1 | G48: =IF(G18="n/a","n/a",IF(G18="","",IF(G18>1,1,G18))) -> 1 | H48: =IF(H18="n/a","n/a",IF(H18="","",IF(H18>1,1,H18))) -> 1 | I48: =IF(I18="n/a","n/a",IF(I18="","",IF(I18>1,1,I18))) -> 1 | ... N48: =IF(N18="n/a","n/a",IF(N18="","",IF(N18>1,1,N18))) -> 1
A49: OVALLE | B49: =IF(B19="n/a","n/a",IF(B19="","",IF(B19>1,1,B19))) -> 0.99774867 | C49: =IF(C19="n/a","n/a",IF(C19="","",IF(C19>1,1,C19))) -> 1 | D49: =IF(D19="n/a","n/a",IF(D19="","",IF(D19>1,1,D19))) -> 0.95279084 | E49: =IF(E19="n/a","n/a",IF(E19="","",IF(E19>1,1,E19))) -> 1 | F49: =IF(F19="n/a","n/a",IF(F19="","",IF(F19>1,1,F19))) -> 1 | G49: =IF(G19="n/a","n/a",IF(G19="","",IF(G19>1,1,G19))) -> 1 | H49: =IF(H19="n/a","n/a",IF(H19="","",IF(H19>1,1,H19))) -> 1 | I49: =IF(I19="n/a","n/a",IF(I19="","",IF(I19>1,1,I19))) -> 1 | ... N49: =IF(N19="n/a","n/a",IF(N19="","",IF(N19>1,1,N19))) -> 1
A50: COMBARBALÁ | B50: =IF(B20="n/a","n/a",IF(B20="","",IF(B20>1,1,B20))) -> 0.79949239 | C50: =IF(C20="n/a","n/a",IF(C20="","",IF(C20>1,1,C20))) -> 0.88385099 | D50: =IF(D20="n/a","n/a",IF(D20="","",IF(D20>1,1,D20))) -> 1 | E50: =IF(E20="n/a","n/a",IF(E20="","",IF(E20>1,1,E20))) -> 1 | F50: =IF(F20="n/a","n/a",IF(F20="","",IF(F20>1,1,F20))) -> 1 | G50: =IF(G20="n/a","n/a",IF(G20="","",IF(G20>1,1,G20))) -> 1 | H50: =IF(H20="n/a","n/a",IF(H20="","",IF(H20>1,1,H20))) -> 1 | I50: =IF(I20="n/a","n/a",IF(I20="","",IF(I20>1,1,I20))) -> 0.99921028 | ... N50: =IF(N20="n/a","n/a",IF(N20="","",IF(N20>1,1,N20))) -> 1
A51: MONTE PATRIA | B51: =IF(B21="n/a","n/a",IF(B21="","",IF(B21>1,1,B21))) -> 1 | C51: =IF(C21="n/a","n/a",IF(C21="","",IF(C21>1,1,C21))) -> 1 | D51: =IF(D21="n/a","n/a",IF(D21="","",IF(D21>1,1,D21))) -> 0.99206869 | E51: =IF(E21="n/a","n/a",IF(E21="","",IF(E21>1,1,E21))) -> 1 | F51: =IF(F21="n/a","n/a",IF(F21="","",IF(F21>1,1,F21))) -> 1 | G51: =IF(G21="n/a","n/a",IF(G21="","",IF(G21>1,1,G21))) -> 1 | H51: =IF(H21="n/a","n/a",IF(H21="","",IF(H21>1,1,H21))) -> 1 | I51: =IF(I21="n/a","n/a",IF(I21="","",IF(I21>1,1,I21))) -> 0.99065213 | ... N51: =IF(N21="n/a","n/a",IF(N21="","",IF(N21>1,1,N21))) -> 1
...

Sheet META 1
A1: COMUNA | B1: ESTABLECIMIENTO | C1: CUMPLIMIENTO | D1: Indicador | E1: META 1: COBERTURA EXAMEN DE MEDICINA PREVENTIVA (EMP), EN HOMBRES DE 20 A 44 AÑOS
E2: NUMERADOR | R2: DENOMINADOR
E10: Nº Examen de Medicina Preventiva (EMP) realizado en población masculina de 20 a 44 años | R10: Población masculina de 20 a 44 años inscrita, menos población bajo control en Programa Salud Cardiovascular | S10: Población masculina de 20 a 44 años bajo control en programa de salud cardiovascular | Y10: Población masculina de 20 a 44 años inscrita | Z10: Ingresos de población masculina al PSCV de 20 y 44 años | AM10: Egresos de población masculina al PSCV de 20 y 44 años
D11: Resultado | E11: ENERO | F11: FEBRERO | G11: MARZO | H11: ABRIL | I11: MAYO | J11: JUNIO | K11: JULIO | L11: AGOSTO | M11: SEPBRE | N11: OCTBRE | O11: NOVBRE | P11: DICBRE | Q11: TOTAL | S11: A DIC 2015 | T11: A MARZO | U11: A JUNIO | V11: A AGOSTO | W11: A OCTBRE | X11: A DICBRE | Y11: AÑO 2016 | Z11: ENERO | AA11: FEBRERO | AB11: MARZO | AC11: ABRIL | AD11: MAYO | AE11: JUNIO | AF11: JULIO | AG11: AGOSTO | AH11: SEPBRE | AI11: OCTBRE | AJ11: NOVBRE | AK11: DICBRE | AL11: TOTAL | AM11: ENERO | AN11: FEBRERO | AO11: MARZO | AP11: ABRIL | AQ11: MAYO | AR11: JUNIO | AS11: JULIO | AT11: AGOSTO | AU11: SEPBRE | AV11: OCTBRE | AW11: NOVBRE | AX11: DICBRE | AY11: TOTAL
A12: 04101-LA SERENA | B12: 105300-CES. CARDENAL CARO | E12: =VLOOKUP($B12,[1]NUM1!$G$2:$S$149,2,FALSE) -> 2 | F12: =VLOOKUP($B12,[1]NUM1!$G$2:$S$149,3,FALSE) -> 9 | G12: =VLOOKUP($B12,[1]NUM1!$G$2:$S$149,4,FALSE) -> 18 | H12: =VLOOKUP($B12,[1]NUM1!$G$2:$S$149,5,FALSE) -> 28 | I12: =VLOOKUP($B12,[1]NUM1!$G$2:$S$149,6,FALSE) -> 32 | J12: =VLOOKUP($B12,[1]NUM1!$G$2:$S$149,7,FALSE) -> 3 | K12: =VLOOKUP($B12,[1]NUM1!$G$2:$S$149,8,FALSE) -> 5 | L12: =VLOOKUP($B12,[1]NUM1!$G$2:$S$149,9,FALSE) -> 7 | M12: =VLOOKUP($B12,[1]NUM1!$G$2:$S$149,10,FALSE) -> 204 | N12: =VLOOKUP($B12,[1]NUM1!$G$2:$S$149,11,FALSE) -> 25 | O12: =VLOOKUP($B12,[1]NUM1!$G$2:$S$149,12,FALSE) -> 8 | P12: =VLOOKUP($B12,[1]NUM1!$G$2:$S$149,13,FALSE) -> 2 | Q12: =SUM(E12:P12) -> 343 | S12: 58 | T12: =+S12+(Z12+AA12+AB12)-(AM12+AN12+AO12) -> 57 | U12: =VLOOKUP($B12,[2]DEN1!$G$2:$I$157,2,FALSE) -> 38 | V12: =+U12+(AF12+AG12)-(AS12+AT12) -> 32 | W12: =+U12+(AF12+AG12+AH12+AI12)-(AS12+AT12+AU12+AV12) -> 32 | X12: =VLOOKUP($B12,[1]DEN1!$G$2:$I$159,2,FALSE) -> 63 | AL12: =SUM(Z12:AK12) -> 0 | AM12: =VLOOKUP($B12,'[3]ACT DEN1'!$AB$2:$AN$119,2,FALSE) -> 0 | AN12: =VLOOKUP($B12,'[3]ACT DEN1'!$AB$2:$AN$119,3,FALSE) -> 0 | AO12: =VLOOKUP($B12,'[3]ACT DEN1'!$AB$2:$AN$119,4,FALSE) -> 1 | AP12: =VLOOKUP($B12,'[3]ACT DEN1'!$AB$2:$AN$119,5,FALSE) -> 5 | AQ12: =VLOOKUP($B12,'[3]ACT DEN1'!$AB$2:$AN$119,6,FALSE) -> 1 | AR12: =VLOOKUP($B12,'[3]ACT DEN1'!$AB$2:$AN$119,7,FALSE) -> 0 | AS12: =VLOOKUP($B12,'[3]ACT DEN1'!$AB$2:$AN$119,8,FALSE) -> 2 | AT12: =VLOOKUP($B12,'[3]ACT DEN1'!$AB$2:$AN$119,9,FALSE) -> 4 | AU12: =VLOOKUP($B12,'[3]ACT DEN1'!$AB$2:$AN$119,10,FALSE) -> 0 | AV12: =VLOOKUP($B12,'[3]ACT DEN1'!$AB$2:$AN$119,11,FALSE) -> 0 | AW12: =VLOOKUP($B12,'[3]ACT DEN1'!$AB$2:$AN$119,12,FALSE) -> 0 | AY12: =SUM(AM12:AX12) -> 13
A13: 04101-LA SERENA | B13: 105301-CES. LAS COMPAÑIAS | E13: =VLOOKUP($B13,[1]NUM1!$G$2:$T$157,2,FALSE) -> 7 | F13: =VLOOKUP($B13,[1]NUM1!$G$2:$T$157,3,FALSE) -> 17 | G13: =VLOOKUP($B13,[1]NUM1!$G$2:$T$157,4,FALSE) -> 80 | H13: =VLOOKUP($B13,[1]NUM1!$G$2:$T$157,5,FALSE) -> 137 | I13: =VLOOKUP($B13,[1]NUM1!$G$2:$T$157,6,FALSE) -> 79 | J13: =VLOOKUP($B13,[1]NUM1!$G$2:$T$157,7,FALSE) -> 16 | K13: =VLOOKUP($B13,[1]NUM1!$G$2:$T$157,8,FALSE) -> 46 | L13: =VLOOKUP($B13,[1]NUM1!$G$2:$T$157,9,FALSE) -> 15 | M13: =VLOOKUP($B13,[1]NUM1!$G$2:$T$157,10,FALSE) -> 26 | N13: =VLOOKUP($B13,[1]NUM1!$G$2:$T$157,11,FALSE) -> 49 | O13: =VLOOKUP($B13,[1]NUM1!$G$2:$T$157,12,FALSE) -> 5 | P13: =VLOOKUP($B13,[1]NUM1!$G$2:$T$157,13,FALSE) -> 9 | Q13: =SUM(E13:P13) -> 486 | S13: 38 | T13: =+S13+(Z13+AA13+AB13)-(AM13+AN13+AO13) -> 35 | U13: =VLOOKUP($B13,[2]DEN1!$G$2:$I$157,2,FALSE) -> 40 | V13: =+U13+(AF13+AG13)-(AS13+AT13) -> 35 | W13: =+U13+(AF13+AG13+AH13+AI13)-(AS13+AT13+AU13+AV13) -> 32 | X13: =VLOOKUP($B13,[1]DEN1!$G$2:$I$159,2,FALSE) -> 47 | AL13: =SUM(Z13:AK13) -> 0 | AM13: =VLOOKUP($B13,'[3]ACT DEN1'!$AB$2:$AN$119,2,FALSE) -> 0 | AN13: =VLOOKUP($B13,'[3]ACT DEN1'!$AB$2:$AN$119,3,FALSE) -> 3 | AO13: =VLOOKUP($B13,'[3]ACT DEN1'!$AB$2:$AN$119,4,FALSE) -> 0 | AP13: =VLOOKUP($B13,'[3]ACT DEN1'!$AB$2:$AN$119,5,FALSE) -> 0 | AQ13: =VLOOKUP($B13,'[3]ACT DEN1'!$AB$2:$AN$119,6,FALSE) -> 2 | AR13: =VLOOKUP($B13,'[3]ACT DEN1'!$AB$2:$AN$119,7,FALSE) -> 4 | AS13: =VLOOKUP($B13,'[3]ACT DEN1'!$AB$2:$AN$119,8,FALSE) -> 3 | AT13: =VLOOKUP($B13,'[3]ACT DEN1'!$AB$2:$AN$119,9,FALSE) -> 2 | AU13: =VLOOKUP($B13,'[3]ACT DEN1'!$AB$2:$AN$119,10,FALSE) -> 3 | AV13: =VLOOKUP($B13,'[3]ACT DEN1'!$AB$2:$AN$119,11,FALSE) -> 0 | AW13: =VLOOKUP($B13,'[3]ACT DEN1'!$AB$2:$AN$119,12,FALSE) -> 3 | AY13: =SUM(AM13:AX13) -> 20
A14: 04101-LA SERENA | B14: 105302-CES. PEDRO AGUIRRE C. | E14: =VLOOKUP($B14,[1]NUM1!$G$2:$T$157,2,FALSE) -> 11 | F14: =VLOOKUP($B14,[1]NUM1!$G$2:$T$157,3,FALSE) -> 22 | G14: =VLOOKUP($B14,[1]NUM1!$G$2:$T$157,4,FALSE) -> 71 | H14: =VLOOKUP($B14,[1]NUM1!$G$2:$T$157,5,FALSE) -> 46 | I14: =VLOOKUP($B14,[1]NUM1!$G$2:$T$157,6,FALSE) -> 40 | J14: =VLOOKUP($B14,[1]NUM1!$G$2:$T$157,7,FALSE) -> 23 | K14: =VLOOKUP($B14,[1]NUM1!$G$2:$T$157,8,FALSE) -> 56 | L14: =VLOOKUP($B14,[1]NUM1!$G$2:$T$157,9,FALSE) -> 43 | M14: =VLOOKUP($B14,[1]NUM1!$G$2:$T$157,10,FALSE) -> 71 | N14: =VLOOKUP($B14,[1]NUM1!$G$2:$T$157,11,FALSE) -> 43 | O14: =VLOOKUP($B14,[1]NUM1!$G$2:$T$157,12,FALSE) -> 13 | P14: =VLOOKUP($B14,[1]NUM1!$G$2:$T$157,13,FALSE) -> 23 | Q14: =SUM(E14:P14) -> 462 | S14: 85 | T14: =+S14+(Z14+AA14+AB14)-(AM14+AN14+AO14) -> 85 | U14: =VLOOKUP($B14,[2]DEN1!$G$2:$I$157,2,FALSE) -> 73 | V14: =+U14+(AF14+AG14)-(AS14+AT14) -> 71 | W14: =+U14+(AF14+AG14+AH14+AI14)-(AS14+AT14+AU14+AV14) -> 68 | X14: =VLOOKUP($B14,[1]DEN1!$G$2:$I$159,2,FALSE) -> 68 | AL14: =SUM(Z14:AK14) -> 0 | AM14: =VLOOKUP($B14,'[3]ACT DEN1'!$AB$2:$AN$119,2,FALSE) -> 0 | AN14: =VLOOKUP($B14,'[3]ACT DEN1'!$AB$2:$AN$119,3,FALSE) -> 0 | AO14: =VLOOKUP($B14,'[3]ACT DEN1'!$AB$2:$AN$119,4,FALSE) -> 0 | AP14: =VLOOKUP($B14,'[3]ACT DEN1'!$AB$2:$AN$119,5,FALSE) -> 1 | AQ14: =VLOOKUP($B14,'[3]ACT DEN1'!$AB$2:$AN$119,6,FALSE) -> 0 | AR14: =VLOOKUP($B14,'[3]ACT DEN1'!$AB$2:$AN$119,7,FALSE) -> 3 | AS14: =VLOOKUP($B14,'[3]ACT DEN1'!$AB$2:$AN$119,8,FALSE) -> 0 | AT14: =VLOOKUP($B14,'[3]ACT DEN1'!$AB$2:$AN$119,9,FALSE) -> 2 | AU14: =VLOOKUP($B14,'[3]ACT DEN1'!$AB$2:$AN$119,10,FALSE) -> 2 | AV14: =VLOOKUP($B14,'[3]ACT DEN1'!$AB$2:$AN$119,11,FALSE) -> 1 | AW14: =VLOOKUP($B14,'[3]ACT DEN1'!$AB$2:$AN$119,12,FALSE) -> 0 | AY14: =SUM(AM14:AX14) -> 9
A15: 04101-LA SERENA | B15: 105313-CES. SCHAFFHAUSER | E15: =VLOOKUP($B15,[1]NUM1!$G$2:$T$157,2,FALSE) -> 5 | F15: =VLOOKUP($B15,[1]NUM1!$G$2:$T$157,3,FALSE) -> 83 | G15: =VLOOKUP($B15,[1]NUM1!$G$2:$T$157,4,FALSE) -> 277 | H15: =VLOOKUP($B15,[1]NUM1!$G$2:$T$157,5,FALSE) -> 414 | I15: =VLOOKUP($B15,[1]NUM1!$G$2:$T$157,6,FALSE) -> 198 | J15: =VLOOKUP($B15,[1]NUM1!$G$2:$T$157,7,FALSE) -> 105 | K15: =VLOOKUP($B15,[1]NUM1!$G$2:$T$157,8,FALSE) -> 123 | L15: =VLOOKUP($B15,[1]NUM1!$G$2:$T$157,9,FALSE) -> 155 | M15: =VLOOKUP($B15,[1]NUM1!$G$2:$T$157,10,FALSE) -> 115 | N15: =VLOOKUP($B15,[1]NUM1!$G$2:$T$157,11,FALSE) -> 123 | O15: =VLOOKUP($B15,[1]NUM1!$G$2:$T$157,12,FALSE) -> 2 | P15: =VLOOKUP($B15,[1]NUM1!$G$2:$T$157,13,FALSE) -> 155 | Q15: =SUM(E15:P15) -> 1755 | S15: 54 | T15: =+S15+(Z15+AA15+AB15)-(AM15+AN15+AO15) -> 54 | U15: =VLOOKUP($B15,[2]DEN1!$G$2:$I$157,2,FALSE) -> 40 | V15: =+U15+(AF15+AG15)-(AS15+AT15) -> 40 | W15: =+U15+(AF15+AG15+AH15+AI15)-(AS15+AT15+AU15+AV15) -> 40 | X15: =VLOOKUP($B15,[1]DEN1!$G$2:$I$159,2,FALSE) -> 66 | AL15: =SUM(Z15:AK15) -> 0 | AY15: =SUM(AM15:AX15) -> 0
A16: 04101-LA SERENA | B16: 105319-CES. CARDENAL R.S.H. | E16: =VLOOKUP($B16,[1]NUM1!$G$2:$T$157,2,FALSE) -> 19 | F16: =VLOOKUP($B16,[1]NUM1!$G$2:$T$157,3,FALSE) -> 3 | G16: =VLOOKUP($B16,[1]NUM1!$G$2:$T$157,4,FALSE) -> 69 | H16: =VLOOKUP($B16,[1]NUM1!$G$2:$T$157,5,FALSE) -> 126 | I16: =VLOOKUP($B16,[1]NUM1!$G$2:$T$157,6,FALSE) -> 21 | J16: =VLOOKUP($B16,[1]NUM1!$G$2:$T$157,7,FALSE) -> 18 | K16: =VLOOKUP($B16,[1]NUM1!$G$2:$T$157,8,FALSE) -> 8 | L16: =VLOOKUP($B16,[1]NUM1!$G$2:$T$157,9,FALSE) -> 11 | M16: =VLOOKUP($B16,[1]NUM1!$G$2:$T$157,10,FALSE) -> 25 | N16: =VLOOKUP($B16,[1]NUM1!$G$2:$T$157,11,FALSE) -> 9 | O16: =VLOOKUP($B16,[1]NUM1!$G$2:$T$157,12,FALSE) -> 2 | P16: =VLOOKUP($B16,[1]NUM1!$G$2:$T$157,13,FALSE) -> 14 | Q16: =SUM(E16:P16) -> 325 | S16: 89 | T16: =+S16+(Z16+AA16+AB16)-(AM16+AN16+AO16) -> 89 | U16: =VLOOKUP($B16,[2]DEN1!$G$2:$I$157,2,FALSE) -> 76 | V16: =+U16+(AF16+AG16)-(AS16+AT16) -> 76 | W16: =+U16+(AF16+AG16+AH16+AI16)-(AS16+AT16+AU16+AV16) -> 76 | X16: =VLOOKUP($B16,[1]DEN1!$G$2:$I$159,2,FALSE) -> 73 | AL16: =SUM(Z16:AK16) -> 0 | AM16: =VLOOKUP($B16,'[3]ACT DEN1'!$AB$2:$AN$119,2,FALSE) -> 0 | AN16: =VLOOKUP($B16,'[3]ACT DEN1'!$AB$2:$AN$119,3,FALSE) -> 0 | AO16: =VLOOKUP($B16,'[3]ACT DEN1'!$AB$2:$AN$119,4,FALSE) -> 0 | AP16: =VLOOKUP($B16,'[3]ACT DEN1'!$AB$2:$AN$119,5,FALSE) -> 0 | AQ16: =VLOOKUP($B16,'[3]ACT DEN1'!$AB$2:$AN$119,6,FALSE) -> 0 | AR16: =VLOOKUP($B16,'[3]ACT DEN1'!$AB$2:$AN$119,7,FALSE) -> 17 | AS16: =VLOOKUP($B16,'[3]ACT DEN1'!$AB$2:$AN$119,8,FALSE) -> 0 | AT16: =VLOOKUP($B16,'[3]ACT DEN1'!$AB$2:$AN$119,9,FALSE) -> 0 | AU16: =VLOOKUP($B16,'[3]ACT DEN1'!$AB$2:$AN$119,10,FALSE) -> 0 | AV16: =VLOOKUP($B16,'[3]ACT DEN1'!$AB$2:$AN$119,11,FALSE) -> 0 | AW16: =VLOOKUP($B16,'[3]ACT DEN1'!$AB$2:$AN$119,12,FALSE) -> 0 | AY16: =SUM(AM16:AX16) -> 17
A17: 04101-LA SERENA | B17: 105325-CESFAM JUAN PABLO II | E17: =VLOOKUP($B17,[1]NUM1!$G$2:$T$157,2,FALSE) -> 7 | F17: =VLOOKUP($B17,[1]NUM1!$G$2:$T$157,3,FALSE) -> 4 | G17: =VLOOKUP($B17,[1]NUM1!$G$2:$T$157,4,FALSE) -> 37 | H17: =VLOOKUP($B17,[1]NUM1!$G$2:$T$157,5,FALSE) -> 57 | I17: =VLOOKUP($B17,[1]NUM1!$G$2:$T$157,6,FALSE) -> 156 | J17: =VLOOKUP($B17,[1]NUM1!$G$2:$T$157,7,FALSE) -> 58 | K17: =VLOOKUP($B17,[1]NUM1!$G$2:$T$157,8,FALSE) -> 111 | L17: =VLOOKUP($B17,[1]NUM1!$G$2:$T$157,9,FALSE) -> 67 | M17: =VLOOKUP($B17,[1]NUM1!$G$2:$T$157,10,FALSE) -> 8 | N17: =VLOOKUP($B17,[1]NUM1!$G$2:$T$157,11,FALSE) -> 57 | O17: =VLOOKUP($B17,[1]NUM1!$G$2:$T$157,12,FALSE) -> 1 | P17: =VLOOKUP($B17,[1]NUM1!$G$2:$T$157,13,FALSE) -> 22 | Q17: =SUM(E17:P17) -> 585 | S17: 60 | T17: =+S17+(Z17+AA17+AB17)-(AM17+AN17+AO17) -> 58 | U17: =VLOOKUP($B17,[2]DEN1!$G$2:$I$157,2,FALSE) -> 54 | V17: =+U17+(AF17+AG17)-(AS17+AT17) -> 53 | W17: =+U17+(AF17+AG17+AH17+AI17)-(AS17+AT17+AU17+AV17) -> 53 | X17: =VLOOKUP($B17,[1]DEN1!$G$2:$I$159,2,FALSE) -> 59 | AL17: =SUM(Z17:AK17) -> 0 | AM17: =VLOOKUP($B17,'[3]ACT DEN1'!$AB$2:$AN$119,2,FALSE) -> 0 | AN17: =VLOOKUP($B17,'[3]ACT DEN1'!$AB$2:$AN$119,3,FALSE) -> 2 | AO17: =VLOOKUP($B17,'[3]ACT DEN1'!$AB$2:$AN$119,4,FALSE) -> 0 | AP17: =VLOOKUP($B17,'[3]ACT DEN1'!$AB$2:$AN$119,5,FALSE) -> 0 | AQ17: =VLOOKUP($B17,'[3]ACT DEN1'!$AB$2:$AN$119,6,FALSE) -> 0 | AR17: =VLOOKUP($B17,'[3]ACT DEN1'!$AB$2:$AN$119,7,FALSE) -> 0 | AS17: =VLOOKUP($B17,'[3]ACT DEN1'!$AB$2:$AN$119,8,FALSE) -> 0 | AT17: =VLOOKUP($B17,'[3]ACT DEN1'!$AB$2:$AN$119,9,FALSE) -> 1 | AU17: =VLOOKUP($B17,'[3]ACT DEN1'!$AB$2:$AN$119,10,FALSE) -> 0 | AV17: =VLOOKUP($B17,'[3]ACT DEN1'!$AB$2:$AN$119,11,FALSE) -> 0 | AW17: =VLOOKUP($B17,'[3]ACT DEN1'!$AB$2:$AN$119,12,FALSE) -> 0 | AY17: =SUM(AM17:AX17) -> 3
A18: 04101-LA SERENA | B18: 105400-P.S.R. ALGARROBITO | E18: =VLOOKUP($B18,[1]NUM1!$G$2:$T$157,2,FALSE) -> 0 | F18: =VLOOKUP($B18,[1]NUM1!$G$2:$T$157,3,FALSE) -> 0 | G18: =VLOOKUP($B18,[1]NUM1!$G$2:$T$157,4,FALSE) -> 3 | H18: =VLOOKUP($B18,[1]NUM1!$G$2:$T$157,5,FALSE) -> 44 | I18: =VLOOKUP($B18,[1]NUM1!$G$2:$T$157,6,FALSE) -> 5 | J18: =VLOOKUP($B18,[1]NUM1!$G$2:$T$157,7,FALSE) -> 3 | K18: =VLOOKUP($B18,[1]NUM1!$G$2:$T$157,8,FALSE) -> 7 | L18: =VLOOKUP($B18,[1]NUM1!$G$2:$T$157,9,FALSE) -> 16 | M18: =VLOOKUP($B18,[1]NUM1!$G$2:$T$157,10,FALSE) -> 12 | N18: =VLOOKUP($B18,[1]NUM1!$G$2:$T$157,11,FALSE) -> 11 | O18: =VLOOKUP($B18,[1]NUM1!$G$2:$T$157,12,FALSE) -> 0 | P18: =VLOOKUP($B18,[1]NUM1!$G$2:$T$157,13,FALSE) -> 56 | Q18: =SUM(E18:P18) -> 157 | S18: 20 | T18: =+S18+(Z18+AA18+AB18)-(AM18+AN18+AO18) -> 20 | U18: =VLOOKUP($B18,[2]DEN1!$G$2:$I$157,2,FALSE) -> 19 | V18: =+U18+(AF18+AG18)-(AS18+AT18) -> 19 | W18: =+U18+(AF18+AG18+AH18+AI18)-(AS18+AT18+AU18+AV18) -> 19 | X18: =VLOOKUP($B18,[1]DEN1!$G$2:$I$159,2,FALSE) -> 17 | AL18: =SUM(Z18:AK18) -> 0 | AY18: =SUM(AM18:AX18) -> 0
A19: 04101-LA SERENA | B19: 105401-P.S.R. LAS ROJAS | E19: =VLOOKUP($B19,[1]NUM1!$G$2:$T$157,2,FALSE) -> 2 | F19: =VLOOKUP($B19,[1]NUM1!$G$2:$T$157,3,FALSE) -> 0 | G19: =VLOOKUP($B19,[1]NUM1!$G$2:$T$157,4,FALSE) -> 0 | H19: =VLOOKUP($B19,[1]NUM1!$G$2:$T$157,5,FALSE) -> 0 | I19: =VLOOKUP($B19,[1]NUM1!$G$2:$T$157,6,FALSE) -> 4 | J19: =VLOOKUP($B19,[1]NUM1!$G$2:$T$157,7,FALSE) -> 0 | K19: =VLOOKUP($B19,[1]NUM1!$G$2:$T$157,8,FALSE) -> 0 | L19: =VLOOKUP($B19,[1]NUM1!$G$2:$T$157,9,FALSE) -> 4 | M19: =VLOOKUP($B19,[1]NUM1!$G$2:$T$157,10,FALSE) -> 11 | N19: =VLOOKUP($B19,[1]NUM1!$G$2:$T$157,11,FALSE) -> 6 | O19: =VLOOKUP($B19,[1]NUM1!$G$2:$T$157,12,FALSE) -> 0 | P19: =VLOOKUP($B19,[1]NUM1!$G$2:$T$157,13,FALSE) -> 2 | Q19: =SUM(E19:P19) -> 29 | S19: 4 | T19: =+S19+(Z19+AA19+AB19)-(AM19+AN19+AO19) -> 4 | U19: =VLOOKUP($B19,[2]DEN1!$G$2:$I$157,2,FALSE) -> 5 | V19: =+U19+(AF19+AG19)-(AS19+AT19) -> 5 | W19: =+U19+(AF19+AG19+AH19+AI19)-(AS19+AT19+AU19+AV19) -> 5 | X19: =VLOOKUP($B19,[1]DEN1!$G$2:$I$159,2,FALSE) -> 5 | AL19: =SUM(Z19:AK19) -> 0 | AY19: =SUM(AM19:AX19) -> 0
A20: 04101-LA SERENA | B20: 105402-P.S.R. EL ROMERO | E20: =VLOOKUP($B20,[1]NUM1!$G$2:$T$157,2,FALSE) -> 0 | F20: =VLOOKUP($B20,[1]NUM1!$G$2:$T$157,3,FALSE) -> 2 | G20: =VLOOKUP($B20,[1]NUM1!$G$2:$T$157,4,FALSE) -> 4 | H20: =VLOOKUP($B20,[1]NUM1!$G$2:$T$157,5,FALSE) -> 2 | I20: =VLOOKUP($B20,[1]NUM1!$G$2:$T$157,6,FALSE) -> 8 | J20: =VLOOKUP($B20,[1]NUM1!$G$2:$T$157,7,FALSE) -> 13 | K20: =VLOOKUP($B20,[1]NUM1!$G$2:$T$157,8,FALSE) -> 11 | L20: =VLOOKUP($B20,[1]NUM1!$G$2:$T$157,9,FALSE) -> 1 | M20: =VLOOKUP($B20,[1]NUM1!$G$2:$T$157,10,FALSE) -> 2 | N20: =VLOOKUP($B20,[1]NUM1!$G$2:$T$157,11,FALSE) -> 4 | O20: =VLOOKUP($B20,[1]NUM1!$G$2:$T$157,12,FALSE) -> 0 | P20: =VLOOKUP($B20,[1]NUM1!$G$2:$T$157,13,FALSE) -> 3 | Q20: =SUM(E20:P20) -> 50 | S20: 6 | T20: =+S20+(Z20+AA20+AB20)-(AM20+AN20+AO20) -> 6 | U20: =VLOOKUP($B20,[2]DEN1!$G$2:$I$157,2,FALSE) -> 7 | V20: =+U20+(AF20+AG20)-(AS20+AT20) -> 7 | W20: =+U20+(AF20+AG20+AH20+AI20)-(AS20+AT20+AU20+AV20) -> 7 | X20: =VLOOKUP($B20,[1]DEN1!$G$2:$I$159,2,FALSE) -> 7 | AL20: =SUM(Z20:AK20) -> 0 | AY20: =SUM(AM20:AX20) -> 0
A21: 04101-LA SERENA | B21: 105499-P.S.R. LAMBERT | E21: =VLOOKUP($B21,[1]NUM1!$G$2:$T$157,2,FALSE) -> 0 | F21: =VLOOKUP($B21,[1]NUM1!$G$2:$T$157,3,FALSE) -> 0 | G21: =VLOOKUP($B21,[1]NUM1!$G$2:$T$157,4,FALSE) -> 1 | H21: =VLOOKUP($B21,[1]NUM1!$G$2:$T$157,5,FALSE) -> 9 | I21: =VLOOKUP($B21,[1]NUM1!$G$2:$T$157,6,FALSE) -> 1 | J21: =VLOOKUP($B21,[1]NUM1!$G$2:$T$157,7,FALSE) -> 4 | K21: =VLOOKUP($B21,[1]NUM1!$G$2:$T$157,8,FALSE) -> 0 | L21: =VLOOKUP($B21,[1]NUM1!$G$2:$T$157,9,FALSE) -> 4 | M21: =VLOOKUP($B21,[1]NUM1!$G$2:$T$157,10,FALSE) -> 3 | N21: =VLOOKUP($B21,[1]NUM1!$G$2:$T$157,11,FALSE) -> 6 | O21: =VLOOKUP($B21,[1]NUM1!$G$2:$T$157,12,FALSE) -> 0 | P21: =VLOOKUP($B21,[1]NUM1!$G$2:$T$157,13,FALSE) -> 0 | Q21: =SUM(E21:P21) -> 28 | S21: 6 | T21: =+S21+(Z21+AA21+AB21)-(AM21+AN21+AO21) -> 6 | U21: =VLOOKUP($B21,[2]DEN1!$G$2:$I$157,2,FALSE) -> 4 | V21: =+U21+(AF21+AG21)-(AS21+AT21) -> 4 | W21: =+U21+(AF21+AG21+AH21+AI21)-(AS21+AT21+AU21+AV21) -> 4 | X21: =VLOOKUP($B21,[1]DEN1!$G$2:$I$159,2,FALSE) -> 5 | AL21: =SUM(Z21:AK21) -> 0 | AY21: =SUM(AM21:AX21) -> 0
A22: 04101-LA SERENA | B22: 105700-CECOF VILLA EL INDIO | E22: =VLOOKUP($B22,[1]NUM1!$G$2:$T$157,2,FALSE) -> 3 | F22: =VLOOKUP($B22,[1]NUM1!$G$2:$T$157,3,FALSE) -> 56 | G22: =VLOOKUP($B22,[1]NUM1!$G$2:$T$157,4,FALSE) -> 17 | H22: =VLOOKUP($B22,[1]NUM1!$G$2:$T$157,5,FALSE) -> 7 | I22: =VLOOKUP($B22,[1]NUM1!$G$2:$T$157,6,FALSE) -> 6 | J22: =VLOOKUP($B22,[1]NUM1!$G$2:$T$157,7,FALSE) -> 2 | K22: =VLOOKUP($B22,[1]NUM1!$G$2:$T$157,8,FALSE) -> 2 | L22: =VLOOKUP($B22,[1]NUM1!$G$2:$T$157,9,FALSE) -> 1 | M22: =VLOOKUP($B22,[1]NUM1!$G$2:$T$157,10,FALSE) -> 9 | N22: =VLOOKUP($B22,[1]NUM1!$G$2:$T$157,11,FALSE) -> 6 | O22: =VLOOKUP($B22,[1]NUM1!$G$2:$T$157,12,FALSE) -> 6 | P22: =VLOOKUP($B22,[1]NUM1!$G$2:$T$157,13,FALSE) -> 3 | Q22: =SUM(E22:P22) -> 118 | S22: 10 | T22: =+S22+(Z22+AA22+AB22)-(AM22+AN22+AO22) -> 10 | U22: =VLOOKUP($B22,[2]DEN1!$G$2:$I$157,2,FALSE) -> 12 | V22: =+U22+(AF22+AG22)-(AS22+AT22) -> 12 | W22: =+U22+(AF22+AG22+AH22+AI22)-(AS22+AT22+AU22+AV22) -> 12 | X22: =VLOOKUP($B22,[1]DEN1!$G$2:$I$159,2,FALSE) -> 13 | AL22: =SUM(Z22:AK22) -> 0 | AM22: =VLOOKUP($B22,'[3]ACT DEN1'!$AB$2:$AN$119,2,FALSE) -> 0 | AN22: =VLOOKUP($B22,'[3]ACT DEN1'!$AB$2:$AN$119,3,FALSE) -> 0 | AO22: =VLOOKUP($B22,'[3]ACT DEN1'!$AB$2:$AN$119,4,FALSE) -> 0 | AP22: =VLOOKUP($B22,'[3]ACT DEN1'!$AB$2:$AN$119,5,FALSE) -> 0 | AQ22: =VLOOKUP($B22,'[3]ACT DEN1'!$AB$2:$AN$119,6,FALSE) -> 0 | AR22: =VLOOKUP($B22,'[3]ACT DEN1'!$AB$2:$AN$119,7,FALSE) -> 0 | AS22: =VLOOKUP($B22,'[3]ACT DEN1'!$AB$2:$AN$119,8,FALSE) -> 0 | AT22: =VLOOKUP($B22,'[3]ACT DEN1'!$AB$2:$AN$119,9,FALSE) -> 0 | AU22: =VLOOKUP($B22,'[3]ACT DEN1'!$AB$2:$AN$119,10,FALSE) -> 0 | AV22: =VLOOKUP($B22,'[3]ACT DEN1'!$AB$2:$AN$119,11,FALSE) -> 0 | AW22: =VLOOKUP($B22,'[3]ACT DEN1'!$AB$2:$AN$119,12,FALSE) -> 0 | AY22: =SUM(AM22:AX22) -> 0
A23: 04101-LA SERENA | B23: 105701-CECOF VILLA ALEMANIA | E23: =VLOOKUP($B23,[1]NUM1!$G$2:$T$157,2,FALSE) -> 2 | F23: =VLOOKUP($B23,[1]NUM1!$G$2:$T$157,3,FALSE) -> 2 | G23: =VLOOKUP($B23,[1]NUM1!$G$2:$T$157,4,FALSE) -> 2 | H23: =VLOOKUP($B23,[1]NUM1!$G$2:$T$157,5,FALSE) -> 8 | I23: =VLOOKUP($B23,[1]NUM1!$G$2:$T$157,6,FALSE) -> 1 | J23: =VLOOKUP($B23,[1]NUM1!$G$2:$T$157,7,FALSE) -> 4 | K23: =VLOOKUP($B23,[1]NUM1!$G$2:$T$157,8,FALSE) -> 0 | L23: =VLOOKUP($B23,[1]NUM1!$G$2:$T$157,9,FALSE) -> 3 | M23: =VLOOKUP($B23,[1]NUM1!$G$2:$T$157,10,FALSE) -> 10 | N23: =VLOOKUP($B23,[1]NUM1!$G$2:$T$157,11,FALSE) -> 24 | O23: =VLOOKUP($B23,[1]NUM1!$G$2:$T$157,12,FALSE) -> 10 | P23: =VLOOKUP($B23,[1]NUM1!$G$2:$T$157,13,FALSE) -> 2 | Q23: =SUM(E23:P23) -> 68 | S23: 5 | T23: =+S23+(Z23+AA23+AB23)-(AM23+AN23+AO23) -> 4 | U23: =VLOOKUP($B23,[2]DEN1!$G$2:$I$157,2,FALSE) -> 2 | V23: =+U23+(AF23+AG23)-(AS23+AT23) -> 2 | W23: =+U23+(AF23+AG23+AH23+AI23)-(AS23+AT23+AU23+AV23) -> 2 | X23: =VLOOKUP($B23,[1]DEN1!$G$2:$I$159,2,FALSE) -> 5 | AL23: =SUM(Z23:AK23) -> 0 | AM23: =VLOOKUP($B23,'[3]ACT DEN1'!$AB$2:$AN$119,2,FALSE) -> 0 | AN23: =VLOOKUP($B23,'[3]ACT DEN1'!$AB$2:$AN$119,3,FALSE) -> 0 | AO23: =VLOOKUP($B23,'[3]ACT DEN1'!$AB$2:$AN$119,4,FALSE) -> 1 | AP23: =VLOOKUP($B23,'[3]ACT DEN1'!$AB$2:$AN$119,5,FALSE) -> 0 | AQ23: =VLOOKUP($B23,'[3]ACT DEN1'!$AB$2:$AN$119,6,FALSE) -> 0 | AR23: =VLOOKUP($B23,'[3]ACT DEN1'!$AB$2:$AN$119,7,FALSE) -> 0 | AS23: =VLOOKUP($B23,'[3]ACT DEN1'!$AB$2:$AN$119,8,FALSE) -> 0 | AT23: =VLOOKUP($B23,'[3]ACT DEN1'!$AB$2:$AN$119,9,FALSE) -> 0 | AU23: =VLOOKUP($B23,'[3]ACT DEN1'!$AB$2:$AN$119,10,FALSE) -> 0 | AV23: =VLOOKUP($B23,'[3]ACT DEN1'!$AB$2:$AN$119,11,FALSE) -> 0 | AW23: =VLOOKUP($B23,'[3]ACT DEN1'!$AB$2:$AN$119,12,FALSE) -> 0 | AY23: =SUM(AM23:AX23) -> 1
A24: 04101-LA SERENA | B24: 105702-CECOF VILLA LAMBERT | E24: =VLOOKUP($B24,[1]NUM1!$G$2:$T$157,2,FALSE) -> 14 | F24: =VLOOKUP($B24,[1]NUM1!$G$2:$T$157,3,FALSE) -> 3 | G24: =VLOOKUP($B24,[1]NUM1!$G$2:$T$157,4,FALSE) -> 59 | H24: =VLOOKUP($B24,[1]NUM1!$G$2:$T$157,5,FALSE) -> 70 | I24: =VLOOKUP($B24,[1]NUM1!$G$2:$T$157,6,FALSE) -> 17 | J24: =VLOOKUP($B24,[1]NUM1!$G$2:$T$157,7,FALSE) -> 20 | K24: =VLOOKUP($B24,[1]NUM1!$G$2:$T$157,8,FALSE) -> 4 | L24: =VLOOKUP($B24,[1]NUM1!$G$2:$T$157,9,FALSE) -> 32 | M24: =VLOOKUP($B24,[1]NUM1!$G$2:$T$157,10,FALSE) -> 0 | N24: =VLOOKUP($B24,[1]NUM1!$G$2:$T$157,11,FALSE) -> 8 | O24: =VLOOKUP($B24,[1]NUM1!$G$2:$T$157,12,FALSE) -> 38 | P24: =VLOOKUP($B24,[1]NUM1!$G$2:$T$157,13,FALSE) -> 3 | Q24: =SUM(E24:P24) -> 268 | S24: 7 | T24: =+S24+(Z24+AA24+AB24)-(AM24+AN24+AO24) -> 7 | U24: =VLOOKUP($B24,[2]DEN1!$G$2:$I$157,2,FALSE) -> 6 | V24: =+U24+(AF24+AG24)-(AS24+AT24) -> 6 | W24: =+U24+(AF24+AG24+AH24+AI24)-(AS24+AT24+AU24+AV24) -> 6 | X24: =VLOOKUP($B24,[1]DEN1!$G$2:$I$159,2,FALSE) -> 8 | AL24: =SUM(Z24:AK24) -> 0 | AY24: =SUM(AM24:AX24) -> 0
A25: TOTAL LA SERENA MUNICIPAL | C25: =+D25/Metas!G110 -> 0.69495658 | D25: =+Q25/R25 -> 0.13899132 | E25: =SUM(E12:E24) -> 72 | F25: =SUM(F12:F24) -> 201 | G25: =SUM(G12:G24) -> 638 | H25: =SUM(H12:H24) -> 948 | I25: =SUM(I12:I24) -> 568 | J25: =SUM(J12:J24) -> 269 | K25: =SUM(K12:K24) -> 373 | L25: =SUM(L12:L24) -> 359 | ... Q25: =SUM(Q12:Q24) -> 4674 | R25: =+Y25-X25 -> 33628 | S25: =SUM(S12:S24) -> 442 | T25: =SUM(T12:T24) -> 435 | U25: =SUM(U12:U24) -> 376 | V25: =SUM(V12:V24) -> 362 | W25: =SUM(W12:W24) -> 356 | X25: =SUM(X12:X24) -> 436 | Y25: 34064 | Z25: =SUM(Z12:Z24) -> 0 | AA25: =SUM(AA12:AA24) -> 0 | AB25: =SUM(AB12:AB24) -> 0 | AC25: =SUM(AC12:AC24) -> 0 | AD25: =SUM(AD12:AD24) -> 0 | AE25: =SUM(AE12:AE24) -> 0 | AF25: =SUM(AF12:AF24) -> 0 | AG25: =SUM(AG12:AG24) -> 0 | ... AK25: =SUM(AK12:AK24) -> 0 | AL25: =SUM(Z25:AK25) -> 0 | AM25: =SUM(AM12:AM24) -> 0 | AN25: =SUM(AN12:AN24) -> 5 | AO25: =SUM(AO12:AO24) -> 2 | AP25: =SUM(AP12:AP24) -> 6 | AQ25: =SUM(AQ12:AQ24) -> 3 | AR25: =SUM(AR12:AR24) -> 24 | AS25: =SUM(AS12:AS24) -> 5 | AT25: =SUM(AT12:AT24) -> 9 | ... AX25: =SUM(AX12:AX24) -> 0 | AY25: =SUM(AM25:AX25) -> 63
A26: 04102-COQUIMBO | B26: 105303-CES. SAN JUAN | E26: =VLOOKUP($B26,[1]NUM1!$G$2:$T$157,2,FALSE) -> 58 | F26: =VLOOKUP($B26,[1]NUM1!$G$2:$T$157,3,FALSE) -> 47 | G26: =VLOOKUP($B26,[1]NUM1!$G$2:$T$157,4,FALSE) -> 76 | H26: =VLOOKUP($B26,[1]NUM1!$G$2:$T$157,5,FALSE) -> 15 | I26: =VLOOKUP($B26,[1]NUM1!$G$2:$T$157,6,FALSE) -> 97 | J26: =VLOOKUP($B26,[1]NUM1!$G$2:$T$157,7,FALSE) -> 81 | K26: =VLOOKUP($B26,[1]NUM1!$G$2:$T$157,8,FALSE) -> 109 | L26: =VLOOKUP($B26,[1]NUM1!$G$2:$T$157,9,FALSE) -> 95 | M26: =VLOOKUP($B26,[1]NUM1!$G$2:$T$157,10,FALSE) -> 84 | N26: =VLOOKUP($B26,[1]NUM1!$G$2:$T$157,11,FALSE) -> 139 | O26: =VLOOKUP($B26,[1]NUM1!$G$2:$T$157,12,FALSE) -> 130 | P26: =VLOOKUP($B26,[1]NUM1!$G$2:$T$157,13,FALSE) -> 94 | Q26: =SUM(E26:P26) -> 1025 | S26: 79 | T26: =+S26+(Z26+AA26+AB26)-(AM26+AN26+AO26) -> 86 | U26: =VLOOKUP($B26,[2]DEN1!$G$2:$I$157,2,FALSE) -> 99 | V26: =+U26+(AF26+AG26)-(AS26+AT26) -> 106 | W26: =+U26+(AF26+AG26+AH26+AI26)-(AS26+AT26+AU26+AV26) -> 110 | X26: =VLOOKUP($B26,[1]DEN1!$G$2:$I$159,2,FALSE) -> 115 | Z26: =VLOOKUP($B26,'[3]ACT DEN1'!$G$2:$S$143,2,FALSE) -> 3 | AA26: =VLOOKUP($B26,'[3]ACT DEN1'!$G$2:$S$143,3,FALSE) -> 4 | AB26: =VLOOKUP($B26,'[3]ACT DEN1'!$G$2:$S$143,4,FALSE) -> 0 | AC26: =VLOOKUP($B26,'[3]ACT DEN1'!$G$2:$S$143,5,FALSE) -> 10 | AD26: =VLOOKUP($B26,'[3]ACT DEN1'!$G$2:$S$143,6,FALSE) -> 0 | AE26: =VLOOKUP($B26,'[3]ACT DEN1'!$G$2:$S$143,7,FALSE) -> 0 | AF26: =VLOOKUP($B26,'[3]ACT DEN1'!$G$2:$S$143,8,FALSE) -> 5 | AG26: =VLOOKUP($B26,'[3]ACT DEN1'!$G$2:$S$143,9,FALSE) -> 3 | AH26: =VLOOKUP($B26,'[3]ACT DEN1'!$G$2:$S$143,10,FALSE) -> 4 | AI26: =VLOOKUP($B26,'[3]ACT DEN1'!$G$2:$S$143,11,FALSE) -> 0 | AJ26: =VLOOKUP($B26,'[3]ACT DEN1'!$G$2:$S$143,12,FALSE) -> 3 | AL26: =SUM(Z26:AK26) -> 32 | AM26: =VLOOKUP($B26,'[3]ACT DEN1'!$AB$2:$AN$119,2,FALSE) -> 0 | AN26: =VLOOKUP($B26,'[3]ACT DEN1'!$AB$2:$AN$119,3,FALSE) -> 0 | AO26: =VLOOKUP($B26,'[3]ACT DEN1'!$AB$2:$AN$119,4,FALSE) -> 0 | AP26: =VLOOKUP($B26,'[3]ACT DEN1'!$AB$2:$AN$119,5,FALSE) -> 0 | AQ26: =VLOOKUP($B26,'[3]ACT DEN1'!$AB$2:$AN$119,6,FALSE) -> 0 | AR26: =VLOOKUP($B26,'[3]ACT DEN1'!$AB$2:$AN$119,7,FALSE) -> 0 | AS26: =VLOOKUP($B26,'[3]ACT DEN1'!$AB$2:$AN$119,8,FALSE) -> 1 | AT26: =VLOOKUP($B26,'[3]ACT DEN1'!$AB$2:$AN$119,9,FALSE) -> 0 | AU26: =VLOOKUP($B26,'[3]ACT DEN1'!$AB$2:$AN$119,10,FALSE) -> 0 | AV26: =VLOOKUP($B26,'[3]ACT DEN1'!$AB$2:$AN$119,11,FALSE) -> 0 | AW26: =VLOOKUP($B26,'[3]ACT DEN1'!$AB$2:$AN$119,12,FALSE) -> 0 | AY26: =SUM(AM26:AX26) -> 1
A27: 04102-COQUIMBO | B27: 105304-CES. SANTA CECILIA | E27: =VLOOKUP($B27,[1]NUM1!$G$2:$T$157,2,FALSE) -> 80 | F27: =VLOOKUP($B27,[1]NUM1!$G$2:$T$157,3,FALSE) -> 71 | G27: =VLOOKUP($B27,[1]NUM1!$G$2:$T$157,4,FALSE) -> 114 | H27: =VLOOKUP($B27,[1]NUM1!$G$2:$T$157,5,FALSE) -> 106 | I27: =VLOOKUP($B27,[1]NUM1!$G$2:$T$157,6,FALSE) -> 81 | J27: =VLOOKUP($B27,[1]NUM1!$G$2:$T$157,7,FALSE) -> 52 | K27: =VLOOKUP($B27,[1]NUM1!$G$2:$T$157,8,FALSE) -> 60 | L27: =VLOOKUP($B27,[1]NUM1!$G$2:$T$157,9,FALSE) -> 129 | M27: =VLOOKUP($B27,[1]NUM1!$G$2:$T$157,10,FALSE) -> 149 | N27: =VLOOKUP($B27,[1]NUM1!$G$2:$T$157,11,FALSE) -> 89 | O27: =VLOOKUP($B27,[1]NUM1!$G$2:$T$157,12,FALSE) -> 27 | P27: =VLOOKUP($B27,[1]NUM1!$G$2:$T$157,13,FALSE) -> 42 | Q27: =SUM(E27:P27) -> 1000 | S27: 67 | T27: =+S27+(Z27+AA27+AB27)-(AM27+AN27+AO27) -> 68 | U27: =VLOOKUP($B27,[2]DEN1!$G$2:$I$157,2,FALSE) -> 56 | V27: =+U27+(AF27+AG27)-(AS27+AT27) -> 65 | W27: =+U27+(AF27+AG27+AH27+AI27)-(AS27+AT27+AU27+AV27) -> 66 | X27: =VLOOKUP($B27,[1]DEN1!$G$2:$I$159,2,FALSE) -> 60 | Z27: =VLOOKUP($B27,'[3]ACT DEN1'!$G$2:$S$143,2,FALSE) -> 1 | AA27: =VLOOKUP($B27,'[3]ACT DEN1'!$G$2:$S$143,3,FALSE) -> 0 | AB27: =VLOOKUP($B27,'[3]ACT DEN1'!$G$2:$S$143,4,FALSE) -> 0 | AC27: =VLOOKUP($B27,'[3]ACT DEN1'!$G$2:$S$143,5,FALSE) -> 2 | AD27: =VLOOKUP($B27,'[3]ACT DEN1'!$G$2:$S$143,6,FALSE) -> 0 | AE27: =VLOOKUP($B27,'[3]ACT DEN1'!$G$2:$S$143,7,FALSE) -> 1 | AF27: =VLOOKUP($B27,'[3]ACT DEN1'!$G$2:$S$143,8,FALSE) -> 0 | AG27: =VLOOKUP($B27,'[3]ACT DEN1'!$G$2:$S$143,9,FALSE) -> 9 | AH27: =VLOOKUP($B27,'[3]ACT DEN1'!$G$2:$S$143,10,FALSE) -> 1 | AI27: =VLOOKUP($B27,'[3]ACT DEN1'!$G$2:$S$143,11,FALSE) -> 0 | AJ27: =VLOOKUP($B27,'[3]ACT DEN1'!$G$2:$S$143,12,FALSE) -> 0 | AL27: =SUM(Z27:AK27) -> 14 | AM27: =VLOOKUP($B27,'[3]ACT DEN1'!$AB$2:$AN$119,2,FALSE) -> 0 | AN27: =VLOOKUP($B27,'[3]ACT DEN1'!$AB$2:$AN$119,3,FALSE) -> 0 | AO27: =VLOOKUP($B27,'[3]ACT DEN1'!$AB$2:$AN$119,4,FALSE) -> 0 | AP27: =VLOOKUP($B27,'[3]ACT DEN1'!$AB$2:$AN$119,5,FALSE) -> 0 | AQ27: =VLOOKUP($B27,'[3]ACT DEN1'!$AB$2:$AN$119,6,FALSE) -> 0 | AR27: =VLOOKUP($B27,'[3]ACT DEN1'!$AB$2:$AN$119,7,FALSE) -> 0 | AS27: =VLOOKUP($B27,'[3]ACT DEN1'!$AB$2:$AN$119,8,FALSE) -> 0 | AT27: =VLOOKUP($B27,'[3]ACT DEN1'!$AB$2:$AN$119,9,FALSE) -> 0 | AU27: =VLOOKUP($B27,'[3]ACT DEN1'!$AB$2:$AN$119,10,FALSE) -> 0 | AV27: =VLOOKUP($B27,'[3]ACT DEN1'!$AB$2:$AN$119,11,FALSE) -> 0 | AW27: =VLOOKUP($B27,'[3]ACT DEN1'!$AB$2:$AN$119,12,FALSE) -> 0 | AY27: =SUM(AM27:AX27) -> 0
A28: 04102-COQUIMBO | B28: 105305-CES. TIERRAS BLANCAS | E28: =VLOOKUP($B28,[1]NUM1!$G$2:$T$157,2,FALSE) -> 89 | F28: =VLOOKUP($B28,[1]NUM1!$G$2:$T$157,3,FALSE) -> 85 | G28: =VLOOKUP($B28,[1]NUM1!$G$2:$T$157,4,FALSE) -> 186 | H28: =VLOOKUP($B28,[1]NUM1!$G$2:$T$157,5,FALSE) -> 114 | I28: =VLOOKUP($B28,[1]NUM1!$G$2:$T$157,6,FALSE) -> 127 | J28: =VLOOKUP($B28,[1]NUM1!$G$2:$T$157,7,FALSE) -> 115 | K28: =VLOOKUP($B28,[1]NUM1!$G$2:$T$157,8,FALSE) -> 101 | L28: =VLOOKUP($B28,[1]NUM1!$G$2:$T$157,9,FALSE) -> 106 | M28: =VLOOKUP($B28,[1]NUM1!$G$2:$T$157,10,FALSE) -> 90 | N28: =VLOOKUP($B28,[1]NUM1!$G$2:$T$157,11,FALSE) -> 105 | O28: =VLOOKUP($B28,[1]NUM1!$G$2:$T$157,12,FALSE) -> 73 | P28: =VLOOKUP($B28,[1]NUM1!$G$2:$T$157,13,FALSE) -> 128 | Q28: =SUM(E28:P28) -> 1319 | S28: 562 | T28: =+S28+(Z28+AA28+AB28)-(AM28+AN28+AO28) -> 579 | U28: =VLOOKUP($B28,[2]DEN1!$G$2:$I$157,2,FALSE) -> 593 | V28: =+U28+(AF28+AG28)-(AS28+AT28) -> 602 | W28: =+U28+(AF28+AG28+AH28+AI28)-(AS28+AT28+AU28+AV28) -> 608 | X28: =VLOOKUP($B28,[1]DEN1!$G$2:$I$159,2,FALSE) -> 614 | Z28: =VLOOKUP($B28,'[3]ACT DEN1'!$G$2:$S$143,2,FALSE) -> 4 | AA28: =VLOOKUP($B28,'[3]ACT DEN1'!$G$2:$S$143,3,FALSE) -> 5 | AB28: =VLOOKUP($B28,'[3]ACT DEN1'!$G$2:$S$143,4,FALSE) -> 9 | AC28: =VLOOKUP($B28,'[3]ACT DEN1'!$G$2:$S$143,5,FALSE) -> 4 | AD28: =VLOOKUP($B28,'[3]ACT DEN1'!$G$2:$S$143,6,FALSE) -> 8 | AE28: =VLOOKUP($B28,'[3]ACT DEN1'!$G$2:$S$143,7,FALSE) -> 7 | AF28: =VLOOKUP($B28,'[3]ACT DEN1'!$G$2:$S$143,8,FALSE) -> 5 | AG28: =VLOOKUP($B28,'[3]ACT DEN1'!$G$2:$S$143,9,FALSE) -> 5 | AH28: =VLOOKUP($B28,'[3]ACT DEN1'!$G$2:$S$143,10,FALSE) -> 5 | AI28: =VLOOKUP($B28,'[3]ACT DEN1'!$G$2:$S$143,11,FALSE) -> 1 | AJ28: =VLOOKUP($B28,'[3]ACT DEN1'!$G$2:$S$143,12,FALSE) -> 1 | AL28: =SUM(Z28:AK28) -> 54 | AM28: =VLOOKUP($B28,'[3]ACT DEN1'!$AB$2:$AN$119,2,FALSE) -> 0 | AN28: =VLOOKUP($B28,'[3]ACT DEN1'!$AB$2:$AN$119,3,FALSE) -> 1 | AO28: =VLOOKUP($B28,'[3]ACT DEN1'!$AB$2:$AN$119,4,FALSE) -> 0 | AP28: =VLOOKUP($B28,'[3]ACT DEN1'!$AB$2:$AN$119,5,FALSE) -> 0 | AQ28: =VLOOKUP($B28,'[3]ACT DEN1'!$AB$2:$AN$119,6,FALSE) -> 2 | AR28: =VLOOKUP($B28,'[3]ACT DEN1'!$AB$2:$AN$119,7,FALSE) -> 4 | AS28: =VLOOKUP($B28,'[3]ACT DEN1'!$AB$2:$AN$119,8,FALSE) -> 0 | AT28: =VLOOKUP($B28,'[3]ACT DEN1'!$AB$2:$AN$119,9,FALSE) -> 1 | AU28: =VLOOKUP($B28,'[3]ACT DEN1'!$AB$2:$AN$119,10,FALSE) -> 0 | AV28: =VLOOKUP($B28,'[3]ACT DEN1'!$AB$2:$AN$119,11,FALSE) -> 0 | AW28: =VLOOKUP($B28,'[3]ACT DEN1'!$AB$2:$AN$119,12,FALSE) -> 0 | AY28: =SUM(AM28:AX28) -> 8
A29: 04102-COQUIMBO | B29: 105321-CES. RURAL TONGOY | E29: =VLOOKUP($B29,[1]NUM1!$G$2:$T$157,2,FALSE) -> 13 | F29: =VLOOKUP($B29,[1]NUM1!$G$2:$T$157,3,FALSE) -> 24 | G29: =VLOOKUP($B29,[1]NUM1!$G$2:$T$157,4,FALSE) -> 30 | H29: =VLOOKUP($B29,[1]NUM1!$G$2:$T$157,5,FALSE) -> 52 | I29: =VLOOKUP($B29,[1]NUM1!$G$2:$T$157,6,FALSE) -> 10 | J29: =VLOOKUP($B29,[1]NUM1!$G$2:$T$157,7,FALSE) -> 31 | K29: =VLOOKUP($B29,[1]NUM1!$G$2:$T$157,8,FALSE) -> 26 | L29: =VLOOKUP($B29,[1]NUM1!$G$2:$T$157,9,FALSE) -> 17 | M29: =VLOOKUP($B29,[1]NUM1!$G$2:$T$157,10,FALSE) -> 16 | N29: =VLOOKUP($B29,[1]NUM1!$G$2:$T$157,11,FALSE) -> 29 | O29: =VLOOKUP($B29,[1]NUM1!$G$2:$T$157,12,FALSE) -> 6 | P29: =VLOOKUP($B29,[1]NUM1!$G$2:$T$157,13,FALSE) -> 44 | Q29: =SUM(E29:P29) -> 298 | S29: 22 | T29: =+S29+(Z29+AA29+AB29)-(AM29+AN29+AO29) -> 22 | U29: =VLOOKUP($B29,[2]DEN1!$G$2:$I$157,2,FALSE) -> 18 | V29: =+U29+(AF29+AG29)-(AS29+AT29) -> 19 | W29: =+U29+(AF29+AG29+AH29+AI29)-(AS29+AT29+AU29+AV29) -> 18 | X29: =VLOOKUP($B29,[1]DEN1!$G$2:$I$159,2,FALSE) -> 15 | Z29: =VLOOKUP($B29,'[3]ACT DEN1'!$G$2:$S$143,2,FALSE) -> 0 | AA29: =VLOOKUP($B29,'[3]ACT DEN1'!$G$2:$S$143,3,FALSE) -> 0 | AB29: =VLOOKUP($B29,'[3]ACT DEN1'!$G$2:$S$143,4,FALSE) -> 0 | AC29: =VLOOKUP($B29,'[3]ACT DEN1'!$G$2:$S$143,5,FALSE) -> 1 | AD29: =VLOOKUP($B29,'[3]ACT DEN1'!$G$2:$S$143,6,FALSE) -> 0 | AE29: =VLOOKUP($B29,'[3]ACT DEN1'!$G$2:$S$143,7,FALSE) -> 1 | AF29: =VLOOKUP($B29,'[3]ACT DEN1'!$G$2:$S$143,8,FALSE) -> 0 | AG29: =VLOOKUP($B29,'[3]ACT DEN1'!$G$2:$S$143,9,FALSE) -> 1 | AH29: =VLOOKUP($B29,'[3]ACT DEN1'!$G$2:$S$143,10,FALSE) -> 0 | AI29: =VLOOKUP($B29,'[3]ACT DEN1'!$G$2:$S$143,11,FALSE) -> 0 | AJ29: =VLOOKUP($B29,'[3]ACT DEN1'!$G$2:$S$143,12,FALSE) -> 0 | AL29: =SUM(Z29:AK29) -> 3 | AM29: =VLOOKUP($B29,'[3]ACT DEN1'!$AB$2:$AN$119,2,FALSE) -> 0 | AN29: =VLOOKUP($B29,'[3]ACT DEN1'!$AB$2:$AN$119,3,FALSE) -> 0 | AO29: =VLOOKUP($B29,'[3]ACT DEN1'!$AB$2:$AN$119,4,FALSE) -> 0 | AP29: =VLOOKUP($B29,'[3]ACT DEN1'!$AB$2:$AN$119,5,FALSE) -> 0 | AQ29: =VLOOKUP($B29,'[3]ACT DEN1'!$AB$2:$AN$119,6,FALSE) -> 0 | AR29: =VLOOKUP($B29,'[3]ACT DEN1'!$AB$2:$AN$119,7,FALSE) -> 0 | AS29: =VLOOKUP($B29,'[3]ACT DEN1'!$AB$2:$AN$119,8,FALSE) -> 0 | AT29: =VLOOKUP($B29,'[3]ACT DEN1'!$AB$2:$AN$119,9,FALSE) -> 0 | AU29: =VLOOKUP($B29,'[3]ACT DEN1'!$AB$2:$AN$119,10,FALSE) -> 0 | AV29: =VLOOKUP($B29,'[3]ACT DEN1'!$AB$2:$AN$119,11,FALSE) -> 1 | AW29: =VLOOKUP($B29,'[3]ACT DEN1'!$AB$2:$AN$119,12,FALSE) -> 0 | AY29: =SUM(AM29:AX29) -> 1
A30: 04102-COQUIMBO | B30: 105323-CES. DR. SERGIO AGUILAR | E30: =VLOOKUP($B30,[1]NUM1!$G$2:$T$157,2,FALSE) -> 76 | F30: =VLOOKUP($B30,[1]NUM1!$G$2:$T$157,3,FALSE) -> 118 | G30: =VLOOKUP($B30,[1]NUM1!$G$2:$T$157,4,FALSE) -> 272 | H30: =VLOOKUP($B30,[1]NUM1!$G$2:$T$157,5,FALSE) -> 182 | I30: =VLOOKUP($B30,[1]NUM1!$G$2:$T$157,6,FALSE) -> 106 | J30: =VLOOKUP($B30,[1]NUM1!$G$2:$T$157,7,FALSE) -> 81 | K30: =VLOOKUP($B30,[1]NUM1!$G$2:$T$157,8,FALSE) -> 117 | L30: =VLOOKUP($B30,[1]NUM1!$G$2:$T$157,9,FALSE) -> 122 | M30: =VLOOKUP($B30,[1]NUM1!$G$2:$T$157,10,FALSE) -> 62 | N30: =VLOOKUP($B30,[1]NUM1!$G$2:$T$157,11,FALSE) -> 57 | O30: =VLOOKUP($B30,[1]NUM1!$G$2:$T$157,12,FALSE) -> 57 | P30: =VLOOKUP($B30,[1]NUM1!$G$2:$T$157,13,FALSE) -> 65 | Q30: =SUM(E30:P30) -> 1315 | S30: 50 | T30: =+S30+(Z30+AA30+AB30)-(AM30+AN30+AO30) -> 53 | U30: =VLOOKUP($B30,[2]DEN1!$G$2:$I$157,2,FALSE) -> 52 | V30: =+U30+(AF30+AG30)-(AS30+AT30) -> 58 | W30: =+U30+(AF30+AG30+AH30+AI30)-(AS30+AT30+AU30+AV30) -> 60 | X30: =VLOOKUP($B30,[1]DEN1!$G$2:$I$159,2,FALSE) -> 59 | Z30: =VLOOKUP($B30,'[3]ACT DEN1'!$G$2:$S$143,2,FALSE) -> 1 | AA30: =VLOOKUP($B30,'[3]ACT DEN1'!$G$2:$S$143,3,FALSE) -> 2 | AB30: =VLOOKUP($B30,'[3]ACT DEN1'!$G$2:$S$143,4,FALSE) -> 1 | AC30: =VLOOKUP($B30,'[3]ACT DEN1'!$G$2:$S$143,5,FALSE) -> 4 | AD30: =VLOOKUP($B30,'[3]ACT DEN1'!$G$2:$S$143,6,FALSE) -> 3 | AE30: =VLOOKUP($B30,'[3]ACT DEN1'!$G$2:$S$143,7,FALSE) -> 2 | AF30: =VLOOKUP($B30,'[3]ACT DEN1'!$G$2:$S$143,8,FALSE) -> 6 | AG30: =VLOOKUP($B30,'[3]ACT DEN1'!$G$2:$S$143,9,FALSE) -> 1 | AH30: =VLOOKUP($B30,'[3]ACT DEN1'!$G$2:$S$143,10,FALSE) -> 1 | AI30: =VLOOKUP($B30,'[3]ACT DEN1'!$G$2:$S$143,11,FALSE) -> 3 | AJ30: =VLOOKUP($B30,'[3]ACT DEN1'!$G$2:$S$143,12,FALSE) -> 0 | AL30: =SUM(Z30:AK30) -> 24 | AM30: =VLOOKUP($B30,'[3]ACT DEN1'!$AB$2:$AN$119,2,FALSE) -> 0 | AN30: =VLOOKUP($B30,'[3]ACT DEN1'!$AB$2:$AN$119,3,FALSE) -> 1 | AO30: =VLOOKUP($B30,'[3]ACT DEN1'!$AB$2:$AN$119,4,FALSE) -> 0 | AP30: =VLOOKUP($B30,'[3]ACT DEN1'!$AB$2:$AN$119,5,FALSE) -> 4 | AQ30: =VLOOKUP($B30,'[3]ACT DEN1'!$AB$2:$AN$119,6,FALSE) -> 4 | AR30: =VLOOKUP($B30,'[3]ACT DEN1'!$AB$2:$AN$119,7,FALSE) -> 1 | AS30: =VLOOKUP($B30,'[3]ACT DEN1'!$AB$2:$AN$119,8,FALSE) -> 0 | AT30: =VLOOKUP($B30,'[3]ACT DEN1'!$AB$2:$AN$119,9,FALSE) -> 1 | AU30: =VLOOKUP($B30,'[3]ACT DEN1'!$AB$2:$AN$119,10,FALSE) -> 0 | AV30: =VLOOKUP($B30,'[3]ACT DEN1'!$AB$2:$AN$119,11,FALSE) -> 2 | AW30: =VLOOKUP($B30,'[3]ACT DEN1'!$AB$2:$AN$119,12,FALSE) -> 1 | AY30: =SUM(AM30:AX30) -> 14
A31: 04102-COQUIMBO | B31: 105404-P.S.R. EL TANGUE | E31: =VLOOKUP($B31,[1]NUM1!$G$2:$T$157,2,FALSE) -> 2 | F31: =VLOOKUP($B31,[1]NUM1!$G$2:$T$157,3,FALSE) -> 1 | G31: =VLOOKUP($B31,[1]NUM1!$G$2:$T$157,4,FALSE) -> 5 | H31: =VLOOKUP($B31,[1]NUM1!$G$2:$T$157,5,FALSE) -> 1 | I31: =VLOOKUP($B31,[1]NUM1!$G$2:$T$157,6,FALSE) -> 12 | J31: =VLOOKUP($B31,[1]NUM1!$G$2:$T$157,7,FALSE) -> 1 | K31: =VLOOKUP($B31,[1]NUM1!$G$2:$T$157,8,FALSE) -> 0 | L31: =VLOOKUP($B31,[1]NUM1!$G$2:$T$157,9,FALSE) -> 6 | M31: =VLOOKUP($B31,[1]NUM1!$G$2:$T$157,10,FALSE) -> 1 | N31: =VLOOKUP($B31,[1]NUM1!$G$2:$T$157,11,FALSE) -> 0 | O31: =VLOOKUP($B31,[1]NUM1!$G$2:$T$157,12,FALSE) -> 0 | P31: =VLOOKUP($B31,[1]NUM1!$G$2:$T$157,13,FALSE) -> 28 | Q31: =SUM(E31:P31) -> 57 | S31: 7 | T31: =+S31+(Z31+AA31+AB31)-(AM31+AN31+AO31) -> 7 | U31: =VLOOKUP($B31,[2]DEN1!$G$2:$I$157,2,FALSE) -> 7 | V31: =+U31+(AF31+AG31)-(AS31+AT31) -> 7 | W31: =+U31+(AF31+AG31+AH31+AI31)-(AS31+AT31+AU31+AV31) -> 8 | X31: =VLOOKUP($B31,[1]DEN1!$G$2:$I$159,2,FALSE) -> 5 | Z31: =VLOOKUP($B31,'[3]ACT DEN1'!$G$2:$S$143,2,FALSE) -> 0 | AA31: =VLOOKUP($B31,'[3]ACT DEN1'!$G$2:$S$143,3,FALSE) -> 0 | AB31: =VLOOKUP($B31,'[3]ACT DEN1'!$G$2:$S$143,4,FALSE) -> 0 | AC31: =VLOOKUP($B31,'[3]ACT DEN1'!$G$2:$S$143,5,FALSE) -> 1 | AD31: =VLOOKUP($B31,'[3]ACT DEN1'!$G$2:$S$143,6,FALSE) -> 0 | AE31: =VLOOKUP($B31,'[3]ACT DEN1'!$G$2:$S$143,7,FALSE) -> 0 | AF31: =VLOOKUP($B31,'[3]ACT DEN1'!$G$2:$S$143,8,FALSE) -> 0 | AG31: =VLOOKUP($B31,'[3]ACT DEN1'!$G$2:$S$143,9,FALSE) -> 0 | AH31: =VLOOKUP($B31,'[3]ACT DEN1'!$G$2:$S$143,10,FALSE) -> 0 | AI31: =VLOOKUP($B31,'[3]ACT DEN1'!$G$2:$S$143,11,FALSE) -> 1 | AJ31: =VLOOKUP($B31,'[3]ACT DEN1'!$G$2:$S$143,12,FALSE) -> 0 | AL31: =SUM(Z31:AK31) -> 2 | AM31: =VLOOKUP($B31,'[3]ACT DEN1'!$AB$2:$AN$119,2,FALSE) -> 0 | AN31: =VLOOKUP($B31,'[3]ACT DEN1'!$AB$2:$AN$119,3,FALSE) -> 0 | AO31: =VLOOKUP($B31,'[3]ACT DEN1'!$AB$2:$AN$119,4,FALSE) -> 0 | AP31: =VLOOKUP($B31,'[3]ACT DEN1'!$AB$2:$AN$119,5,FALSE) -> 0 | AQ31: =VLOOKUP($B31,'[3]ACT DEN1'!$AB$2:$AN$119,6,FALSE) -> 0 | AR31: =VLOOKUP($B31,'[3]ACT DEN1'!$AB$2:$AN$119,7,FALSE) -> 0 | AS31: =VLOOKUP($B31,'[3]ACT DEN1'!$AB$2:$AN$119,8,FALSE) -> 0 | AT31: =VLOOKUP($B31,'[3]ACT DEN1'!$AB$2:$AN$119,9,FALSE) -> 0 | AU31: =VLOOKUP($B31,'[3]ACT DEN1'!$AB$2:$AN$119,10,FALSE) -> 0 | AV31: =VLOOKUP($B31,'[3]ACT DEN1'!$AB$2:$AN$119,11,FALSE) -> 0 | AW31: =VLOOKUP($B31,'[3]ACT DEN1'!$AB$2:$AN$119,12,FALSE) -> 0 | AY31: =SUM(AM31:AX31) -> 0
A32: 04102-COQUIMBO | B32: 105405-P.S.R. GUANAQUEROS | E32: =VLOOKUP($B32,[1]NUM1!$G$2:$T$157,2,FALSE) -> 0 | F32: =VLOOKUP($B32,[1]NUM1!$G$2:$T$157,3,FALSE) -> 3 | G32: =VLOOKUP($B32,[1]NUM1!$G$2:$T$157,4,FALSE) -> 1 | H32: =VLOOKUP($B32,[1]NUM1!$G$2:$T$157,5,FALSE) -> 3 | I32: =VLOOKUP($B32,[1]NUM1!$G$2:$T$157,6,FALSE) -> 1 | J32: =VLOOKUP($B32,[1]NUM1!$G$2:$T$157,7,FALSE) -> 0 | K32: =VLOOKUP($B32,[1]NUM1!$G$2:$T$157,8,FALSE) -> 1 | L32: =VLOOKUP($B32,[1]NUM1!$G$2:$T$157,9,FALSE) -> 1 | M32: =VLOOKUP($B32,[1]NUM1!$G$2:$T$157,10,FALSE) -> 0 | N32: =VLOOKUP($B32,[1]NUM1!$G$2:$T$157,11,FALSE) -> 2 | O32: =VLOOKUP($B32,[1]NUM1!$G$2:$T$157,12,FALSE) -> 0 | P32: =VLOOKUP($B32,[1]NUM1!$G$2:$T$157,13,FALSE) -> 5 | Q32: =SUM(E32:P32) -> 17 | S32: 15 | T32: =+S32+(Z32+AA32+AB32)-(AM32+AN32+AO32) -> 15 | U32: =VLOOKUP($B32,[2]DEN1!$G$2:$I$157,2,FALSE) -> 10 | V32: =+U32+(AF32+AG32)-(AS32+AT32) -> 10 | W32: =+U32+(AF32+AG32+AH32+AI32)-(AS32+AT32+AU32+AV32) -> 10 | X32: =VLOOKUP($B32,[1]DEN1!$G$2:$I$159,2,FALSE) -> 9 | Z32: =VLOOKUP($B32,'[3]ACT DEN1'!$G$2:$S$143,2,FALSE) -> 0 | AA32: =VLOOKUP($B32,'[3]ACT DEN1'!$G$2:$S$143,3,FALSE) -> 0 | AB32: =VLOOKUP($B32,'[3]ACT DEN1'!$G$2:$S$143,4,FALSE) -> 0 | AC32: =VLOOKUP($B32,'[3]ACT DEN1'!$G$2:$S$143,5,FALSE) -> 0 | AD32: =VLOOKUP($B32,'[3]ACT DEN1'!$G$2:$S$143,6,FALSE) -> 0 | AE32: =VLOOKUP($B32,'[3]ACT DEN1'!$G$2:$S$143,7,FALSE) -> 0 | AF32: =VLOOKUP($B32,'[3]ACT DEN1'!$G$2:$S$143,8,FALSE) -> 0 | AG32: =VLOOKUP($B32,'[3]ACT DEN1'!$G$2:$S$143,9,FALSE) -> 0 | AH32: =VLOOKUP($B32,'[3]ACT DEN1'!$G$2:$S$143,10,FALSE) -> 0 | AI32: =VLOOKUP($B32,'[3]ACT DEN1'!$G$2:$S$143,11,FALSE) -> 0 | AJ32: =VLOOKUP($B32,'[3]ACT DEN1'!$G$2:$S$143,12,FALSE) -> 0 | AL32: =SUM(Z32:AK32) -> 0 | AM32: =VLOOKUP($B32,'[3]ACT DEN1'!$AB$2:$AN$119,2,FALSE) -> 0 | AN32: =VLOOKUP($B32,'[3]ACT DEN1'!$AB$2:$AN$119,3,FALSE) -> 0 | AO32: =VLOOKUP($B32,'[3]ACT DEN1'!$AB$2:$AN$119,4,FALSE) -> 0 | AP32: =VLOOKUP($B32,'[3]ACT DEN1'!$AB$2:$AN$119,5,FALSE) -> 0 | AQ32: =VLOOKUP($B32,'[3]ACT DEN1'!$AB$2:$AN$119,6,FALSE) -> 0 | AR32: =VLOOKUP($B32,'[3]ACT DEN1'!$AB$2:$AN$119,7,FALSE) -> 0 | AS32: =VLOOKUP($B32,'[3]ACT DEN1'!$AB$2:$AN$119,8,FALSE) -> 0 | AT32: =VLOOKUP($B32,'[3]ACT DEN1'!$AB$2:$AN$119,9,FALSE) -> 0 | AU32: =VLOOKUP($B32,'[3]ACT DEN1'!$AB$2:$AN$119,10,FALSE) -> 0 | AV32: =VLOOKUP($B32,'[3]ACT DEN1'!$AB$2:$AN$119,11,FALSE) -> 0 | AW32: =VLOOKUP($B32,'[3]ACT DEN1'!$AB$2:$AN$119,12,FALSE) -> 0 | AY32: =SUM(AM32:AX32) -> 0
A33: 04102-COQUIMBO | B33: 105406-P.S.R. PAN DE AZUCAR | E33: =VLOOKUP($B33,[1]NUM1!$G$2:$T$157,2,FALSE) -> 3 | F33: =VLOOKUP($B33,[1]NUM1!$G$2:$T$157,3,FALSE) -> 2 | G33: =VLOOKUP($B33,[1]NUM1!$G$2:$T$157,4,FALSE) -> 11 | H33: =VLOOKUP($B33,[1]NUM1!$G$2:$T$157,5,FALSE) -> 21 | I33: =VLOOKUP($B33,[1]NUM1!$G$2:$T$157,6,FALSE) -> 14 | J33: =VLOOKUP($B33,[1]NUM1!$G$2:$T$157,7,FALSE) -> 2 | K33: =VLOOKUP($B33,[1]NUM1!$G$2:$T$157,8,FALSE) -> 9 | L33: =VLOOKUP($B33,[1]NUM1!$G$2:$T$157,9,FALSE) -> 11 | M33: =VLOOKUP($B33,[1]NUM1!$G$2:$T$157,10,FALSE) -> 0 | N33: =VLOOKUP($B33,[1]NUM1!$G$2:$T$157,11,FALSE) -> 2 | O33: =VLOOKUP($B33,[1]NUM1!$G$2:$T$157,12,FALSE) -> 7 | P33: =VLOOKUP($B33,[1]NUM1!$G$2:$T$157,13,FALSE) -> 1 | Q33: =SUM(E33:P33) -> 83 | S33: 10 | T33: =+S33+(Z33+AA33+AB33)-(AM33+AN33+AO33) -> 10 | U33: =VLOOKUP($B33,[2]DEN1!$G$2:$I$157,2,FALSE) -> 11 | V33: =+U33+(AF33+AG33)-(AS33+AT33) -> 13 | W33: =+U33+(AF33+AG33+AH33+AI33)-(AS33+AT33+AU33+AV33) -> 14 | X33: =VLOOKUP($B33,[1]DEN1!$G$2:$I$159,2,FALSE) -> 12 | Z33: =VLOOKUP($B33,'[3]ACT DEN1'!$G$2:$S$143,2,FALSE) -> 0 | AA33: =VLOOKUP($B33,'[3]ACT DEN1'!$G$2:$S$143,3,FALSE) -> 0 | AB33: =VLOOKUP($B33,'[3]ACT DEN1'!$G$2:$S$143,4,FALSE) -> 0 | AC33: =VLOOKUP($B33,'[3]ACT DEN1'!$G$2:$S$143,5,FALSE) -> 0 | AD33: =VLOOKUP($B33,'[3]ACT DEN1'!$G$2:$S$143,6,FALSE) -> 0 | AE33: =VLOOKUP($B33,'[3]ACT DEN1'!$G$2:$S$143,7,FALSE) -> 0 | AF33: =VLOOKUP($B33,'[3]ACT DEN1'!$G$2:$S$143,8,FALSE) -> 2 | AG33: =VLOOKUP($B33,'[3]ACT DEN1'!$G$2:$S$143,9,FALSE) -> 0 | AH33: =VLOOKUP($B33,'[3]ACT DEN1'!$G$2:$S$143,10,FALSE) -> 0 | AI33: =VLOOKUP($B33,'[3]ACT DEN1'!$G$2:$S$143,11,FALSE) -> 1 | AJ33: =VLOOKUP($B33,'[3]ACT DEN1'!$G$2:$S$143,12,FALSE) -> 0 | AL33: =SUM(Z33:AK33) -> 3 | AM33: =VLOOKUP($B33,'[3]ACT DEN1'!$AB$2:$AN$119,2,FALSE) -> 0 | AN33: =VLOOKUP($B33,'[3]ACT DEN1'!$AB$2:$AN$119,3,FALSE) -> 0 | AO33: =VLOOKUP($B33,'[3]ACT DEN1'!$AB$2:$AN$119,4,FALSE) -> 0 | AP33: =VLOOKUP($B33,'[3]ACT DEN1'!$AB$2:$AN$119,5,FALSE) -> 0 | AQ33: =VLOOKUP($B33,'[3]ACT DEN1'!$AB$2:$AN$119,6,FALSE) -> 0 | AR33: =VLOOKUP($B33,'[3]ACT DEN1'!$AB$2:$AN$119,7,FALSE) -> 0 | AS33: =VLOOKUP($B33,'[3]ACT DEN1'!$AB$2:$AN$119,8,FALSE) -> 0 | AT33: =VLOOKUP($B33,'[3]ACT DEN1'!$AB$2:$AN$119,9,FALSE) -> 0 | AU33: =VLOOKUP($B33,'[3]ACT DEN1'!$AB$2:$AN$119,10,FALSE) -> 0 | AV33: =VLOOKUP($B33,'[3]ACT DEN1'!$AB$2:$AN$119,11,FALSE) -> 0 | AW33: =VLOOKUP($B33,'[3]ACT DEN1'!$AB$2:$AN$119,12,FALSE) -> 0 | AY33: =SUM(AM33:AX33) -> 0
A34: 04102-COQUIMBO | B34: 105407-P.S.R. TAMBILLOS | E34: =VLOOKUP($B34,[1]NUM1!$G$2:$T$157,2,FALSE) -> 1 | F34: =VLOOKUP($B34,[1]NUM1!$G$2:$T$157,3,FALSE) -> 1 | G34: =VLOOKUP($B34,[1]NUM1!$G$2:$T$157,4,FALSE) -> 1 | H34: =VLOOKUP($B34,[1]NUM1!$G$2:$T$157,5,FALSE) -> 0 | I34: =VLOOKUP($B34,[1]NUM1!$G$2:$T$157,6,FALSE) -> 0 | J34: =VLOOKUP($B34,[1]NUM1!$G$2:$T$157,7,FALSE) -> 1 | K34: =VLOOKUP($B34,[1]NUM1!$G$2:$T$157,8,FALSE) -> 0 | L34: =VLOOKUP($B34,[1]NUM1!$G$2:$T$157,9,FALSE) -> 2 | M34: =VLOOKUP($B34,[1]NUM1!$G$2:$T$157,10,FALSE) -> 0 | N34: =VLOOKUP($B34,[1]NUM1!$G$2:$T$157,11,FALSE) -> 6 | O34: =VLOOKUP($B34,[1]NUM1!$G$2:$T$157,12,FALSE) -> 3 | P34: =VLOOKUP($B34,[1]NUM1!$G$2:$T$157,13,FALSE) -> 0 | Q34: =SUM(E34:P34) -> 15 | S34: 1 | T34: =+S34+(Z34+AA34+AB34)-(AM34+AN34+AO34) -> 1 | U34: =VLOOKUP($B34,[2]DEN1!$G$2:$I$157,2,FALSE) -> 1 | V34: =+U34+(AF34+AG34)-(AS34+AT34) -> 1 | W34: =+U34+(AF34+AG34+AH34+AI34)-(AS34+AT34+AU34+AV34) -> 1 | X34: =VLOOKUP($B34,[1]DEN1!$G$2:$I$159,2,FALSE) -> 1 | Z34: =VLOOKUP($B34,'[3]ACT DEN1'!$G$2:$S$143,2,FALSE) -> 0 | AA34: =VLOOKUP($B34,'[3]ACT DEN1'!$G$2:$S$143,3,FALSE) -> 0 | AB34: =VLOOKUP($B34,'[3]ACT DEN1'!$G$2:$S$143,4,FALSE) -> 0 | AC34: =VLOOKUP($B34,'[3]ACT DEN1'!$G$2:$S$143,5,FALSE) -> 0 | AD34: =VLOOKUP($B34,'[3]ACT DEN1'!$G$2:$S$143,6,FALSE) -> 0 | AE34: =VLOOKUP($B34,'[3]ACT DEN1'!$G$2:$S$143,7,FALSE) -> 0 | AF34: =VLOOKUP($B34,'[3]ACT DEN1'!$G$2:$S$143,8,FALSE) -> 0 | AG34: =VLOOKUP($B34,'[3]ACT DEN1'!$G$2:$S$143,9,FALSE) -> 0 | AH34: =VLOOKUP($B34,'[3]ACT DEN1'!$G$2:$S$143,10,FALSE) -> 0 | AI34: =VLOOKUP($B34,'[3]ACT DEN1'!$G$2:$S$143,11,FALSE) -> 0 | AJ34: =VLOOKUP($B34,'[3]ACT DEN1'!$G$2:$S$143,12,FALSE) -> 0 | AL34: =SUM(Z34:AK34) -> 0 | AM34: =VLOOKUP($B34,'[3]ACT DEN1'!$AB$2:$AN$119,2,FALSE) -> 0 | AN34: =VLOOKUP($B34,'[3]ACT DEN1'!$AB$2:$AN$119,3,FALSE) -> 0 | AO34: =VLOOKUP($B34,'[3]ACT DEN1'!$AB$2:$AN$119,4,FALSE) -> 0 | AP34: =VLOOKUP($B34,'[3]ACT DEN1'!$AB$2:$AN$119,5,FALSE) -> 0 | AQ34: =VLOOKUP($B34,'[3]ACT DEN1'!$AB$2:$AN$119,6,FALSE) -> 0 | AR34: =VLOOKUP($B34,'[3]ACT DEN1'!$AB$2:$AN$119,7,FALSE) -> 0 | AS34: =VLOOKUP($B34,'[3]ACT DEN1'!$AB$2:$AN$119,8,FALSE) -> 0 | AT34: =VLOOKUP($B34,'[3]ACT DEN1'!$AB$2:$AN$119,9,FALSE) -> 0 | AU34: =VLOOKUP($B34,'[3]ACT DEN1'!$AB$2:$AN$119,10,FALSE) -> 0 | AV34: =VLOOKUP($B34,'[3]ACT DEN1'!$AB$2:$AN$119,11,FALSE) -> 0 | AW34: =VLOOKUP($B34,'[3]ACT DEN1'!$AB$2:$AN$119,12,FALSE) -> 0 | AY34: =SUM(AM34:AX34) -> 0
