Workbook

Sheet RESUMEN 
A1: MINISTERIO DE SALUD
A2: SERVICIO DE SALUD COQUIMBO
A3: SUBDIRECCION DE GESTION ASISTENCIAL
A4: SUBDEPTO DE ESTADÍSTICA Y GESTIÓN DE LA INFORMACIÓN
A5: COMUNA | B5: RESUMEN DE CUMPLIMIENTO DE METAS A DICIEMBRE 2016
B6: CORTE A DICIEMBRE
B8: METAS COMPONENTE ACTIVIDAD GENERAL
B9: META Nº1 | C9: META Nº2 | D9: META Nº3 | E9: META Nº4 | F9: META Nº5 | G9: META Nº6 | H9: META Nº7 | I9: META Nº8 | J9: META Nº9 | K9: META Nº10 | L9: META Nº11 | M9: META Nº12 | N9: META Nº13 | O9: CUMPLIMIENTO GENERAL | P9: CUMPLIMIENTO META GES
B10: EMP hombres 20 a 44 años | C10: EMP mujeres de 45 a 64 años | D10: EMP 65 y mas años | E10: Control embarazada | F10: Alta odontologica menores de 20 años | G10: Gestion de reclamos | H10: Cobertura DM2 en personas de 15 y mas años | I10: Cobertutra HTA en personas de 15 y mas años | J10: Cobertura de Evaluación del desarrollo Psicomotor de niños/as de 12 a 23 meses bajo control | K10: Visita domiciliaria integral | L10: Cobertura de Atención de Asma en Población general y EPOC en personas de 40 años y más | M10: Cobertura de Atención Integral de trastornos mentales en personas de 5 y más años | N10: Cobertura de control de salud integral a adolescentes de 10 a 14 años
A12: LA SERENA | B12: =+'META 1'!$C$25 -> 0.69495658 | C12: =+'META 2'!$C$25 -> 0.79830716 | D12: =+'META 3'!$C$25 -> 0.84797755 | E12: =+'META 4'!$C$25 -> 1.0080587 | F12: =+'META 5'!$C$25 -> 0.84589299 | G12: =+'META 6'!$C$25 -> 1.0171585 | H12: =+'META 7'!$C$25 -> 0.87936628 | I12: =+'META 8'!$C$25 -> 0.83550369 | J12: =+'META 9'!$C$25 -> 1.0526316 | K12: =+'META 10'!$C$25 -> 0.98836001 | L12: =+'META 11'!$C$25 -> 0.58792905 | M12: =+'META 12'!$C$25 -> 1.0256709 | N12: =+'META 13'!$C$25 -> 1.0378648 | O12: =+B42*8%+C42*8%+D42*8%+E42*7%+F42*8%+G42*7%+H42*8%+I42*8%+J42*8%+K42*7%+L42*8%+M42*8%+N42*7% -> 0.87837987
A13: COQUIMBO | B13: =+'META 1'!$C$36 -> 0.97002941 | C13: =+'META 2'!$C$36 -> 1.0611989 | D13: =+'META 3'!$C$36 -> 0.95691813 | E13: =+'META 4'!$C$36 -> 0.95801041 | F13: =+'META 5'!$C$36 -> 0.92251254 | G13: =+'META 6'!$C$36 -> 1.0184229 | H13: =+'META 7'!$C$36 -> 1.0369457 | I13: =+'META 8'!$C$36 -> 0.98750967 | J13: =+'META 9'!$C$36 -> 0.99319988 | K13: =+'META 10'!$C$36 -> 0.93450646 | L13: =+'META 11'!$C$36 -> 0.71601976 | M13: =+'META 12'!$C$36 -> 0.84655317 | N13: =+'META 13'!$C$36 -> 1.0707241 | O13: =+B43*8%+C43*8%+D43*8%+E43*7%+F43*8%+G43*7%+H43*8%+I43*8%+J43*8%+K43*7%+L43*8%+M43*8%+N43*7% -> 0.94389558
A14: VICUÑA | B14: =+'META 1'!$C$47 -> 1.0274054 | C14: =+'META 2'!$C$47 -> 1.0036765 | D14: =+'META 3'!$C$47 -> 0.80414291 | E14: =+'META 4'!$C$47 -> 0.9344921 | F14: =+'META 5'!$C$47 -> 1.0288923 | G14: =+'META 6'!$C$47 -> 1.0204082 | H14: =+'META 7'!$C$47 -> 1.1128386 | I14: =+'META 8'!$C$47 -> 1.0242487 | J14: =+'META 9'!$C$47 -> 1.0034364 | K14: =+'META 10'!$C$47 -> 1.4508057 | L14: =+'META 11'!$C$47 -> 0.94911074 | M14: =+'META 12'!$C$47 -> 1.3253881 | N14: =+'META 13'!$C$47 -> 1.0534781 | O14: =+B44*8%+C44*8%+D44*8%+E44*7%+F44*8%+G44*7%+H44*8%+I44*8%+J44*8%+K44*7%+L44*8%+M44*8%+N44*7% -> 0.97567474
A15: ILLAPEL | B15: =+'META 1'!$C$61 -> 1.0004876 | C15: =+'META 2'!$C$61 -> 0.99805849 | D15: =+'META 3'!$C$61 -> 1.0540378 | E15: =+'META 4'!$C$61 -> 1.0295617 | F15: =+'META 5'!$C$61 -> 0.92051115 | G15: =+'META 6'!$C$61 -> 1.0204082 | H15: =+'META 7'!$C$61 -> 1.0079375 | I15: =+'META 8'!$C$61 -> 1.0086298 | J15: =+'META 9'!$C$61 -> 1.0129987 | K15: =+'META 10'!$C$61 -> 1.1918022 | L15: =+'META 11'!$C$61 -> 0.97081113 | M15: =+'META 12'!$C$61 -> 1.2533422 | N15: =+'META 13'!$C$61 -> 1.1045365 | O15: =+B45*8%+C45*8%+D45*8%+E45*7%+F45*8%+G45*7%+H45*8%+I45*8%+J45*8%+K45*7%+L45*8%+M45*8%+N45*7% -> 0.99115046
A16: CANELA | B16: =+'META 1'!$C$72 -> 0.92923057 | C16: =+'META 2'!$C$72 -> 0.90273733 | D16: =+'META 3'!$C$72 -> 1.137583 | E16: =+'META 4'!$C$72 -> 0.96277279 | F16: =+'META 5'!$C$72 -> 0.84965928 | G16: =+'META 6'!$C$72 -> 1.0204082 | H16: =+'META 7'!$C$72 -> 1.0218377 | I16: =+'META 8'!$C$72 -> 0.99074254 | J16: =+'META 9'!$C$72 -> 0.9787234 | K16: =+'META 10'!$C$72 -> 0.87912088 | L16: =+'META 11'!$C$72 -> 0.61060464 | M16: =+'META 12'!$C$72 -> 0.74510121 | N16: =+'META 13'!$C$72 -> 1.0200927 | O16: =+B46*8%+C46*8%+D46*8%+E46*7%+F46*8%+G46*7%+H46*8%+I46*8%+J46*8%+K46*7%+L46*8%+M46*8%+N46*7% -> 0.90947648
A17: LOS VILOS | B17: =+'META 1'!$C$78 -> 1.0447761 | C17: =+'META 2'!$C$78 -> 1.0968761 | D17: =+'META 3'!$C$78 -> 0.98924731 | E17: =+'META 4'!$C$78 -> 1.0378827 | F17: =+'META 5'!$C$78 -> 1.2908599 | G17: =+'META 6'!$C$78 -> 1.0204082 | H17: =+'META 7'!$C$78 -> 0.99421845 | I17: =+'META 8'!$C$78 -> 1.0361001 | J17: =+'META 9'!$C$78 -> 0.97666848 | K17: =+'META 10'!$C$78 -> 1.0124873 | L17: =+'META 11'!$C$78 -> 0.82041702 | M17: =+'META 12'!$C$78 -> 1.0106106 | N17: =+'META 13'!$C$78 -> 1.0793651 | O17: =+B47*8%+C47*8%+D47*8%+E47*7%+F47*8%+G47*7%+H47*8%+I47*8%+J47*8%+K47*7%+L47*8%+M47*8%+N47*7% -> 0.9824441
A18: SALAMANCA | B18: =+'META 1'!$C$89 -> 1.0512452 | C18: =+'META 2'!$C$89 -> 1.0662838 | D18: =+'META 3'!$C$89 -> 0.99473062 | E18: =+'META 4'!$C$89 -> 1.0026901 | F18: =+'META 5'!$C$89 -> 1.2511784 | G18: =+'META 6'!$C$89 -> 1.0204082 | H18: =+'META 7'!$C$89 -> 1.0147722 | I18: =+'META 8'!$C$89 -> 1.0250755 | J18: =+'META 9'!$C$89 -> 1.2524495 | K18: =+'META 10'!$C$89 -> 1.2325647 | L18: =+'META 11'!$C$89 -> 1.0098115 | M18: =+'META 12'!$C$89 -> 1.0640714 | N18: =+'META 13'!$C$89 -> 1.8635478 | O18: =+B48*8%+C48*8%+D48*8%+E48*7%+F48*8%+G48*7%+H48*8%+I48*8%+J48*8%+K48*7%+L48*8%+M48*8%+N48*7% -> 0.99957845
A19: OVALLE | B19: =+'META 1'!$C$106 -> 0.99774867 | C19: =+'META 2'!$C$106 -> 1.06894 | D19: =+'META 3'!$C$106 -> 0.95279084 | E19: =+'META 4'!$C$106 -> 1.0015247 | F19: =+'META 5'!$C$106 -> 1.0613485 | G19: =+'META 6'!$C$106 -> 1.0204082 | H19: =+'META 7'!$C$106 -> 1.0574132 | I19: =+'META 8'!$C$106 -> 1.0348152 | J19: =+'META 9'!$C$106 -> 1.0914302 | K19: =+'META 10'!$C$106 -> 0.70740417 | L19: =+'META 11'!$C$106 -> 0.79266871 | M19: =+'META 12'!$C$106 -> 1.0716978 | N19: =+'META 13'!$C$106 -> 1.2243047 | O19: =+B49*8%+C49*8%+D49*8%+E49*7%+F49*8%+G49*7%+H49*8%+I49*8%+J49*8%+K49*7%+L49*8%+M49*8%+N49*7% -> 0.95897495
A20: COMBARBALÁ | B20: =+'META 1'!$C$119 -> 0.79949239 | C20: =+'META 2'!$C$119 -> 0.88385099 | D20: =+'META 3'!$C$119 -> 1.0727911 | E20: =+'META 4'!$C$119 -> 1.0670732 | F20: =+'META 5'!$C$119 -> 1.0779981 | G20: =+'META 6'!$C$119 -> 1.0204082 | H20: =+'META 7'!$C$119 -> 1.0544149 | I20: =+'META 8'!$C$119 -> 0.99921028 | J20: =+'META 9'!$C$119 -> 1.1012184 | K20: =+'META 10'!$C$119 -> 1.1950402 | L20: =+'META 11'!$C$119 -> 0.80156275 | M20: =+'META 12'!$C$119 -> 0.96693909 | N20: =+'META 13'!$C$119 -> 1.0989011 | O20: =+B50*8%+C50*8%+D50*8%+E50*7%+F50*8%+G50*7%+H50*8%+I50*8%+J50*8%+K50*7%+L50*8%+M50*8%+N50*7% -> 0.95608444
A21: MONTE PATRIA | B21: =+'META 1'!$C$133 -> 1.0021065 | C21: =+'META 2'!$C$133 -> 1.0784944 | D21: =+'META 3'!$C$133 -> 0.99206869 | E21: =+'META 4'!$C$133 -> 1.0116287 | F21: =+'META 5'!$C$133 -> 1.0443431 | G21: =+'META 6'!$C$133 -> 1.0204082 | H21: =+'META 7'!$C$133 -> 1.1611563 | I21: =+'META 8'!$C$133 -> 0.99065213 | J21: =+'META 9'!$C$133 -> 1.0542241 | K21: =+'META 10'!$C$133 -> 0.87547194 | L21: =+'META 11'!$C$133 -> 0.761658 | M21: =+'META 12'!$C$133 -> 0.96205021 | N21: =+'META 13'!$C$133 -> 1.1426797 | O21: =+B51*8%+C51*8%+D51*8%+E51*7%+F51*8%+G51*7%+H51*8%+I51*8%+J51*8%+K51*7%+L51*8%+M51*8%+N51*7% -> 0.96779736
A22: PUNITAQUI | B22: =+'META 1'!$C$138 -> 0.77822248 | C22: =+'META 2'!$C$138 -> 1.0588843 | D22: =+'META 3'!$C$138 -> 0.85332642 | E22: =+'META 4'!$C$138 -> 0.98372258 | F22: =+'META 5'!$C$138 -> 0.93632959 | G22: =+'META 6'!$C$138 -> 1.0204082 | H22: =+'META 7'!$C$138 -> 1.0904776 | I22: =+'META 8'!$C$138 -> 1.0552715 | J22: =+'META 9'!$C$138 -> 1.1073784 | K22: =+'META 10'!$C$138 -> 1.0978628 | L22: =+'META 11'!$C$138 -> 0.93028175 | M22: =+'META 12'!$C$138 -> 0.97209552 | N22: =+'META 13'!$C$138 -> 1.2681663 | O22: =+B52*8%+C52*8%+D52*8%+E52*7%+F52*8%+G52*7%+H52*8%+I52*8%+J52*8%+K52*7%+L52*8%+M52*8%+N52*7% -> 0.95648104
A23: RIO HURTADO | B23: =+'META 1'!$C$146 -> 1.0170807 | C23: =+'META 2'!$C$146 -> 1.0026738 | D23: =+'META 3'!$C$146 -> 1.0076349 | E23: =+'META 4'!$C$146 -> 0.99409755 | F23: =+'META 5'!$C$146 -> 0.99775846 | G23: =+'META 6'!$C$146 -> 1.0204082 | H23: =+'META 7'!$C$146 -> 0.96409562 | I23: =+'META 8'!$C$146 -> 0.96109802 | J23: =+'META 9'!$C$146 -> 1.0030649 | K23: =+'META 10'!$C$146 -> 1.0860192 | L23: =+'META 11'!$C$146 -> 0.99133883 | M23: =+'META 12'!$C$146 -> 0.88825258 | N23: =+'META 13'!$C$146 -> 1.5846995 | O23: =+B53*8%+C53*8%+D53*8%+E53*7%+F53*8%+G53*7%+H53*8%+I53*8%+J53*8%+K53*7%+L53*8%+M53*8%+N53*7% -> 0.98379031
A31: MINISTERIO DE SALUD
A32: SERVICIO DE SALUD COQUIMBO
A33: SUBDIRECCION DE GESTION ASISTENCIAL
A34: SUBDEPTO DE ESTADÍSTICA Y GESTIÓN DE LA INFORMACIÓN
A35: COMUNA | B35: RESUMEN DE CUMPLIMIENTO DE METAS A JUNIO 2016
B37: CORTE A JUNIO
B38: METAS COMPONENTE ACTIVIDAD GENERAL
B39: META Nº1 | C39: META Nº2 | D39: META Nº3 | E39: META Nº4 | F39: META Nº5 | G39: META Nº6 | H39: META Nº7 | I39: META Nº8 | J39: META Nº9 | K39: META Nº10 | L39: META Nº11 | M39: META Nº12 | N39: META Nº13
B40: EMP hombres 20 a 44 años | C40: EMP mujeres de 45 a 64 años | D40: EMP 65 y mas años | E40: Control embarazada | F40: Alta odontologica menores de 20 años | G40: Gestion de reclamos | H40: Cobertura DM2 en personas de 15 y mas años | I40: Cobertutra HTA en personas de 15 y mas años | J40: Cobertura de Evaluación del desarrollo Psicomotor de niños/as de 12 a 23 meses bajo control | K40: Visita domiciliaria integral | L40: Cobertura de Atención de Asma en Población general y EPOC en personas de 40 años y más | M40: Cobertura de Atención Integral de trastornos mentales en personas de 5 y más años | N40: Cobertura de control de salud integral a adolescentes de 10 a 14 años
A42: LA SERENA | B42: =IF(B12="n/a","n/a",IF(B12="","",IF(B12>1,1,B12))) -> 0.69495658 | C42: =IF(C12="n/a","n/a",IF(C12="","",IF(C12>1,1,C12))) -> 0.79830716 | D42: =IF(D12="n/a","n/a",IF(D12="","",IF(D12>1,1,D12))) -> 0.84797755 | E42: =IF(E12="n/a","n/a",IF(E12="","",IF(E12>1,1,E12))) -> 1 | F42: =IF(F12="n/a","n/a",IF(F12="","",IF(F12>1,1,F12))) -> 0.84589299 | G42: =IF(G12="n/a","n/a",IF(G12="","",IF(G12>1,1,G12))) -> 1 | H42: =IF(H12="n/a","n/a",IF(H12="","",IF(H12>1,1,H12))) -> 0.87936628 | I42: =IF(I12="n/a","n/a",IF(I12="","",IF(I12>1,1,I12))) -> 0.83550369 | ... N42: =IF(N12="n/a","n/a",IF(N12="","",IF(N12>1,1,N12))) -> 1
A43: COQUIMBO | B43: =IF(B13="n/a","n/a",IF(B13="","",IF(B13>1,1,B13))) -> 0.97002941 | C43: =IF(C13="n/a","n/a",IF(C13="","",IF(C13>1,1,C13))) -> 1 | D43: =IF(D13="n/a","n/a",IF(D13="","",IF(D13>1,1,D13))) -> 0.95691813 | E43: =IF(E13="n/a","n/a",IF(E13="","",IF(E13>1,1,E13))) -> 0.95801041 | F43: =IF(F13="n/a","n/a",IF(F13="","",IF(F13>1,1,F13))) -> 0.92251254 | G43: =IF(G13="n/a","n/a",IF(G13="","",IF(G13>1,1,G13))) -> 1 | H43: =IF(H13="n/a","n/a",IF(H13="","",IF(H13>1,1,H13))) -> 1 | I43: =IF(I13="n/a","n/a",IF(I13="","",IF(I13>1,1,I13))) -> 0.98750967 | ... N43: =IF(N13="n/a","n/a",IF(N13="","",IF(N13>1,1,N13))) -> 1
A44: VICUÑA | B44: =IF(B14="n/a","n/a",IF(B14="","",IF(B14>1,1,B14))) -> 1 | C44: =IF(C14="n/a","n/a",IF(C14="","",IF(C14>1,1,C14))) -> 1 | D44: =IF(D14="n/a","n/a",IF(D14="","",IF(D14>1,1,D14))) -> 0.80414291 | E44: =IF(E14="n/a","n/a",IF(E14="","",IF(E14>1,1,E14))) -> 0.9344921 | F44: =IF(F14="n/a","n/a",IF(F14="","",IF(F14>1,1,F14))) -> 1 | G44: =IF(G14="n/a","n/a",IF(G14="","",IF(G14>1,1,G14))) -> 1 | H44: =IF(H14="n/a","n/a",IF(H14="","",IF(H14>1,1,H14))) -> 1 | I44: =IF(I14="n/a","n/a",IF(I14="","",IF(I14>1,1,I14))) -> 1 | ... N44: =IF(N14="n/a","n/a",IF(N14="","",IF(N14>1,1,N14))) -> 1
A45: ILLAPEL | B45: =IF(B15="n/a","n/a",IF(B15="","",IF(B15>1,1,B15))) -> 1 | C45: =IF(C15="n/a","n/a",IF(C15="","",IF(C15>1,1,C15))) -> 0.99805849 | D45: =IF(D15="n/a","n/a",IF(D15="","",IF(D15>1,1,D15))) -> 1 | E45: =IF(E15="n/a","n/a",IF(E15="","",IF(E15>1,1,E15))) -> 1 | F45: =IF(F15="n/a","n/a",IF(F15="","",IF(F15>1,1,F15))) -> 0.92051115 | G45: =IF(G15="n/a","n/a",IF(G15="","",IF(G15>1,1,G15))) -> 1 | H45: =IF(H15="n/a","n/a",IF(H15="","",IF(H15>1,1,H15))) -> 1 | I45: =IF(I15="n/a","n/a",IF(I15="","",IF(I15>1,1,I15))) -> 1 | ... N45: =IF(N15="n/a","n/a",IF(N15="","",IF(N15>1,1,N15))) -> 1
A46: CANELA | B46: =IF(B16="n/a","n/a",IF(B16="","",IF(B16>1,1,B16))) -> 0.92923057 | C46: =IF(C16="n/a","n/a",IF(C16="","",IF(C16>1,1,C16))) -> 0.90273733 | D46: =IF(D16="n/a","n/a",IF(D16="","",IF(D16>1,1,D16))) -> 1 | E46: =IF(E16="n/a","n/a",IF(E16="","",IF(E16>1,1,E16))) -> 0.96277279 | F46: =IF(F16="n/a","n/a",IF(F16="","",IF(F16>1,1,F16))) -> 0.84965928 | G46: =IF(G16="n/a","n/a",IF(G16="","",IF(G16>1,1,G16))) -> 1 | H46: =IF(H16="n/a","n/a",IF(H16="","",IF(H16>1,1,H16))) -> 1 | I46: =IF(I16="n/a","n/a",IF(I16="","",IF(I16>1,1,I16))) -> 0.99074254 | ... N46: =IF(N16="n/a","n/a",IF(N16="","",IF(N16>1,1,N16))) -> 1
A47: LOS VILOS | B47: =IF(B17="n/a","n/a",IF(B17="","",IF(B17>1,1,B17))) -> 1 | C47: =IF(C17="n/a","n/a",IF(C17="","",IF(C17>1,1,C17))) -> 1 | D47: =IF(D17="n/a","n/a",IF(D17="","",IF(D17>1,1,D17))) -> 0.98924731 | E47: =IF(E17="n/a","n/a",IF(E17="","",IF(E17>1,1,E17))) -> 1 | F47: =IF(F17="n/a","n/a",IF(F17="","",IF(F17>1,1,F17))) -> 1 | G47: =IF(G17="n/a","n/a",IF(G17="","",IF(G17>1,1,G17))) -> 1 | H47: =IF(H17="n/a","n/a",IF(H17="","",IF(H17>1,1,H17))) -> 0.99421845 | I47: =IF(I17="n/a","n/a",IF(I17="","",IF(I17>1,1,I17))) -> 1 | ... N47: =IF(N17="n/a","n/a",IF(N17="","",IF(N17>1,1,N17))) -> 1
A48: SALAMANCA | B48: =IF(B18="n/a","n/a",IF(B18="","",IF(B18>1,1,B18))) -> 1 | C48: =IF(C18="n/a","n/a",IF(C18="","",IF(C18>1,1,C18))) -> 1 | D48: =IF(D18="n/a","n/a",IF(D18="","",IF(D18>1,1,D18))) -> 0.99473062 | E48: =IF(E18="n/a","n/a",IF(E18="","",IF(E18>1,1,E18))) -> 1 | F48: =IF(F18="n/a","n/a",IF(F18="","",IF(F18>1,1,F18))) -> 1 | G48: =IF(G18="n/a","n/a",IF(G18="","",IF(G18>1,1,G18))) -> 1 | H48: =IF(H18="n/a","n/a",IF(H18="","",IF(H18>1,1,H18))) -> 1 | I48: =IF(I18="n/a","n/a",IF(I18="","",IF(I18>1,1,I18))) -> 1 | ... N48: =IF(N18="n/a","n/a",IF(N18="","",IF(N18>1,1,N18))) -> 1
A49: OVALLE | B49: =IF(B19="n/a","n/a",IF(B19="","",IF(B19>1,1,B19))) -> 0.99774867 | C49: =IF(C19="n/a","n/a",IF(C19="","",IF(C19>1,1,C19))) -> 1 | D49: =IF(D19="n/a","n/a",IF(D19="","",IF(D19>1,1,D19))) -> 0.95279084 | E49: =IF(E19="n/a","n/a",IF(E19="","",IF(E19>1,1,E19))) -> 1 | F49: =IF(F19="n/a","n/a",IF(F19="","",IF(F19>1,1,F19))) -> 1 | G49: =IF(G19="n/a","n/a",IF(G19="","",IF(G19>1,1,G19))) -> 1 | H49: =IF(H19="n/a","n/a",IF(H19="","",IF(H19>1,1,H19))) -> 1 | I49: =IF(I19="n/a","n/a",IF(I19="","",IF(I19>1,1,I19))) -> 1 | ... N49: =IF(N19="n/a","n/a",IF(N19="","",IF(N19>1,1,N19))) -> 1
A50: COMBARBALÁ | B50: =IF(B20="n/a","n/a",IF(B20="","",IF(B20>1,1,B20))) -> 0.79949239 | C50: =IF(C20="n/a","n/a",IF(C20="","",IF(C20>1,1,C20))) -> 0.88385099 | D50: =IF(D20="n/a","n/a",IF(D20="","",IF(D20>1,1,D20))) -> 1 | E50: =IF(E20="n/a","n/a",IF(E20="","",IF(E20>1,1,E20))) -> 1 | F50: =IF(F20="n/a","n/a",IF(F20="","",IF(F20>1,1,F20))) -> 1 | G50: =IF(G20="n/a","n/a",IF(G20="","",IF(G20>1,1,G20))) -> 1 | H50: =IF(H20="n/a","n/a",IF(H20="","",IF(H20>1,1,H20))) -> 1 | I50: =IF(I20="n/a","n/a",IF(I20="","",IF(I20>1,1,I20))) -> 0.99921028 | ... N50: =IF(N20="n/a","n/a",IF(N20="","",IF(N20>1,1,N20))) -> 1
A51: MONTE PATRIA | B51: =IF(B21="n/a","n/a",IF(B21="","",IF(B21>1,1,B21))) -> 1 | C51: =IF(C21="n/a","n/a",IF(C21="","",IF(C21>1,1,C21))) -> 1 | D51: =IF(D21="n/a","n/a",IF(D21="","",IF(D21>1,1,D21))) -> 0.99206869 | E51: =IF(E21="n/a","n/a",IF(E21="","",IF(E21>1,1,E21))) -> 1 | F51: =IF(F21="n/a","n/a",IF(F21="","",IF(F21>1,1,F21))) -> 1 | G51: =IF(G21="n/a","n/a",IF(G21="","",IF(G21>1,1,G21))) -> 1 | H51: =IF(H21="n/a","n/a",IF(H21="","",IF(H21>1,1,H21))) -> 1 | I51: =IF(I21="n/a","n/a",IF(I21="","",IF(I21>1,1,I21))) -> 0.99065213 | ... N51: =IF(N21="n/a","n/a",IF(N21="","",IF(N21>1,1,N21))) -> 1
A52: PUNITAQUI | B52: =IF(B22="n/a","n/a",IF(B22="","",IF(B22>1,1,B22))) -> 0.77822248 | C52: =IF(C22="n/a","n/a",IF(C22="","",IF(C22>1,1,C22))) -> 1 | D52: =IF(D22="n/a","n/a",IF(D22="","",IF(D22>1,1,D22))) -> 0.85332642 | E52: =IF(E22="n/a","n/a",IF(E22="","",IF(E22>1,1,E22))) -> 0.98372258 | F52: =IF(F22="n/a","n/a",IF(F22="","",IF(F22>1,1,F22))) -> 0.93632959 | G52: =IF(G22="n/a","n/a",IF(G22="","",IF(G22>1,1,G22))) -> 1 | H52: =IF(H22="n/a","n/a",IF(H22="","",IF(H22>1,1,H22))) -> 1 | I52: =IF(I22="n/a","n/a",IF(I22="","",IF(I22>1,1,I22))) -> 1 | ... N52: =IF(N22="n/a","n/a",IF(N22="","",IF(N22>1,1,N22))) -> 1
A53: RIO HURTADO | B53: =IF(B23="n/a","n/a",IF(B23="","",IF(B23>1,1,B23))) -> 1 | C53: =IF(C23="n/a","n/a",IF(C23="","",IF(C23>1,1,C23))) -> 1 | D53: =IF(D23="n/a","n/a",IF(D23="","",IF(D23>1,1,D23))) -> 1 | E53: =IF(E23="n/a","n/a",IF(E23="","",IF(E23>1,1,E23))) -> 0.99409755 | F53: =IF(F23="n/a","n/a",IF(F23="","",IF(F23>1,1,F23))) -> 0.99775846 | G53: =IF(G23="n/a","n/a",IF(G23="","",IF(G23>1,1,G23))) -> 1 | H53: =IF(H23="n/a","n/a",IF(H23="","",IF(H23>1,1,H23))) -> 0.96409562 | I53: =IF(I23="n/a","n/a",IF(I23="","",IF(I23>1,1,I23))) -> 0.96109802 | ... N53: =IF(N23="n/a","n/a",IF(N23="","",IF(N23>1,1,N23))) -> 1

Sheet META 1
A1: COMUNA | B1: ESTABLECIMIENTO | C1: CUMPLIMIENTO | D1: Indicador | E1: META 1: COBERTURA EXAMEN DE MEDICINA PREVENTIVA (EMP), EN HOMBRES DE 20 A 44 AÑOS
E2: NUMERADOR | R2: DENOMINADOR
E10: Nº Examen de Medicina Preventiva (EMP) realizado en población masculina de 20 a 44 años | R10: Población masculina de 20 a 44 años inscrita, menos población bajo control en Programa Salud Cardiovascular | S10: Población masculina de 20 a 44 años bajo control en programa de salud cardiovascular | Y10: Población masculina de 20 a 44 años inscrita | Z10: Ingresos de población masculina al PSCV de 20 y 44 años | AM10: Egresos de población masculina al PSCV de 20 y 44 años
D11: Resultado | E11: ENERO | F11: FEBRERO | G11: MARZO | H11: ABRIL | I11: MAYO | J11: JUNIO | K11: JULIO | L11: AGOSTO | M11: SEPBRE | N11: OCTBRE | O11: NOVBRE | P11: DICBRE | Q11: TOTAL | S11: A DIC 2015 | T11: A MARZO | U11: A JUNIO | V11: A AGOSTO | W11: A OCTBRE | X11: A DICBRE | Y11: AÑO 2016 | Z11: ENERO | AA11: FEBRERO | AB11: MARZO | AC11: ABRIL | AD11: MAYO | AE11: JUNIO | AF11: JULIO | AG11: AGOSTO | AH11: SEPBRE | AI11: OCTBRE | AJ11: NOVBRE | AK11: DICBRE | AL11: TOTAL | AM11: ENERO | AN11: FEBRERO | AO11: MARZO | AP11: ABRIL | AQ11: MAYO | AR11: JUNIO | AS11: JULIO | AT11: AGOSTO | AU11: SEPBRE | AV11: OCTBRE | AW11: NOVBRE | AX11: DICBRE | AY11: TOTAL
A12: 04101-LA SERENA | B12: 105300-CES. CARDENAL CARO | E12: =VLOOKUP($B12,[1]NUM1!$G$2:$S$149,2,FALSE) -> 2 | F12: =VLOOKUP($B12,[1]NUM1!$G$2:$S$149,3,FALSE) -> 9 | G12: =VLOOKUP($B12,[1]NUM1!$G$2:$S$149,4,FALSE) -> 18 | H12: =VLOOKUP($B12,[1]NUM1!$G$2:$S$149,5,FALSE) -> 28 | I12: =VLOOKUP($B12,[1]NUM1!$G$2:$S$149,6,FALSE) -> 32 | J12: =VLOOKUP($B12,[1]NUM1!$G$2:$S$149,7,FALSE) -> 3 | K12: =VLOOKUP($B12,[1]NUM1!$G$2:$S$149,8,FALSE) -> 5 | L12: =VLOOKUP($B12,[1]NUM1!$G$2:$S$149,9,FALSE) -> 7 | M12: =VLOOKUP($B12,[1]NUM1!$G$2:$S$149,10,FALSE) -> 204 | N12: =VLOOKUP($B12,[1]NUM1!$G$2:$S$149,11,FALSE) -> 25 | O12: =VLOOKUP($B12,[1]NUM1!$G$2:$S$149,12,FALSE) -> 8 | P12: =VLOOKUP($B12,[1]NUM1!$G$2:$S$149,13,FALSE) -> 2 | Q12: =SUM(E12:P12) -> 343 | S12: 58 | T12: =+S12+(Z12+AA12+AB12)-(AM12+AN12+AO12) -> 57 | U12: =VLOOKUP($B12,[2]DEN1!$G$2:$I$157,2,FALSE) -> 38 | V12: =+U12+(AF12+AG12)-(AS12+AT12) -> 32 | W12: =+U12+(AF12+AG12+AH12+AI12)-(AS12+AT12+AU12+AV12) -> 32 | X12: =VLOOKUP($B12,[1]DEN1!$G$2:$I$159,2,FALSE) -> 63 | AL12: =SUM(Z12:AK12) -> 0 | AM12: =VLOOKUP($B12,'[3]ACT DEN1'!$AB$2:$AN$119,2,FALSE) -> 0 | AN12: =VLOOKUP($B12,'[3]ACT DEN1'!$AB$2:$AN$119,3,FALSE) -> 0 | AO12: =VLOOKUP($B12,'[3]ACT DEN1'!$AB$2:$AN$119,4,FALSE) -> 1 | AP12: =VLOOKUP($B12,'[3]ACT DEN1'!$AB$2:$AN$119,5,FALSE) -> 5 | AQ12: =VLOOKUP($B12,'[3]ACT DEN1'!$AB$2:$AN$119,6,FALSE) -> 1 | AR12: =VLOOKUP($B12,'[3]ACT DEN1'!$AB$2:$AN$119,7,FALSE) -> 0 | AS12: =VLOOKUP($B12,'[3]ACT DEN1'!$AB$2:$AN$119,8,FALSE) -> 2 | AT12: =VLOOKUP($B12,'[3]ACT DEN1'!$AB$2:$AN$119,9,FALSE) -> 4 | AU12: =VLOOKUP($B12,'[3]ACT DEN1'!$AB$2:$AN$119,10,FALSE) -> 0 | AV12: =VLOOKUP($B12,'[3]ACT DEN1'!$AB$2:$AN$119,11,FALSE) -> 0 | AW12: =VLOOKUP($B12,'[3]ACT DEN1'!$AB$2:$AN$119,12,FALSE) -> 0 | AY12: =SUM(AM12:AX12) -> 13
A13: 04101-LA SERENA | B13: 105301-CES. LAS COMPAÑIAS | E13: =VLOOKUP($B13,[1]NUM1!$G$2:$T$157,2,FALSE) -> 7 | F13: =VLOOKUP($B13,[1]NUM1!$G$2:$T$157,3,FALSE) -> 17 | G13: =VLOOKUP($B13,[1]NUM1!$G$2:$T$157,4,FALSE) -> 80 | H13: =VLOOKUP($B13,[1]NUM1!$G$2:$T$157,5,FALSE) -> 137 | I13: =VLOOKUP($B13,[1]NUM1!$G$2:$T$157,6,FALSE) -> 79 | J13: =VLOOKUP($B13,[1]NUM1!$G$2:$T$157,7,FALSE) -> 16 | K13: =VLOOKUP($B13,[1]NUM1!$G$2:$T$157,8,FALSE) -> 46 | L13: =VLOOKUP($B13,[1]NUM1!$G$2:$T$157,9,FALSE) -> 15 | M13: =VLOOKUP($B13,[1]NUM1!$G$2:$T$157,10,FALSE) -> 26 | N13: =VLOOKUP($B13,[1]NUM1!$G$2:$T$157,11,FALSE) -> 49 | O13: =VLOOKUP($B13,[1]NUM1!$G$2:$T$157,12,FALSE) -> 5 | P13: =VLOOKUP($B13,[1]NUM1!$G$2:$T$157,13,FALSE) -> 9 | Q13: =SUM(E13:P13) -> 486 | S13: 38 | T13: =+S13+(Z13+AA13+AB13)-(AM13+AN13+AO13) -> 35 | U13: =VLOOKUP($B13,[2]DEN1!$G$2:$I$157,2,FALSE) -> 40 | V13: =+U13+(AF13+AG13)-(AS13+AT13) -> 35 | W13: =+U13+(AF13+AG13+AH13+AI13)-(AS13+AT13+AU13+AV13) -> 32 | X13: =VLOOKUP($B13,[1]DEN1!$G$2:$I$159,2,FALSE) -> 47 | AL13: =SUM(Z13:AK13) -> 0 | AM13: =VLOOKUP($B13,'[3]ACT DEN1'!$AB$2:$AN$119,2,FALSE) -> 0 | AN13: =VLOOKUP($B13,'[3]ACT DEN1'!$AB$2:$AN$119,3,FALSE) -> 3 | AO13: =VLOOKUP($B13,'[3]ACT DEN1'!$AB$2:$AN$119,4,FALSE) -> 0 | AP13: =VLOOKUP($B13,'[3]ACT DEN1'!$AB$2:$AN$119,5,FALSE) -> 0 | AQ13: =VLOOKUP($B13,'[3]ACT DEN1'!$AB$2:$AN$119,6,FALSE) -> 2 | AR13: =VLOOKUP($B13,'[3]ACT DEN1'!$AB$2:$AN$119,7,FALSE) -> 4 | AS13: =VLOOKUP($B13,'[3]ACT DEN1'!$AB$2:$AN$119,8,FALSE) -> 3 | AT13: =VLOOKUP($B13,'[3]ACT DEN1'!$AB$2:$AN$119,9,FALSE) -> 2 | AU13: =VLOOKUP($B13,'[3]ACT DEN1'!$AB$2:$AN$119,10,FALSE) -> 3 | AV13: =VLOOKUP($B13,'[3]ACT DEN1'!$AB$2:$AN$119,11,FALSE) -> 0 | AW13: =VLOOKUP($B13,'[3]ACT DEN1'!$AB$2:$AN$119,12,FALSE) -> 3 | AY13: =SUM(AM13:AX13) -> 20
A14: 04101-LA SERENA | B14: 105302-CES. PEDRO AGUIRRE C. | E14: =VLOOKUP($B14,[1]NUM1!$G$2:$T$157,2,FALSE) -> 11 | F14: =VLOOKUP($B14,[1]NUM1!$G$2:$T$157,3,FALSE) -> 22 | G14: =VLOOKUP($B14,[1]NUM1!$G$2:$T$157,4,FALSE) -> 71 | H14: =VLOOKUP($B14,[1]NUM1!$G$2:$T$157,5,FALSE) -> 46 | I14: =VLOOKUP($B14,[1]NUM1!$G$2:$T$157,6,FALSE) -> 40 | J14: =VLOOKUP($B14,[1]NUM1!$G$2:$T$157,7,FALSE) -> 23 | K14: =VLOOKUP($B14,[1]NUM1!$G$2:$T$157,8,FALSE) -> 56 | L14: =VLOOKUP($B14,[1]NUM1!$G$2:$T$157,9,FALSE) -> 43 | M14: =VLOOKUP($B14,[1]NUM1!$G$2:$T$157,10,FALSE) -> 71 | N14: =VLOOKUP($B14,[1]NUM1!$G$2:$T$157,11,FALSE) -> 43 | O14: =VLOOKUP($B14,[1]NUM1!$G$2:$T$157,12,FALSE) -> 13 | P14: =VLOOKUP($B14,[1]NUM1!$G$2:$T$157,13,FALSE) -> 23 | Q14: =SUM(E14:P14) -> 462 | S14: 85 | T14: =+S14+(Z14+AA14+AB14)-(AM14+AN14+AO14) -> 85 | U14: =VLOOKUP($B14,[2]DEN1!$G$2:$I$157,2,FALSE) -> 73 | V14: =+U14+(AF14+AG14)-(AS14+AT14) -> 71 | W14: =+U14+(AF14+AG14+AH14+AI14)-(AS14+AT14+AU14+AV14) -> 68 | X14: =VLOOKUP($B14,[1]DEN1!$G$2:$I$159,2,FALSE) -> 68 | AL14: =SUM(Z14:AK14) -> 0 | AM14: =VLOOKUP($B14,'[3]ACT DEN1'!$AB$2:$AN$119,2,FALSE) -> 0 | AN14: =VLOOKUP($B14,'[3]ACT DEN1'!$AB$2:$AN$119,3,FALSE) -> 0 | AO14: =VLOOKUP($B14,'[3]ACT DEN1'!$AB$2:$AN$119,4,FALSE) -> 0 | AP14: =VLOOKUP($B14,'[3]ACT DEN1'!$AB$2:$AN$119,5,FALSE) -> 1 | AQ14: =VLOOKUP($B14,'[3]ACT DEN1'!$AB$2:$AN$119,6,FALSE) -> 0 | AR14: =VLOOKUP($B14,'[3]ACT DEN1'!$AB$2:$AN$119,7,FALSE) -> 3 | AS14: =VLOOKUP($B14,'[3]ACT DEN1'!$AB$2:$AN$119,8,FALSE) -> 0 | AT14: =VLOOKUP($B14,'[3]ACT DEN1'!$AB$2:$AN$119,9,FALSE) -> 2 | AU14: =VLOOKUP($B14,'[3]ACT DEN1'!$AB$2:$AN$119,10,FALSE) -> 2 | AV14: =VLOOKUP($B14,'[3]ACT DEN1'!$AB$2:$AN$119,11,FALSE) -> 1 | AW14: =VLOOKUP($B14,'[3]ACT DEN1'!$AB$2:$AN$119,12,FALSE) -> 0 | AY14: =SUM(AM14:AX14) -> 9
A15: 04101-LA SERENA | B15: 105313-CES. SCHAFFHAUSER | E15: =VLOOKUP($B15,[1]NUM1!$G$2:$T$157,2,FALSE) -> 5 | F15: =VLOOKUP($B15,[1]NUM1!$G$2:$T$157,3,FALSE) -> 83 | G15: =VLOOKUP($B15,[1]NUM1!$G$2:$T$157,4,FALSE) -> 277 | H15: =VLOOKUP($B15,[1]NUM1!$G$2:$T$157,5,FALSE) -> 414 | I15: =VLOOKUP($B15,[1]NUM1!$G$2:$T$157,6,FALSE) -> 198 | J15: =VLOOKUP($B15,[1]NUM1!$G$2:$T$157,7,FALSE) -> 105 | K15: =VLOOKUP($B15,[1]NUM1!$G$2:$T$157,8,FALSE) -> 123 | L15: =VLOOKUP($B15,[1]NUM1!$G$2:$T$157,9,FALSE) -> 155 | M15: =VLOOKUP($B15,[1]NUM1!$G$2:$T$157,10,FALSE) -> 115 | N15: =VLOOKUP($B15,[1]NUM1!$G$2:$T$157,11,FALSE) -> 123 | O15: =VLOOKUP($B15,[1]NUM1!$G$2:$T$157,12,FALSE) -> 2 | P15: =VLOOKUP($B15,[1]NUM1!$G$2:$T$157,13,FALSE) -> 155 | Q15: =SUM(E15:P15) -> 1755 | S15: 54 | T15: =+S15+(Z15+AA15+AB15)-(AM15+AN15+AO15) -> 54 | U15: =VLOOKUP($B15,[2]DEN1!$G$2:$I$157,2,FALSE) -> 40 | V15: =+U15+(AF15+AG15)-(AS15+AT15) -> 40 | W15: =+U15+(AF15+AG15+AH15+AI15)-(AS15+AT15+AU15+AV15) -> 40 | X15: =VLOOKUP($B15,[1]DEN1!$G$2:$I$159,2,FALSE) -> 66 | AL15: =SUM(Z15:AK15) -> 0 | AY15: =SUM(AM15:AX15) -> 0
A16: 04101-LA SERENA | B16: 105319-CES. CARDENAL R.S.H. | E16: =VLOOKUP($B16,[1]NUM1!$G$2:$T$157,2,FALSE) -> 19 | F16: =VLOOKUP($B16,[1]NUM1!$G$2:$T$157,3,FALSE) -> 3 | G16: =VLOOKUP($B16,[1]NUM1!$G$2:$T$157,4,FALSE) -> 69 | H16: =VLOOKUP($B16,[1]NUM1!$G$2:$T$157,5,FALSE) -> 126 | I16: =VLOOKUP($B16,[1]NUM1!$G$2:$T$157,6,FALSE) -> 21 | J16: =VLOOKUP($B16,[1]NUM1!$G$2:$T$157,7,FALSE) -> 18 | K16: =VLOOKUP($B16,[1]NUM1!$G$2:$T$157,8,FALSE) -> 8 | L16: =VLOOKUP($B16,[1]NUM1!$G$2:$T$157,9,FALSE) -> 11 | M16: =VLOOKUP($B16,[1]NUM1!$G$2:$T$157,10,FALSE) -> 25 | N16: =VLOOKUP($B16,[1]NUM1!$G$2:$T$157,11,FALSE) -> 9 | O16: =VLOOKUP($B16,[1]NUM1!$G$2:$T$157,12,FALSE) -> 2 | P16: =VLOOKUP($B16,[1]NUM1!$G$2:$T$157,13,FALSE) -> 14 | Q16: =SUM(E16:P16) -> 325 | S16: 89 | T16: =+S16+(Z16+AA16+AB16)-(AM16+AN16+AO16) -> 89 | U16: =VLOOKUP($B16,[2]DEN1!$G$2:$I$157,2,FALSE) -> 76 | V16: =+U16+(AF16+AG16)-(AS16+AT16) -> 76 | W16: =+U16+(AF16+AG16+AH16+AI16)-(AS16+AT16+AU16+AV16) -> 76 | X16: =VLOOKUP($B16,[1]DEN1!$G$2:$I$159,2,FALSE) -> 73 | AL16: =SUM(Z16:AK16) -> 0 | AM16: =VLOOKUP($B16,'[3]ACT DEN1'!$AB$2:$AN$119,2,FALSE) -> 0 | AN16: =VLOOKUP($B16,'[3]ACT DEN1'!$AB$2:$AN$119,3,FALSE) -> 0 | AO16: =VLOOKUP($B16,'[3]ACT DEN1'!$AB$2:$AN$119,4,FALSE) -> 0 | AP16: =VLOOKUP($B16,'[3]ACT DEN1'!$AB$2:$AN$119,5,FALSE) -> 0 | AQ16: =VLOOKUP($B16,'[3]ACT DEN1'!$AB$2:$AN$119,6,FALSE) -> 0 | AR16: =VLOOKUP($B16,'[3]ACT DEN1'!$AB$2:$AN$119,7,FALSE) -> 17 | AS16: =VLOOKUP($B16,'[3]ACT DEN1'!$AB$2:$AN$119,8,FALSE) -> 0 | AT16: =VLOOKUP($B16,'[3]ACT DEN1'!$AB$2:$AN$119,9,FALSE) -> 0 | AU16: =VLOOKUP($B16,'[3]ACT DEN1'!$AB$2:$AN$119,10,FALSE) -> 0 | AV16: =VLOOKUP($B16,'[3]ACT DEN1'!$AB$2:$AN$119,11,FALSE) -> 0 | AW16: =VLOOKUP($B16,'[3]ACT DEN1'!$AB$2:$AN$119,12,FALSE) -> 0 | AY16: =SUM(AM16:AX16) -> 17
A17: 04101-LA SERENA | B17: 105325-CESFAM JUAN PABLO II | E17: =VLOOKUP($B17,[1]NUM1!$G$2:$T$157,2,FALSE) -> 7 | F17: =VLOOKUP($B17,[1]NUM1!$G$2:$T$157,3,FALSE) -> 4 | G17: =VLOOKUP($B17,[1]NUM1!$G$2:$T$157,4,FALSE) -> 37 | H17: =VLOOKUP($B17,[1]NUM1!$G$2:$T$157,5,FALSE) -> 57 | I17: =VLOOKUP($B17,[1]NUM1!$G$2:$T$157,6,FALSE) -> 156 | J17: =VLOOKUP($B17,[1]NUM1!$G$2:$T$157,7,FALSE) -> 58 | K17: =VLOOKUP($B17,[1]NUM1!$G$2:$T$157,8,FALSE) -> 111 | L17: =VLOOKUP($B17,[1]NUM1!$G$2:$T$157,9,FALSE) -> 67 | M17: =VLOOKUP($B17,[1]NUM1!$G$2:$T$157,10,FALSE) -> 8 | N17: =VLOOKUP($B17,[1]NUM1!$G$2:$T$157,11,FALSE) -> 57 | O17: =VLOOKUP($B17,[1]NUM1!$G$2:$T$157,12,FALSE) -> 1 | P17: =VLOOKUP($B17,[1]NUM1!$G$2:$T$157,13,FALSE) -> 22 | Q17: =SUM(E17:P17) -> 585 | S17: 60 | T17: =+S17+(Z17+AA17+AB17)-(AM17+AN17+AO17) -> 58 | U17: =VLOOKUP($B17,[2]DEN1!$G$2:$I$157,2,FALSE) -> 54 | V17: =+U17+(AF17+AG17)-(AS17+AT17) -> 53 | W17: =+U17+(AF17+AG17+AH17+AI17)-(AS17+AT17+AU17+AV17) -> 53 | X17: =VLOOKUP($B17,[1]DEN1!$G$2:$I$159,2,FALSE) -> 59 | AL17: =SUM(Z17:AK17) -> 0 | AM17: =VLOOKUP($B17,'[3]ACT DEN1'!$AB$2:$AN$119,2,FALSE) -> 0 | AN17: =VLOOKUP($B17,'[3]ACT DEN1'!$AB$2:$AN$119,3,FALSE) -> 2 | AO17: =VLOOKUP($B17,'[3]ACT DEN1'!$AB$2:$AN$119,4,FALSE) -> 0 | AP17: =VLOOKUP($B17,'[3]ACT DEN1'!$AB$2:$AN$119,5,FALSE) -> 0 | AQ17: =VLOOKUP($B17,'[3]ACT DEN1'!$AB$2:$AN$119,6,FALSE) -> 0 | AR17: =VLOOKUP($B17,'[3]ACT DEN1'!$AB$2:$AN$119,7,FALSE) -> 0 | AS17: =VLOOKUP($B17,'[3]ACT DEN1'!$AB$2:$AN$119,8,FALSE) -> 0 | AT17: =VLOOKUP($B17,'[3]ACT DEN1'!$AB$2:$AN$119,9,FALSE) -> 1 | AU17: =VLOOKUP($B17,'[3]ACT DEN1'!$AB$2:$AN$119,10,FALSE) -> 0 | AV17: =VLOOKUP($B17,'[3]ACT DEN1'!$AB$2:$AN$119,11,FALSE) -> 0 | AW17: =VLOOKUP($B17,'[3]ACT DEN1'!$AB$2:$AN$119,12,FALSE) -> 0 | AY17: =SUM(AM17:AX17) -> 3
A18: 04101-LA SERENA | B18: 105400-P.S.R. ALGARROBITO | E18: =VLOOKUP($B18,[1]NUM1!$G$2:$T$157,2,FALSE) -> 0 | F18: =VLOOKUP($B18,[1]NUM1!$G$2:$T$157,3,FALSE) -> 0 | G18: =VLOOKUP($B18,[1]NUM1!$G$2:$T$157,4,FALSE) -> 3 | H18: =VLOOKUP($B18,[1]NUM1!$G$2:$T$157,5,FALSE) -> 44 | I18: =VLOOKUP($B18,[1]NUM1!$G$2:$T$157,6,FALSE) -> 5 | J18: =VLOOKUP($B18,[1]NUM1!$G$2:$T$157,7,FALSE) -> 3 | K18: =VLOOKUP($B18,[1]NUM1!$G$2:$T$157,8,FALSE) -> 7 | L18: =VLOOKUP($B18,[1]NUM1!$G$2:$T$157,9,FALSE) -> 16 | M18: =VLOOKUP($B18,[1]NUM1!$G$2:$T$157,10,FALSE) -> 12 | N18: =VLOOKUP($B18,[1]NUM1!$G$2:$T$157,11,FALSE) -> 11 | O18: =VLOOKUP($B18,[1]NUM1!$G$2:$T$157,12,FALSE) -> 0 | P18: =VLOOKUP($B18,[1]NUM1!$G$2:$T$157,13,FALSE) -> 56 | Q18: =SUM(E18:P18) -> 157 | S18: 20 | T18: =+S18+(Z18+AA18+AB18)-(AM18+AN18+AO18) -> 20 | U18: =VLOOKUP($B18,[2]DEN1!$G$2:$I$157,2,FALSE) -> 19 | V18: =+U18+(AF18+AG18)-(AS18+AT18) -> 19 | W18: =+U18+(AF18+AG18+AH18+AI18)-(AS18+AT18+AU18+AV18) -> 19 | X18: =VLOOKUP($B18,[1]DEN1!$G$2:$I$159,2,FALSE) -> 17 | AL18: =SUM(Z18:AK18) -> 0 | AY18: =SUM(AM18:AX18) -> 0
A19: 04101-LA SERENA | B19: 105401-P.S.R. LAS ROJAS | E19: =VLOOKUP($B19,[1]NUM1!$G$2:$T$157,2,FALSE) -> 2 | F19: =VLOOKUP($B19,[1]NUM1!$G$2:$T$157,3,FALSE) -> 0 | G19: =VLOOKUP($B19,[1]NUM1!$G$2:$T$157,4,FALSE) -> 0 | H19: =VLOOKUP($B19,[1]NUM1!$G$2:$T$157,5,FALSE) -> 0 | I19: =VLOOKUP($B19,[1]NUM1!$G$2:$T$157,6,FALSE) -> 4 | J19: =VLOOKUP($B19,[1]NUM1!$G$2:$T$157,7,FALSE) -> 0 | K19: =VLOOKUP($B19,[1]NUM1!$G$2:$T$157,8,FALSE) -> 0 | L19: =VLOOKUP($B19,[1]NUM1!$G$2:$T$157,9,FALSE) -> 4 | M19: =VLOOKUP($B19,[1]NUM1!$G$2:$T$157,10,FALSE) -> 11 | N19: =VLOOKUP($B19,[1]NUM1!$G$2:$T$157,11,FALSE) -> 6 | O19: =VLOOKUP($B19,[1]NUM1!$G$2:$T$157,12,FALSE) -> 0 | P19: =VLOOKUP($B19,[1]NUM1!$G$2:$T$157,13,FALSE) -> 2 | Q19: =SUM(E19:P19) -> 29 | S19: 4 | T19: =+S19+(Z19+AA19+AB19)-(AM19+AN19+AO19) -> 4 | U19: =VLOOKUP($B19,[2]DEN1!$G$2:$I$157,2,FALSE) -> 5 | V19: =+U19+(AF19+AG19)-(AS19+AT19) -> 5 | W19: =+U19+(AF19+AG19+AH19+AI19)-(AS19+AT19+AU19+AV19) -> 5 | X19: =VLOOKUP($B19,[1]DEN1!$G$2:$I$159,2,FALSE) -> 5 | AL19: =SUM(Z19:AK19) -> 0 | AY19: =SUM(AM19:AX19) -> 0
A20: 04101-LA SERENA | B20: 105402-P.S.R. EL ROMERO | E20: =VLOOKUP($B20,[1]NUM1!$G$2:$T$157,2,FALSE) -> 0 | F20: =VLOOKUP($B20,[1]NUM1!$G$2:$T$157,3,FALSE) -> 2 | G20: =VLOOKUP($B20,[1]NUM1!$G$2:$T$157,4,FALSE) -> 4 | H20: =VLOOKUP($B20,[1]NUM1!$G$2:$T$157,5,FALSE) -> 2 | I20: =VLOOKUP($B20,[1]NUM1!$G$2:$T$157,6,FALSE) -> 8 | J20: =VLOOKUP($B20,[1]NUM1!$G$2:$T$157,7,FALSE) -> 13 | K20: =VLOOKUP($B20,[1]NUM1!$G$2:$T$157,8,FALSE) -> 11 | L20: =VLOOKUP($B20,[1]NUM1!$G$2:$T$157,9,FALSE) -> 1 | M20: =VLOOKUP($B20,[1]NUM1!$G$2:$T$157,10,FALSE) -> 2 | N20: =VLOOKUP($B20,[1]NUM1!$G$2:$T$157,11,FALSE) -> 4 | O20: =VLOOKUP($B20,[1]NUM1!$G$2:$T$157,12,FALSE) -> 0 | P20: =VLOOKUP($B20,[1]NUM1!$G$2:$T$157,13,FALSE) -> 3 | Q20: =SUM(E20:P20) -> 50 | S20: 6 | T20: =+S20+(Z20+AA20+AB20)-(AM20+AN20+AO20) -> 6 | U20: =VLOOKUP($B20,[2]DEN1!$G$2:$I$157,2,FALSE) -> 7 | V20: =+U20+(AF20+AG20)-(AS20+AT20) -> 7 | W20: =+U20+(AF20+AG20+AH20+AI20)-(AS20+AT20+AU20+AV20) -> 7 | X20: =VLOOKUP($B20,[1]DEN1!$G$2:$I$159,2,FALSE) -> 7 | AL20: =SUM(Z20:AK20) -> 0 | AY20: =SUM(AM20:AX20) -> 0
A21: 04101-LA SERENA | B21: 105499-P.S.R. LAMBERT | E21: =VLOOKUP($B21,[1]NUM1!$G$2:$T$157,2,FALSE) -> 0 | F21: =VLOOKUP($B21,[1]NUM1!$G$2:$T$157,3,FALSE) -> 0 | G21: =VLOOKUP($B21,[1]NUM1!$G$2:$T$157,4,FALSE) -> 1 | H21: =VLOOKUP($B21,[1]NUM1!$G$2:$T$157,5,FALSE) -> 9 | I21: =VLOOKUP($B21,[1]NUM1!$G$2:$T$157,6,FALSE) -> 1 | J21: =VLOOKUP($B21,[1]NUM1!$G$2:$T$157,7,FALSE) -> 4 | K21: =VLOOKUP($B21,[1]NUM1!$G$2:$T$157,8,FALSE) -> 0 | L21: =VLOOKUP($B21,[1]NUM1!$G$2:$T$157,9,FALSE) -> 4 | M21: =VLOOKUP($B21,[1]NUM1!$G$2:$T$157,10,FALSE) -> 3 | N21: =VLOOKUP($B21,[1]NUM1!$G$2:$T$157,11,FALSE) -> 6 | O21: =VLOOKUP($B21,[1]NUM1!$G$2:$T$157,12,FALSE) -> 0 | P21: =VLOOKUP($B21,[1]NUM1!$G$2:$T$157,13,FALSE) -> 0 | Q21: =SUM(E21:P21) -> 28 | S21: 6 | T21: =+S21+(Z21+AA21+AB21)-(AM21+AN21+AO21) -> 6 | U21: =VLOOKUP($B21,[2]DEN1!$G$2:$I$157,2,FALSE) -> 4 | V21: =+U21+(AF21+AG21)-(AS21+AT21) -> 4 | W21: =+U21+(AF21+AG21+AH21+AI21)-(AS21+AT21+AU21+AV21) -> 4 | X21: =VLOOKUP($B21,[1]DEN1!$G$2:$I$159,2,FALSE) -> 5 | AL21: =SUM(Z21:AK21) -> 0 | AY21: =SUM(AM21:AX21) -> 0
A22: 04101-LA SERENA | B22: 105700-CECOF VILLA EL INDIO | E22: =VLOOKUP($B22,[1]NUM1!$G$2:$T$157,2,FALSE) -> 3 | F22: =VLOOKUP($B22,[1]NUM1!$G$2:$T$157,3,FALSE) -> 56 | G22: =VLOOKUP($B22,[1]NUM1!$G$2:$T$157,4,FALSE) -> 17 | H22: =VLOOKUP($B22,[1]NUM1!$G$2:$T$157,5,FALSE) -> 7 | I22: =VLOOKUP($B22,[1]NUM1!$G$2:$T$157,6,FALSE) -> 6 | J22: =VLOOKUP($B22,[1]NUM1!$G$2:$T$157,7,FALSE) -> 2 | K22: =VLOOKUP($B22,[1]NUM1!$G$2:$T$157,8,FALSE) -> 2 | L22: =VLOOKUP($B22,[1]NUM1!$G$2:$T$157,9,FALSE) -> 1 | M22: =VLOOKUP($B22,[1]NUM1!$G$2:$T$157,10,FALSE) -> 9 | N22: =VLOOKUP($B22,[1]NUM1!$G$2:$T$157,11,FALSE) -> 6 | O22: =VLOOKUP($B22,[1]NUM1!$G$2:$T$157,12,FALSE) -> 6 | P22: =VLOOKUP($B22,[1]NUM1!$G$2:$T$157,13,FALSE) -> 3 | Q22: =SUM(E22:P22) -> 118 | S22: 10 | T22: =+S22+(Z22+AA22+AB22)-(AM22+AN22+AO22) -> 10 | U22: =VLOOKUP($B22,[2]DEN1!$G$2:$I$157,2,FALSE) -> 12 | V22: =+U22+(AF22+AG22)-(AS22+AT22) -> 12 | W22: =+U22+(AF22+AG22+AH22+AI22)-(AS22+AT22+AU22+AV22) -> 12 | X22: =VLOOKUP($B22,[1]DEN1!$G$2:$I$159,2,FALSE) -> 13 | AL22: =SUM(Z22:AK22) -> 0 | AM22: =VLOOKUP($B22,'[3]ACT DEN1'!$AB$2:$AN$119,2,FALSE) -> 0 | AN22: =VLOOKUP($B22,'[3]ACT DEN1'!$AB$2:$AN$119,3,FALSE) -> 0 | AO22: =VLOOKUP($B22,'[3]ACT DEN1'!$AB$2:$AN$119,4,FALSE) -> 0 | AP22: =VLOOKUP($B22,'[3]ACT DEN1'!$AB$2:$AN$119,5,FALSE) -> 0 | AQ22: =VLOOKUP($B22,'[3]ACT DEN1'!$AB$2:$AN$119,6,FALSE) -> 0 | AR22: =VLOOKUP($B22,'[3]ACT DEN1'!$AB$2:$AN$119,7,FALSE) -> 0 | AS22: =VLOOKUP($B22,'[3]ACT DEN1'!$AB$2:$AN$119,8,FALSE) -> 0 | AT22: =VLOOKUP($B22,'[3]ACT DEN1'!$AB$2:$AN$119,9,FALSE) -> 0 | AU22: =VLOOKUP($B22,'[3]ACT DEN1'!$AB$2:$AN$119,10,FALSE) -> 0 | AV22: =VLOOKUP($B22,'[3]ACT DEN1'!$AB$2:$AN$119,11,FALSE) -> 0 | AW22: =VLOOKUP($B22,'[3]ACT DEN1'!$AB$2:$AN$119,12,FALSE) -> 0 | AY22: =SUM(AM22:AX22) -> 0
A23: 04101-LA SERENA | B23: 105701-CECOF VILLA ALEMANIA | E23: =VLOOKUP($B23,[1]NUM1!$G$2:$T$157,2,FALSE) -> 2 | F23: =VLOOKUP($B23,[1]NUM1!$G$2:$T$157,3,FALSE) -> 2 | G23: =VLOOKUP($B23,[1]NUM1!$G$2:$T$157,4,FALSE) -> 2 | H23: =VLOOKUP($B23,[1]NUM1!$G$2:$T$157,5,FALSE) -> 8 | I23: =VLOOKUP($B23,[1]NUM1!$G$2:$T$157,6,FALSE) -> 1 | J23: =VLOOKUP($B23,[1]NUM1!$G$2:$T$157,7,FALSE) -> 4 | K23: =VLOOKUP($B23,[1]NUM1!$G$2:$T$157,8,FALSE) -> 0 | L23: =VLOOKUP($B23,[1]NUM1!$G$2:$T$157,9,FALSE) -> 3 | M23: =VLOOKUP($B23,[1]NUM1!$G$2:$T$157,10,FALSE) -> 10 | N23: =VLOOKUP($B23,[1]NUM1!$G$2:$T$157,11,FALSE) -> 24 | O23: =VLOOKUP($B23,[1]NUM1!$G$2:$T$157,12,FALSE) -> 10 | P23: =VLOOKUP($B23,[1]NUM1!$G$2:$T$157,13,FALSE) -> 2 | Q23: =SUM(E23:P23) -> 68 | S23: 5 | T23: =+S23+(Z23+AA23+AB23)-(AM23+AN23+AO23) -> 4 | U23: =VLOOKUP($B23,[2]DEN1!$G$2:$I$157,2,FALSE) -> 2 | V23: =+U23+(AF23+AG23)-(AS23+AT23) -> 2 | W23: =+U23+(AF23+AG23+AH23+AI23)-(AS23+AT23+AU23+AV23) -> 2 | X23: =VLOOKUP($B23,[1]DEN1!$G$2:$I$159,2,FALSE) -> 5 | AL23: =SUM(Z23:AK23) -> 0 | AM23: =VLOOKUP($B23,'[3]ACT DEN1'!$AB$2:$AN$119,2,FALSE) -> 0 | AN23: =VLOOKUP($B23,'[3]ACT DEN1'!$AB$2:$AN$119,3,FALSE) -> 0 | AO23: =VLOOKUP($B23,'[3]ACT DEN1'!$AB$2:$AN$119,4,FALSE) -> 1 | AP23: =VLOOKUP($B23,'[3]ACT DEN1'!$AB$2:$AN$119,5,FALSE) -> 0 | AQ23: =VLOOKUP($B23,'[3]ACT DEN1'!$AB$2:$AN$119,6,FALSE) -> 0 | AR23: =VLOOKUP($B23,'[3]ACT DEN1'!$AB$2:$AN$119,7,FALSE) -> 0 | AS23: =VLOOKUP($B23,'[3]ACT DEN1'!$AB$2:$AN$119,8,FALSE) -> 0 | AT23: =VLOOKUP($B23,'[3]ACT DEN1'!$AB$2:$AN$119,9,FALSE) -> 0 | AU23: =VLOOKUP($B23,'[3]ACT DEN1'!$AB$2:$AN$119,10,FALSE) -> 0 | AV23: =VLOOKUP($B23,'[3]ACT DEN1'!$AB$2:$AN$119,11,FALSE) -> 0 | AW23: =VLOOKUP($B23,'[3]ACT DEN1'!$AB$2:$AN$119,12,FALSE) -> 0 | AY23: =SUM(AM23:AX23) -> 1
A24: 04101-LA SERENA | B24: 105702-CECOF VILLA LAMBERT | E24: =VLOOKUP($B24,[1]NUM1!$G$2:$T$157,2,FALSE) -> 14 | F24: =VLOOKUP($B24,[1]NUM1!$G$2:$T$157,3,FALSE) -> 3 | G24: =VLOOKUP($B24,[1]NUM1!$G$2:$T$157,4,FALSE) -> 59 | H24: =VLOOKUP($B24,[1]NUM1!$G$2:$T$157,5,FALSE) -> 70 | I24: =VLOOKUP($B24,[1]NUM1!$G$2:$T$157,6,FALSE) -> 17 | J24: =VLOOKUP($B24,[1]NUM1!$G$2:$T$157,7,FALSE) -> 20 | K24: =VLOOKUP($B24,[1]NUM1!$G$2:$T$157,8,FALSE) -> 4 | L24: =VLOOKUP($B24,[1]NUM1!$G$2:$T$157,9,FALSE) -> 32 | M24: =VLOOKUP($B24,[1]NUM1!$G$2:$T$157,10,FALSE) -> 0 | N24: =VLOOKUP($B24,[1]NUM1!$G$2:$T$157,11,FALSE) -> 8 | O24: =VLOOKUP($B24,[1]NUM1!$G$2:$T$157,12,FALSE) -> 38 | P24: =VLOOKUP($B24,[1]NUM1!$G$2:$T$157,13,FALSE) -> 3 | Q24: =SUM(E24:P24) -> 268 | S24: 7 | T24: =+S24+(Z24+AA24+AB24)-(AM24+AN24+AO24) -> 7 | U24: =VLOOKUP($B24,[2]DEN1!$G$2:$I$157,2,FALSE) -> 6 | V24: =+U24+(AF24+AG24)-(AS24+AT24) -> 6 | W24: =+U24+(AF24+AG24+AH24+AI24)-(AS24+AT24+AU24+AV24) -> 6 | X24: =VLOOKUP($B24,[1]DEN1!$G$2:$I$159,2,FALSE) -> 8 | AL24: =SUM(Z24:AK24) -> 0 | AY24: =SUM(AM24:AX24) -> 0
A25: TOTAL LA SERENA MUNICIPAL | C25: =+D25/Metas!G110 -> 0.69495658 | D25: =+Q25/R25 -> 0.13899132 | E25: =SUM(E12:E24) -> 72 | F25: =SUM(F12:F24) -> 201 | G25: =SUM(G12:G24) -> 638 | H25: =SUM(H12:H24) -> 948 | I25: =SUM(I12:I24) -> 568 | J25: =SUM(J12:J24) -> 269 | K25: =SUM(K12:K24) -> 373 | L25: =SUM(L12:L24) -> 359 | ... Q25: =SUM(Q12:Q24) -> 4674 | R25: =+Y25-X25 -> 33628 | S25: =SUM(S12:S24) -> 442 | T25: =SUM(T12:T24) -> 435 | U25: =SUM(U12:U24) -> 376 | V25: =SUM(V12:V24) -> 362 | W25: =SUM(W12:W24) -> 356 | X25: =SUM(X12:X24) -> 436 | Y25: 34064 | Z25: =SUM(Z12:Z24) -> 0 | AA25: =SUM(AA12:AA24) -> 0 | AB25: =SUM(AB12:AB24) -> 0 | AC25: =SUM(AC12:AC24) -> 0 | AD25: =SUM(AD12:AD24) -> 0 | AE25: =SUM(AE12:AE24) -> 0 | AF25: =SUM(AF12:AF24) -> 0 | AG25: =SUM(AG12:AG24) -> 0 | ... AK25: =SUM(AK12:AK24) -> 0 | AL25: =SUM(Z25:AK25) -> 0 | AM25: =SUM(AM12:AM24) -> 0 | AN25: =SUM(AN12:AN24) -> 5 | AO25: =SUM(AO12:AO24) -> 2 | AP25: =SUM(AP12:AP24) -> 6 | AQ25: =SUM(AQ12:AQ24) -> 3 | AR25: =SUM(AR12:AR24) -> 24 | AS25: =SUM(AS12:AS24) -> 5 | AT25: =SUM(AT12:AT24) -> 9 | ... AX25: =SUM(AX12:AX24) -> 0 | AY25: =SUM(AM25:AX25) -> 63
A26: 04102-COQUIMBO | B26: 105303-CES. SAN JUAN | E26: =VLOOKUP($B26,[1]NUM1!$G$2:$T$157,2,FALSE) -> 58 | F26: =VLOOKUP($B26,[1]NUM1!$G$2:$T$157,3,FALSE) -> 47 | G26: =VLOOKUP($B26,[1]NUM1!$G$2:$T$157,4,FALSE) -> 76 | H26: =VLOOKUP($B26,[1]NUM1!$G$2:$T$157,5,FALSE) -> 15 | I26: =VLOOKUP($B26,[1]NUM1!$G$2:$T$157,6,FALSE) -> 97 | J26: =VLOOKUP($B26,[1]NUM1!$G$2:$T$157,7,FALSE) -> 81 | K26: =VLOOKUP($B26,[1]NUM1!$G$2:$T$157,8,FALSE) -> 109 | L26: =VLOOKUP($B26,[1]NUM1!$G$2:$T$157,9,FALSE) -> 95 | M26: =VLOOKUP($B26,[1]NUM1!$G$2:$T$157,10,FALSE) -> 84 | N26: =VLOOKUP($B26,[1]NUM1!$G$2:$T$157,11,FALSE) -> 139 | O26: =VLOOKUP($B26,[1]NUM1!$G$2:$T$157,12,FALSE) -> 130 | P26: =VLOOKUP($B26,[1]NUM1!$G$2:$T$157,13,FALSE) -> 94 | Q26: =SUM(E26:P26) -> 1025 | S26: 79 | T26: =+S26+(Z26+AA26+AB26)-(AM26+AN26+AO26) -> 86 | U26: =VLOOKUP($B26,[2]DEN1!$G$2:$I$157,2,FALSE) -> 99 | V26: =+U26+(AF26+AG26)-(AS26+AT26) -> 106 | W26: =+U26+(AF26+AG26+AH26+AI26)-(AS26+AT26+AU26+AV26) -> 110 | X26: =VLOOKUP($B26,[1]DEN1!$G$2:$I$159,2,FALSE) -> 115 | Z26: =VLOOKUP($B26,'[3]ACT DEN1'!$G$2:$S$143,2,FALSE) -> 3 | AA26: =VLOOKUP($B26,'[3]ACT DEN1'!$G$2:$S$143,3,FALSE) -> 4 | AB26: =VLOOKUP($B26,'[3]ACT DEN1'!$G$2:$S$143,4,FALSE) -> 0 | AC26: =VLOOKUP($B26,'[3]ACT DEN1'!$G$2:$S$143,5,FALSE) -> 10 | AD26: =VLOOKUP($B26,'[3]ACT DEN1'!$G$2:$S$143,6,FALSE) -> 0 | AE26: =VLOOKUP($B26,'[3]ACT DEN1'!$G$2:$S$143,7,FALSE) -> 0 | AF26: =VLOOKUP($B26,'[3]ACT DEN1'!$G$2:$S$143,8,FALSE) -> 5 | AG26: =VLOOKUP($B26,'[3]ACT DEN1'!$G$2:$S$143,9,FALSE) -> 3 | AH26: =VLOOKUP($B26,'[3]ACT DEN1'!$G$2:$S$143,10,FALSE) -> 4 | AI26: =VLOOKUP($B26,'[3]ACT DEN1'!$G$2:$S$143,11,FALSE) -> 0 | AJ26: =VLOOKUP($B26,'[3]ACT DEN1'!$G$2:$S$143,12,FALSE) -> 3 | AL26: =SUM(Z26:AK26) -> 32 | AM26: =VLOOKUP($B26,'[3]ACT DEN1'!$AB$2:$AN$119,2,FALSE) -> 0 | AN26: =VLOOKUP($B26,'[3]ACT DEN1'!$AB$2:$AN$119,3,FALSE) -> 0 | AO26: =VLOOKUP($B26,'[3]ACT DEN1'!$AB$2:$AN$119,4,FALSE) -> 0 | AP26: =VLOOKUP($B26,'[3]ACT DEN1'!$AB$2:$AN$119,5,FALSE) -> 0 | AQ26: =VLOOKUP($B26,'[3]ACT DEN1'!$AB$2:$AN$119,6,FALSE) -> 0 | AR26: =VLOOKUP($B26,'[3]ACT DEN1'!$AB$2:$AN$119,7,FALSE) -> 0 | AS26: =VLOOKUP($B26,'[3]ACT DEN1'!$AB$2:$AN$119,8,FALSE) -> 1 | AT26: =VLOOKUP($B26,'[3]ACT DEN1'!$AB$2:$AN$119,9,FALSE) -> 0 | AU26: =VLOOKUP($B26,'[3]ACT DEN1'!$AB$2:$AN$119,10,FALSE) -> 0 | AV26: =VLOOKUP($B26,'[3]ACT DEN1'!$AB$2:$AN$119,11,FALSE) -> 0 | AW26: =VLOOKUP($B26,'[3]ACT DEN1'!$AB$2:$AN$119,12,FALSE) -> 0 | AY26: =SUM(AM26:AX26) -> 1
A27: 04102-COQUIMBO | B27: 105304-CES. SANTA CECILIA | E27: =VLOOKUP($B27,[1]NUM1!$G$2:$T$157,2,FALSE) -> 80 | F27: =VLOOKUP($B27,[1]NUM1!$G$2:$T$157,3,FALSE) -> 71 | G27: =VLOOKUP($B27,[1]NUM1!$G$2:$T$157,4,FALSE) -> 114 | H27: =VLOOKUP($B27,[1]NUM1!$G$2:$T$157,5,FALSE) -> 106 | I27: =VLOOKUP($B27,[1]NUM1!$G$2:$T$157,6,FALSE) -> 81 | J27: =VLOOKUP($B27,[1]NUM1!$G$2:$T$157,7,FALSE) -> 52 | K27: =VLOOKUP($B27,[1]NUM1!$G$2:$T$157,8,FALSE) -> 60 | L27: =VLOOKUP($B27,[1]NUM1!$G$2:$T$157,9,FALSE) -> 129 | M27: =VLOOKUP($B27,[1]NUM1!$G$2:$T$157,10,FALSE) -> 149 | N27: =VLOOKUP($B27,[1]NUM1!$G$2:$T$157,11,FALSE) -> 89 | O27: =VLOOKUP($B27,[1]NUM1!$G$2:$T$157,12,FALSE) -> 27 | P27: =VLOOKUP($B27,[1]NUM1!$G$2:$T$157,13,FALSE) -> 42 | Q27: =SUM(E27:P27) -> 1000 | S27: 67 | T27: =+S27+(Z27+AA27+AB27)-(AM27+AN27+AO27) -> 68 | U27: =VLOOKUP($B27,[2]DEN1!$G$2:$I$157,2,FALSE) -> 56 | V27: =+U27+(AF27+AG27)-(AS27+AT27) -> 65 | W27: =+U27+(AF27+AG27+AH27+AI27)-(AS27+AT27+AU27+AV27) -> 66 | X27: =VLOOKUP($B27,[1]DEN1!$G$2:$I$159,2,FALSE) -> 60 | Z27: =VLOOKUP($B27,'[3]ACT DEN1'!$G$2:$S$143,2,FALSE) -> 1 | AA27: =VLOOKUP($B27,'[3]ACT DEN1'!$G$2:$S$143,3,FALSE) -> 0 | AB27: =VLOOKUP($B27,'[3]ACT DEN1'!$G$2:$S$143,4,FALSE) -> 0 | AC27: =VLOOKUP($B27,'[3]ACT DEN1'!$G$2:$S$143,5,FALSE) -> 2 | AD27: =VLOOKUP($B27,'[3]ACT DEN1'!$G$2:$S$143,6,FALSE) -> 0 | AE27: =VLOOKUP($B27,'[3]ACT DEN1'!$G$2:$S$143,7,FALSE) -> 1 | AF27: =VLOOKUP($B27,'[3]ACT DEN1'!$G$2:$S$143,8,FALSE) -> 0 | AG27: =VLOOKUP($B27,'[3]ACT DEN1'!$G$2:$S$143,9,FALSE) -> 9 | AH27: =VLOOKUP($B27,'[3]ACT DEN1'!$G$2:$S$143,10,FALSE) -> 1 | AI27: =VLOOKUP($B27,'[3]ACT DEN1'!$G$2:$S$143,11,FALSE) -> 0 | AJ27: =VLOOKUP($B27,'[3]ACT DEN1'!$G$2:$S$143,12,FALSE) -> 0 | AL27: =SUM(Z27:AK27) -> 14 | AM27: =VLOOKUP($B27,'[3]ACT DEN1'!$AB$2:$AN$119,2,FALSE) -> 0 | AN27: =VLOOKUP($B27,'[3]ACT DEN1'!$AB$2:$AN$119,3,FALSE) -> 0 | AO27: =VLOOKUP($B27,'[3]ACT DEN1'!$AB$2:$AN$119,4,FALSE) -> 0 | AP27: =VLOOKUP($B27,'[3]ACT DEN1'!$AB$2:$AN$119,5,FALSE) -> 0 | AQ27: =VLOOKUP($B27,'[3]ACT DEN1'!$AB$2:$AN$119,6,FALSE) -> 0 | AR27: =VLOOKUP($B27,'[3]ACT DEN1'!$AB$2:$AN$119,7,FALSE) -> 0 | AS27: =VLOOKUP($B27,'[3]ACT DEN1'!$AB$2:$AN$119,8,FALSE) -> 0 | AT27: =VLOOKUP($B27,'[3]ACT DEN1'!$AB$2:$AN$119,9,FALSE) -> 0 | AU27: =VLOOKUP($B27,'[3]ACT DEN1'!$AB$2:$AN$119,10,FALSE) -> 0 | AV27: =VLOOKUP($B27,'[3]ACT DEN1'!$AB$2:$AN$119,11,FALSE) -> 0 | AW27: =VLOOKUP($B27,'[3]ACT DEN1'!$AB$2:$AN$119,12,FALSE) -> 0 | AY27: =SUM(AM27:AX27) -> 0
A28: 04102-COQUIMBO | B28: 105305-CES. TIERRAS BLANCAS | E28: =VLOOKUP($B28,[1]NUM1!$G$2:$T$157,2,FALSE) -> 89 | F28: =VLOOKUP($B28,[1]NUM1!$G$2:$T$157,3,FALSE) -> 85 | G28: =VLOOKUP($B28,[1]NUM1!$G$2:$T$157,4,FALSE) -> 186 | H28: =VLOOKUP($B28,[1]NUM1!$G$2:$T$157,5,FALSE) -> 114 | I28: =VLOOKUP($B28,[1]NUM1!$G$2:$T$157,6,FALSE) -> 127 | J28: =VLOOKUP($B28,[1]NUM1!$G$2:$T$157,7,FALSE) -> 115 | K28: =VLOOKUP($B28,[1]NUM1!$G$2:$T$157,8,FALSE) -> 101 | L28: =VLOOKUP($B28,[1]NUM1!$G$2:$T$157,9,FALSE) -> 106 | M28: =VLOOKUP($B28,[1]NUM1!$G$2:$T$157,10,FALSE) -> 90 | N28: =VLOOKUP($B28,[1]NUM1!$G$2:$T$157,11,FALSE) -> 105 | O28: =VLOOKUP($B28,[1]NUM1!$G$2:$T$157,12,FALSE) -> 73 | P28: =VLOOKUP($B28,[1]NUM1!$G$2:$T$157,13,FALSE) -> 128 | Q28: =SUM(E28:P28) -> 1319 | S28: 562 | T28: =+S28+(Z28+AA28+AB28)-(AM28+AN28+AO28) -> 579 | U28: =VLOOKUP($B28,[2]DEN1!$G$2:$I$157,2,FALSE) -> 593 | V28: =+U28+(AF28+AG28)-(AS28+AT28) -> 602 | W28: =+U28+(AF28+AG28+AH28+AI28)-(AS28+AT28+AU28+AV28) -> 608 | X28: =VLOOKUP($B28,[1]DEN1!$G$2:$I$159,2,FALSE) -> 614 | Z28: =VLOOKUP($B28,'[3]ACT DEN1'!$G$2:$S$143,2,FALSE) -> 4 | AA28: =VLOOKUP($B28,'[3]ACT DEN1'!$G$2:$S$143,3,FALSE) -> 5 | AB28: =VLOOKUP($B28,'[3]ACT DEN1'!$G$2:$S$143,4,FALSE) -> 9 | AC28: =VLOOKUP($B28,'[3]ACT DEN1'!$G$2:$S$143,5,FALSE) -> 4 | AD28: =VLOOKUP($B28,'[3]ACT DEN1'!$G$2:$S$143,6,FALSE) -> 8 | AE28: =VLOOKUP($B28,'[3]ACT DEN1'!$G$2:$S$143,7,FALSE) -> 7 | AF28: =VLOOKUP($B28,'[3]ACT DEN1'!$G$2:$S$143,8,FALSE) -> 5 | AG28: =VLOOKUP($B28,'[3]ACT DEN1'!$G$2:$S$143,9,FALSE) -> 5 | AH28: =VLOOKUP($B28,'[3]ACT DEN1'!$G$2:$S$143,10,FALSE) -> 5 | AI28: =VLOOKUP($B28,'[3]ACT DEN1'!$G$2:$S$143,11,FALSE) -> 1 | AJ28: =VLOOKUP($B28,'[3]ACT DEN1'!$G$2:$S$143,12,FALSE) -> 1 | AL28: =SUM(Z28:AK28) -> 54 | AM28: =VLOOKUP($B28,'[3]ACT DEN1'!$AB$2:$AN$119,2,FALSE) -> 0 | AN28: =VLOOKUP($B28,'[3]ACT DEN1'!$AB$2:$AN$119,3,FALSE) -> 1 | AO28: =VLOOKUP($B28,'[3]ACT DEN1'!$AB$2:$AN$119,4,FALSE) -> 0 | AP28: =VLOOKUP($B28,'[3]ACT DEN1'!$AB$2:$AN$119,5,FALSE) -> 0 | AQ28: =VLOOKUP($B28,'[3]ACT DEN1'!$AB$2:$AN$119,6,FALSE) -> 2 | AR28: =VLOOKUP($B28,'[3]ACT DEN1'!$AB$2:$AN$119,7,FALSE) -> 4 | AS28: =VLOOKUP($B28,'[3]ACT DEN1'!$AB$2:$AN$119,8,FALSE) -> 0 | AT28: =VLOOKUP($B28,'[3]ACT DEN1'!$AB$2:$AN$119,9,FALSE) -> 1 | AU28: =VLOOKUP($B28,'[3]ACT DEN1'!$AB$2:$AN$119,10,FALSE) -> 0 | AV28: =VLOOKUP($B28,'[3]ACT DEN1'!$AB$2:$AN$119,11,FALSE) -> 0 | AW28: =VLOOKUP($B28,'[3]ACT DEN1'!$AB$2:$AN$119,12,FALSE) -> 0 | AY28: =SUM(AM28:AX28) -> 8
A29: 04102-COQUIMBO | B29: 105321-CES. RURAL TONGOY | E29: =VLOOKUP($B29,[1]NUM1!$G$2:$T$157,2,FALSE) -> 13 | F29: =VLOOKUP($B29,[1]NUM1!$G$2:$T$157,3,FALSE) -> 24 | G29: =VLOOKUP($B29,[1]NUM1!$G$2:$T$157,4,FALSE) -> 30 | H29: =VLOOKUP($B29,[1]NUM1!$G$2:$T$157,5,FALSE) -> 52 | I29: =VLOOKUP($B29,[1]NUM1!$G$2:$T$157,6,FALSE) -> 10 | J29: =VLOOKUP($B29,[1]NUM1!$G$2:$T$157,7,FALSE) -> 31 | K29: =VLOOKUP($B29,[1]NUM1!$G$2:$T$157,8,FALSE) -> 26 | L29: =VLOOKUP($B29,[1]NUM1!$G$2:$T$157,9,FALSE) -> 17 | M29: =VLOOKUP($B29,[1]NUM1!$G$2:$T$157,10,FALSE) -> 16 | N29: =VLOOKUP($B29,[1]NUM1!$G$2:$T$157,11,FALSE) -> 29 | O29: =VLOOKUP($B29,[1]NUM1!$G$2:$T$157,12,FALSE) -> 6 | P29: =VLOOKUP($B29,[1]NUM1!$G$2:$T$157,13,FALSE) -> 44 | Q29: =SUM(E29:P29) -> 298 | S29: 22 | T29: =+S29+(Z29+AA29+AB29)-(AM29+AN29+AO29) -> 22 | U29: =VLOOKUP($B29,[2]DEN1!$G$2:$I$157,2,FALSE) -> 18 | V29: =+U29+(AF29+AG29)-(AS29+AT29) -> 19 | W29: =+U29+(AF29+AG29+AH29+AI29)-(AS29+AT29+AU29+AV29) -> 18 | X29: =VLOOKUP($B29,[1]DEN1!$G$2:$I$159,2,FALSE) -> 15 | Z29: =VLOOKUP($B29,'[3]ACT DEN1'!$G$2:$S$143,2,FALSE) -> 0 | AA29: =VLOOKUP($B29,'[3]ACT DEN1'!$G$2:$S$143,3,FALSE) -> 0 | AB29: =VLOOKUP($B29,'[3]ACT DEN1'!$G$2:$S$143,4,FALSE) -> 0 | AC29: =VLOOKUP($B29,'[3]ACT DEN1'!$G$2:$S$143,5,FALSE) -> 1 | AD29: =VLOOKUP($B29,'[3]ACT DEN1'!$G$2:$S$143,6,FALSE) -> 0 | AE29: =VLOOKUP($B29,'[3]ACT DEN1'!$G$2:$S$143,7,FALSE) -> 1 | AF29: =VLOOKUP($B29,'[3]ACT DEN1'!$G$2:$S$143,8,FALSE) -> 0 | AG29: =VLOOKUP($B29,'[3]ACT DEN1'!$G$2:$S$143,9,FALSE) -> 1 | AH29: =VLOOKUP($B29,'[3]ACT DEN1'!$G$2:$S$143,10,FALSE) -> 0 | AI29: =VLOOKUP($B29,'[3]ACT DEN1'!$G$2:$S$143,11,FALSE) -> 0 | AJ29: =VLOOKUP($B29,'[3]ACT DEN1'!$G$2:$S$143,12,FALSE) -> 0 | AL29: =SUM(Z29:AK29) -> 3 | AM29: =VLOOKUP($B29,'[3]ACT DEN1'!$AB$2:$AN$119,2,FALSE) -> 0 | AN29: =VLOOKUP($B29,'[3]ACT DEN1'!$AB$2:$AN$119,3,FALSE) -> 0 | AO29: =VLOOKUP($B29,'[3]ACT DEN1'!$AB$2:$AN$119,4,FALSE) -> 0 | AP29: =VLOOKUP($B29,'[3]ACT DEN1'!$AB$2:$AN$119,5,FALSE) -> 0 | AQ29: =VLOOKUP($B29,'[3]ACT DEN1'!$AB$2:$AN$119,6,FALSE) -> 0 | AR29: =VLOOKUP($B29,'[3]ACT DEN1'!$AB$2:$AN$119,7,FALSE) -> 0 | AS29: =VLOOKUP($B29,'[3]ACT DEN1'!$AB$2:$AN$119,8,FALSE) -> 0 | AT29: =VLOOKUP($B29,'[3]ACT DEN1'!$AB$2:$AN$119,9,FALSE) -> 0 | AU29: =VLOOKUP($B29,'[3]ACT DEN1'!$AB$2:$AN$119,10,FALSE) -> 0 | AV29: =VLOOKUP($B29,'[3]ACT DEN1'!$AB$2:$AN$119,11,FALSE) -> 1 | AW29: =VLOOKUP($B29,'[3]ACT DEN1'!$AB$2:$AN$119,12,FALSE) -> 0 | AY29: =SUM(AM29:AX29) -> 1
A30: 04102-COQUIMBO | B30: 105323-CES. DR. SERGIO AGUILAR | E30: =VLOOKUP($B30,[1]NUM1!$G$2:$T$157,2,FALSE) -> 76 | F30: =VLOOKUP($B30,[1]NUM1!$G$2:$T$157,3,FALSE) -> 118 | G30: =VLOOKUP($B30,[1]NUM1!$G$2:$T$157,4,FALSE) -> 272 | H30: =VLOOKUP($B30,[1]NUM1!$G$2:$T$157,5,FALSE) -> 182 | I30: =VLOOKUP($B30,[1]NUM1!$G$2:$T$157,6,FALSE) -> 106 | J30: =VLOOKUP($B30,[1]NUM1!$G$2:$T$157,7,FALSE) -> 81 | K30: =VLOOKUP($B30,[1]NUM1!$G$2:$T$157,8,FALSE) -> 117 | L30: =VLOOKUP($B30,[1]NUM1!$G$2:$T$157,9,FALSE) -> 122 | M30: =VLOOKUP($B30,[1]NUM1!$G$2:$T$157,10,FALSE) -> 62 | N30: =VLOOKUP($B30,[1]NUM1!$G$2:$T$157,11,FALSE) -> 57 | O30: =VLOOKUP($B30,[1]NUM1!$G$2:$T$157,12,FALSE) -> 57 | P30: =VLOOKUP($B30,[1]NUM1!$G$2:$T$157,13,FALSE) -> 65 | Q30: =SUM(E30:P30) -> 1315 | S30: 50 | T30: =+S30+(Z30+AA30+AB30)-(AM30+AN30+AO30) -> 53 | U30: =VLOOKUP($B30,[2]DEN1!$G$2:$I$157,2,FALSE) -> 52 | V30: =+U30+(AF30+AG30)-(AS30+AT30) -> 58 | W30: =+U30+(AF30+AG30+AH30+AI30)-(AS30+AT30+AU30+AV30) -> 60 | X30: =VLOOKUP($B30,[1]DEN1!$G$2:$I$159,2,FALSE) -> 59 | Z30: =VLOOKUP($B30,'[3]ACT DEN1'!$G$2:$S$143,2,FALSE) -> 1 | AA30: =VLOOKUP($B30,'[3]ACT DEN1'!$G$2:$S$143,3,FALSE) -> 2 | AB30: =VLOOKUP($B30,'[3]ACT DEN1'!$G$2:$S$143,4,FALSE) -> 1 | AC30: =VLOOKUP($B30,'[3]ACT DEN1'!$G$2:$S$143,5,FALSE) -> 4 | AD30: =VLOOKUP($B30,'[3]ACT DEN1'!$G$2:$S$143,6,FALSE) -> 3 | AE30: =VLOOKUP($B30,'[3]ACT DEN1'!$G$2:$S$143,7,FALSE) -> 2 | AF30: =VLOOKUP($B30,'[3]ACT DEN1'!$G$2:$S$143,8,FALSE) -> 6 | AG30: =VLOOKUP($B30,'[3]ACT DEN1'!$G$2:$S$143,9,FALSE) -> 1 | AH30: =VLOOKUP($B30,'[3]ACT DEN1'!$G$2:$S$143,10,FALSE) -> 1 | AI30: =VLOOKUP($B30,'[3]ACT DEN1'!$G$2:$S$143,11,FALSE) -> 3 | AJ30: =VLOOKUP($B30,'[3]ACT DEN1'!$G$2:$S$143,12,FALSE) -> 0 | AL30: =SUM(Z30:AK30) -> 24 | AM30: =VLOOKUP($B30,'[3]ACT DEN1'!$AB$2:$AN$119,2,FALSE) -> 0 | AN30: =VLOOKUP($B30,'[3]ACT DEN1'!$AB$2:$AN$119,3,FALSE) -> 1 | AO30: =VLOOKUP($B30,'[3]ACT DEN1'!$AB$2:$AN$119,4,FALSE) -> 0 | AP30: =VLOOKUP($B30,'[3]ACT DEN1'!$AB$2:$AN$119,5,FALSE) -> 4 | AQ30: =VLOOKUP($B30,'[3]ACT DEN1'!$AB$2:$AN$119,6,FALSE) -> 4 | AR30: =VLOOKUP($B30,'[3]ACT DEN1'!$AB$2:$AN$119,7,FALSE) -> 1 | AS30: =VLOOKUP($B30,'[3]ACT DEN1'!$AB$2:$AN$119,8,FALSE) -> 0 | AT30: =VLOOKUP($B30,'[3]ACT DEN1'!$AB$2:$AN$119,9,FALSE) -> 1 | AU30: =VLOOKUP($B30,'[3]ACT DEN1'!$AB$2:$AN$119,10,FALSE) -> 0 | AV30: =VLOOKUP($B30,'[3]ACT DEN1'!$AB$2:$AN$119,11,FALSE) -> 2 | AW30: =VLOOKUP($B30,'[3]ACT DEN1'!$AB$2:$AN$119,12,FALSE) -> 1 | AY30: =SUM(AM30:AX30) -> 14
A31: 04102-COQUIMBO | B31: 105404-P.S.R. EL TANGUE | E31: =VLOOKUP($B31,[1]NUM1!$G$2:$T$157,2,FALSE) -> 2 | F31: =VLOOKUP($B31,[1]NUM1!$G$2:$T$157,3,FALSE) -> 1 | G31: =VLOOKUP($B31,[1]NUM1!$G$2:$T$157,4,FALSE) -> 5 | H31: =VLOOKUP($B31,[1]NUM1!$G$2:$T$157,5,FALSE) -> 1 | I31: =VLOOKUP($B31,[1]NUM1!$G$2:$T$157,6,FALSE) -> 12 | J31: =VLOOKUP($B31,[1]NUM1!$G$2:$T$157,7,FALSE) -> 1 | K31: =VLOOKUP($B31,[1]NUM1!$G$2:$T$157,8,FALSE) -> 0 | L31: =VLOOKUP($B31,[1]NUM1!$G$2:$T$157,9,FALSE) -> 6 | M31: =VLOOKUP($B31,[1]NUM1!$G$2:$T$157,10,FALSE) -> 1 | N31: =VLOOKUP($B31,[1]NUM1!$G$2:$T$157,11,FALSE) -> 0 | O31: =VLOOKUP($B31,[1]NUM1!$G$2:$T$157,12,FALSE) -> 0 | P31: =VLOOKUP($B31,[1]NUM1!$G$2:$T$157,13,FALSE) -> 28 | Q31: =SUM(E31:P31) -> 57 | S31: 7 | T31: =+S31+(Z31+AA31+AB31)-(AM31+AN31+AO31) -> 7 | U31: =VLOOKUP($B31,[2]DEN1!$G$2:$I$157,2,FALSE) -> 7 | V31: =+U31+(AF31+AG31)-(AS31+AT31) -> 7 | W31: =+U31+(AF31+AG31+AH31+AI31)-(AS31+AT31+AU31+AV31) -> 8 | X31: =VLOOKUP($B31,[1]DEN1!$G$2:$I$159,2,FALSE) -> 5 | Z31: =VLOOKUP($B31,'[3]ACT DEN1'!$G$2:$S$143,2,FALSE) -> 0 | AA31: =VLOOKUP($B31,'[3]ACT DEN1'!$G$2:$S$143,3,FALSE) -> 0 | AB31: =VLOOKUP($B31,'[3]ACT DEN1'!$G$2:$S$143,4,FALSE) -> 0 | AC31: =VLOOKUP($B31,'[3]ACT DEN1'!$G$2:$S$143,5,FALSE) -> 1 | AD31: =VLOOKUP($B31,'[3]ACT DEN1'!$G$2:$S$143,6,FALSE) -> 0 | AE31: =VLOOKUP($B31,'[3]ACT DEN1'!$G$2:$S$143,7,FALSE) -> 0 | AF31: =VLOOKUP($B31,'[3]ACT DEN1'!$G$2:$S$143,8,FALSE) -> 0 | AG31: =VLOOKUP($B31,'[3]ACT DEN1'!$G$2:$S$143,9,FALSE) -> 0 | AH31: =VLOOKUP($B31,'[3]ACT DEN1'!$G$2:$S$143,10,FALSE) -> 0 | AI31: =VLOOKUP($B31,'[3]ACT DEN1'!$G$2:$S$143,11,FALSE) -> 1 | AJ31: =VLOOKUP($B31,'[3]ACT DEN1'!$G$2:$S$143,12,FALSE) -> 0 | AL31: =SUM(Z31:AK31) -> 2 | AM31: =VLOOKUP($B31,'[3]ACT DEN1'!$AB$2:$AN$119,2,FALSE) -> 0 | AN31: =VLOOKUP($B31,'[3]ACT DEN1'!$AB$2:$AN$119,3,FALSE) -> 0 | AO31: =VLOOKUP($B31,'[3]ACT DEN1'!$AB$2:$AN$119,4,FALSE) -> 0 | AP31: =VLOOKUP($B31,'[3]ACT DEN1'!$AB$2:$AN$119,5,FALSE) -> 0 | AQ31: =VLOOKUP($B31,'[3]ACT DEN1'!$AB$2:$AN$119,6,FALSE) -> 0 | AR31: =VLOOKUP($B31,'[3]ACT DEN1'!$AB$2:$AN$119,7,FALSE) -> 0 | AS31: =VLOOKUP($B31,'[3]ACT DEN1'!$AB$2:$AN$119,8,FALSE) -> 0 | AT31: =VLOOKUP($B31,'[3]ACT DEN1'!$AB$2:$AN$119,9,FALSE) -> 0 | AU31: =VLOOKUP($B31,'[3]ACT DEN1'!$AB$2:$AN$119,10,FALSE) -> 0 | AV31: =VLOOKUP($B31,'[3]ACT DEN1'!$AB$2:$AN$119,11,FALSE) -> 0 | AW31: =VLOOKUP($B31,'[3]ACT DEN1'!$AB$2:$AN$119,12,FALSE) -> 0 | AY31: =SUM(AM31:AX31) -> 0
A32: 04102-COQUIMBO | B32: 105405-P.S.R. GUANAQUEROS | E32: =VLOOKUP($B32,[1]NUM1!$G$2:$T$157,2,FALSE) -> 0 | F32: =VLOOKUP($B32,[1]NUM1!$G$2:$T$157,3,FALSE) -> 3 | G32: =VLOOKUP($B32,[1]NUM1!$G$2:$T$157,4,FALSE) -> 1 | H32: =VLOOKUP($B32,[1]NUM1!$G$2:$T$157,5,FALSE) -> 3 | I32: =VLOOKUP($B32,[1]NUM1!$G$2:$T$157,6,FALSE) -> 1 | J32: =VLOOKUP($B32,[1]NUM1!$G$2:$T$157,7,FALSE) -> 0 | K32: =VLOOKUP($B32,[1]NUM1!$G$2:$T$157,8,FALSE) -> 1 | L32: =VLOOKUP($B32,[1]NUM1!$G$2:$T$157,9,FALSE) -> 1 | M32: =VLOOKUP($B32,[1]NUM1!$G$2:$T$157,10,FALSE) -> 0 | N32: =VLOOKUP($B32,[1]NUM1!$G$2:$T$157,11,FALSE) -> 2 | O32: =VLOOKUP($B32,[1]NUM1!$G$2:$T$157,12,FALSE) -> 0 | P32: =VLOOKUP($B32,[1]NUM1!$G$2:$T$157,13,FALSE) -> 5 | Q32: =SUM(E32:P32) -> 17 | S32: 15 | T32: =+S32+(Z32+AA32+AB32)-(AM32+AN32+AO32) -> 15 | U32: =VLOOKUP($B32,[2]DEN1!$G$2:$I$157,2,FALSE) -> 10 | V32: =+U32+(AF32+AG32)-(AS32+AT32) -> 10 | W32: =+U32+(AF32+AG32+AH32+AI32)-(AS32+AT32+AU32+AV32) -> 10 | X32: =VLOOKUP($B32,[1]DEN1!$G$2:$I$159,2,FALSE) -> 9 | Z32: =VLOOKUP($B32,'[3]ACT DEN1'!$G$2:$S$143,2,FALSE) -> 0 | AA32: =VLOOKUP($B32,'[3]ACT DEN1'!$G$2:$S$143,3,FALSE) -> 0 | AB32: =VLOOKUP($B32,'[3]ACT DEN1'!$G$2:$S$143,4,FALSE) -> 0 | AC32: =VLOOKUP($B32,'[3]ACT DEN1'!$G$2:$S$143,5,FALSE) -> 0 | AD32: =VLOOKUP($B32,'[3]ACT DEN1'!$G$2:$S$143,6,FALSE) -> 0 | AE32: =VLOOKUP($B32,'[3]ACT DEN1'!$G$2:$S$143,7,FALSE) -> 0 | AF32: =VLOOKUP($B32,'[3]ACT DEN1'!$G$2:$S$143,8,FALSE) -> 0 | AG32: =VLOOKUP($B32,'[3]ACT DEN1'!$G$2:$S$143,9,FALSE) -> 0 | AH32: =VLOOKUP($B32,'[3]ACT DEN1'!$G$2:$S$143,10,FALSE) -> 0 | AI32: =VLOOKUP($B32,'[3]ACT DEN1'!$G$2:$S$143,11,FALSE) -> 0 | AJ32: =VLOOKUP($B32,'[3]ACT DEN1'!$G$2:$S$143,12,FALSE) -> 0 | AL32: =SUM(Z32:AK32) -> 0 | AM32: =VLOOKUP($B32,'[3]ACT DEN1'!$AB$2:$AN$119,2,FALSE) -> 0 | AN32: =VLOOKUP($B32,'[3]ACT DEN1'!$AB$2:$AN$119,3,FALSE) -> 0 | AO32: =VLOOKUP($B32,'[3]ACT DEN1'!$AB$2:$AN$119,4,FALSE) -> 0 | AP32: =VLOOKUP($B32,'[3]ACT DEN1'!$AB$2:$AN$119,5,FALSE) -> 0 | AQ32: =VLOOKUP($B32,'[3]ACT DEN1'!$AB$2:$AN$119,6,FALSE) -> 0 | AR32: =VLOOKUP($B32,'[3]ACT DEN1'!$AB$2:$AN$119,7,FALSE) -> 0 | AS32: =VLOOKUP($B32,'[3]ACT DEN1'!$AB$2:$AN$119,8,FALSE) -> 0 | AT32: =VLOOKUP($B32,'[3]ACT DEN1'!$AB$2:$AN$119,9,FALSE) -> 0 | AU32: =VLOOKUP($B32,'[3]ACT DEN1'!$AB$2:$AN$119,10,FALSE) -> 0 | AV32: =VLOOKUP($B32,'[3]ACT DEN1'!$AB$2:$AN$119,11,FALSE) -> 0 | AW32: =VLOOKUP($B32,'[3]ACT DEN1'!$AB$2:$AN$119,12,FALSE) -> 0 | AY32: =SUM(AM32:AX32) -> 0
A33: 04102-COQUIMBO | B33: 105406-P.S.R. PAN DE AZUCAR | E33: =VLOOKUP($B33,[1]NUM1!$G$2:$T$157,2,FALSE) -> 3 | F33: =VLOOKUP($B33,[1]NUM1!$G$2:$T$157,3,FALSE) -> 2 | G33: =VLOOKUP($B33,[1]NUM1!$G$2:$T$157,4,FALSE) -> 11 | H33: =VLOOKUP($B33,[1]NUM1!$G$2:$T$157,5,FALSE) -> 21 | I33: =VLOOKUP($B33,[1]NUM1!$G$2:$T$157,6,FALSE) -> 14 | J33: =VLOOKUP($B33,[1]NUM1!$G$2:$T$157,7,FALSE) -> 2 | K33: =VLOOKUP($B33,[1]NUM1!$G$2:$T$157,8,FALSE) -> 9 | L33: =VLOOKUP($B33,[1]NUM1!$G$2:$T$157,9,FALSE) -> 11 | M33: =VLOOKUP($B33,[1]NUM1!$G$2:$T$157,10,FALSE) -> 0 | N33: =VLOOKUP($B33,[1]NUM1!$G$2:$T$157,11,FALSE) -> 2 | O33: =VLOOKUP($B33,[1]NUM1!$G$2:$T$157,12,FALSE) -> 7 | P33: =VLOOKUP($B33,[1]NUM1!$G$2:$T$157,13,FALSE) -> 1 | Q33: =SUM(E33:P33) -> 83 | S33: 10 | T33: =+S33+(Z33+AA33+AB33)-(AM33+AN33+AO33) -> 10 | U33: =VLOOKUP($B33,[2]DEN1!$G$2:$I$157,2,FALSE) -> 11 | V33: =+U33+(AF33+AG33)-(AS33+AT33) -> 13 | W33: =+U33+(AF33+AG33+AH33+AI33)-(AS33+AT33+AU33+AV33) -> 14 | X33: =VLOOKUP($B33,[1]DEN1!$G$2:$I$159,2,FALSE) -> 12 | Z33: =VLOOKUP($B33,'[3]ACT DEN1'!$G$2:$S$143,2,FALSE) -> 0 | AA33: =VLOOKUP($B33,'[3]ACT DEN1'!$G$2:$S$143,3,FALSE) -> 0 | AB33: =VLOOKUP($B33,'[3]ACT DEN1'!$G$2:$S$143,4,FALSE) -> 0 | AC33: =VLOOKUP($B33,'[3]ACT DEN1'!$G$2:$S$143,5,FALSE) -> 0 | AD33: =VLOOKUP($B33,'[3]ACT DEN1'!$G$2:$S$143,6,FALSE) -> 0 | AE33: =VLOOKUP($B33,'[3]ACT DEN1'!$G$2:$S$143,7,FALSE) -> 0 | AF33: =VLOOKUP($B33,'[3]ACT DEN1'!$G$2:$S$143,8,FALSE) -> 2 | AG33: =VLOOKUP($B33,'[3]ACT DEN1'!$G$2:$S$143,9,FALSE) -> 0 | AH33: =VLOOKUP($B33,'[3]ACT DEN1'!$G$2:$S$143,10,FALSE) -> 0 | AI33: =VLOOKUP($B33,'[3]ACT DEN1'!$G$2:$S$143,11,FALSE) -> 1 | AJ33: =VLOOKUP($B33,'[3]ACT DEN1'!$G$2:$S$143,12,FALSE) -> 0 | AL33: =SUM(Z33:AK33) -> 3 | AM33: =VLOOKUP($B33,'[3]ACT DEN1'!$AB$2:$AN$119,2,FALSE) -> 0 | AN33: =VLOOKUP($B33,'[3]ACT DEN1'!$AB$2:$AN$119,3,FALSE) -> 0 | AO33: =VLOOKUP($B33,'[3]ACT DEN1'!$AB$2:$AN$119,4,FALSE) -> 0 | AP33: =VLOOKUP($B33,'[3]ACT DEN1'!$AB$2:$AN$119,5,FALSE) -> 0 | AQ33: =VLOOKUP($B33,'[3]ACT DEN1'!$AB$2:$AN$119,6,FALSE) -> 0 | AR33: =VLOOKUP($B33,'[3]ACT DEN1'!$AB$2:$AN$119,7,FALSE) -> 0 | AS33: =VLOOKUP($B33,'[3]ACT DEN1'!$AB$2:$AN$119,8,FALSE) -> 0 | AT33: =VLOOKUP($B33,'[3]ACT DEN1'!$AB$2:$AN$119,9,FALSE) -> 0 | AU33: =VLOOKUP($B33,'[3]ACT DEN1'!$AB$2:$AN$119,10,FALSE) -> 0 | AV33: =VLOOKUP($B33,'[3]ACT DEN1'!$AB$2:$AN$119,11,FALSE) -> 0 | AW33: =VLOOKUP($B33,'[3]ACT DEN1'!$AB$2:$AN$119,12,FALSE) -> 0 | AY33: =SUM(AM33:AX33) -> 0
A34: 04102-COQUIMBO | B34: 105407-P.S.R. TAMBILLOS | E34: =VLOOKUP($B34,[1]NUM1!$G$2:$T$157,2,FALSE) -> 1 | F34: =VLOOKUP($B34,[1]NUM1!$G$2:$T$157,3,FALSE) -> 1 | G34: =VLOOKUP($B34,[1]NUM1!$G$2:$T$157,4,FALSE) -> 1 | H34: =VLOOKUP($B34,[1]NUM1!$G$2:$T$157,5,FALSE) -> 0 | I34: =VLOOKUP($B34,[1]NUM1!$G$2:$T$157,6,FALSE) -> 0 | J34: =VLOOKUP($B34,[1]NUM1!$G$2:$T$157,7,FALSE) -> 1 | K34: =VLOOKUP($B34,[1]NUM1!$G$2:$T$157,8,FALSE) -> 0 | L34: =VLOOKUP($B34,[1]NUM1!$G$2:$T$157,9,FALSE) -> 2 | M34: =VLOOKUP($B34,[1]NUM1!$G$2:$T$157,10,FALSE) -> 0 | N34: =VLOOKUP($B34,[1]NUM1!$G$2:$T$157,11,FALSE) -> 6 | O34: =VLOOKUP($B34,[1]NUM1!$G$2:$T$157,12,FALSE) -> 3 | P34: =VLOOKUP($B34,[1]NUM1!$G$2:$T$157,13,FALSE) -> 0 | Q34: =SUM(E34:P34) -> 15 | S34: 1 | T34: =+S34+(Z34+AA34+AB34)-(AM34+AN34+AO34) -> 1 | U34: =VLOOKUP($B34,[2]DEN1!$G$2:$I$157,2,FALSE) -> 1 | V34: =+U34+(AF34+AG34)-(AS34+AT34) -> 1 | W34: =+U34+(AF34+AG34+AH34+AI34)-(AS34+AT34+AU34+AV34) -> 1 | X34: =VLOOKUP($B34,[1]DEN1!$G$2:$I$159,2,FALSE) -> 1 | Z34: =VLOOKUP($B34,'[3]ACT DEN1'!$G$2:$S$143,2,FALSE) -> 0 | AA34: =VLOOKUP($B34,'[3]ACT DEN1'!$G$2:$S$143,3,FALSE) -> 0 | AB34: =VLOOKUP($B34,'[3]ACT DEN1'!$G$2:$S$143,4,FALSE) -> 0 | AC34: =VLOOKUP($B34,'[3]ACT DEN1'!$G$2:$S$143,5,FALSE) -> 0 | AD34: =VLOOKUP($B34,'[3]ACT DEN1'!$G$2:$S$143,6,FALSE) -> 0 | AE34: =VLOOKUP($B34,'[3]ACT DEN1'!$G$2:$S$143,7,FALSE) -> 0 | AF34: =VLOOKUP($B34,'[3]ACT DEN1'!$G$2:$S$143,8,FALSE) -> 0 | AG34: =VLOOKUP($B34,'[3]ACT DEN1'!$G$2:$S$143,9,FALSE) -> 0 | AH34: =VLOOKUP($B34,'[3]ACT DEN1'!$G$2:$S$143,10,FALSE) -> 0 | AI34: =VLOOKUP($B34,'[3]ACT DEN1'!$G$2:$S$143,11,FALSE) -> 0 | AJ34: =VLOOKUP($B34,'[3]ACT DEN1'!$G$2:$S$143,12,FALSE) -> 0 | AL34: =SUM(Z34:AK34) -> 0 | AM34: =VLOOKUP($B34,'[3]ACT DEN1'!$AB$2:$AN$119,2,FALSE) -> 0 | AN34: =VLOOKUP($B34,'[3]ACT DEN1'!$AB$2:$AN$119,3,FALSE) -> 0 | AO34: =VLOOKUP($B34,'[3]ACT DEN1'!$AB$2:$AN$119,4,FALSE) -> 0 | AP34: =VLOOKUP($B34,'[3]ACT DEN1'!$AB$2:$AN$119,5,FALSE) -> 0 | AQ34: =VLOOKUP($B34,'[3]ACT DEN1'!$AB$2:$AN$119,6,FALSE) -> 0 | AR34: =VLOOKUP($B34,'[3]ACT DEN1'!$AB$2:$AN$119,7,FALSE) -> 0 | AS34: =VLOOKUP($B34,'[3]ACT DEN1'!$AB$2:$AN$119,8,FALSE) -> 0 | AT34: =VLOOKUP($B34,'[3]ACT DEN1'!$AB$2:$AN$119,9,FALSE) -> 0 | AU34: =VLOOKUP($B34,'[3]ACT DEN1'!$AB$2:$AN$119,10,FALSE) -> 0 | AV34: =VLOOKUP($B34,'[3]ACT DEN1'!$AB$2:$AN$119,11,FALSE) -> 0 | AW34: =VLOOKUP($B34,'[3]ACT DEN1'!$AB$2:$AN$119,12,FALSE) -> 0 | AY34: =SUM(AM34:AX34) -> 0
A35: 04102-COQUIMBO | B35: 105705-CECOF EL ALBA | E35: =VLOOKUP($B35,[1]NUM1!$G$2:$T$157,2,FALSE) -> 1 | F35: =VLOOKUP($B35,[1]NUM1!$G$2:$T$157,3,FALSE) -> 7 | G35: =VLOOKUP($B35,[1]NUM1!$G$2:$T$157,4,FALSE) -> 15 | H35: =VLOOKUP($B35,[1]NUM1!$G$2:$T$157,5,FALSE) -> 14 | I35: =VLOOKUP($B35,[1]NUM1!$G$2:$T$157,6,FALSE) -> 35 | J35: =VLOOKUP($B35,[1]NUM1!$G$2:$T$157,7,FALSE) -> 13 | K35: =VLOOKUP($B35,[1]NUM1!$G$2:$T$157,8,FALSE) -> 3 | L35: =VLOOKUP($B35,[1]NUM1!$G$2:$T$157,9,FALSE) -> 2 | M35: =VLOOKUP($B35,[1]NUM1!$G$2:$T$157,10,FALSE) -> 3 | N35: =VLOOKUP($B35,[1]NUM1!$G$2:$T$157,11,FALSE) -> 0 | O35: =VLOOKUP($B35,[1]NUM1!$G$2:$T$157,12,FALSE) -> 2 | P35: =VLOOKUP($B35,[1]NUM1!$G$2:$T$157,13,FALSE) -> 7 | Q35: =SUM(E35:P35) -> 102 | S35: 20 | T35: =+S35+(Z35+AA35+AB35)-(AM35+AN35+AO35) -> 21 | U35: =VLOOKUP($B35,[2]DEN1!$G$2:$I$157,2,FALSE) -> 22 | V35: =+U35+(AF35+AG35)-(AS35+AT35) -> 23 | W35: =+U35+(AF35+AG35+AH35+AI35)-(AS35+AT35+AU35+AV35) -> 25 | X35: =VLOOKUP($B35,[1]DEN1!$G$2:$I$159,2,FALSE) -> 26 | Z35: =VLOOKUP($B35,'[3]ACT DEN1'!$G$2:$S$143,2,FALSE) -> 0 | AA35: =VLOOKUP($B35,'[3]ACT DEN1'!$G$2:$S$143,3,FALSE) -> 1 | AB35: =VLOOKUP($B35,'[3]ACT DEN1'!$G$2:$S$143,4,FALSE) -> 0 | AC35: =VLOOKUP($B35,'[3]ACT DEN1'!$G$2:$S$143,5,FALSE) -> 1 | AD35: =VLOOKUP($B35,'[3]ACT DEN1'!$G$2:$S$143,6,FALSE) -> 1 | AE35: =VLOOKUP($B35,'[3]ACT DEN1'!$G$2:$S$143,7,FALSE) -> 1 | AF35: =VLOOKUP($B35,'[3]ACT DEN1'!$G$2:$S$143,8,FALSE) -> 0 | AG35: =VLOOKUP($B35,'[3]ACT DEN1'!$G$2:$S$143,9,FALSE) -> 1 | AH35: =VLOOKUP($B35,'[3]ACT DEN1'!$G$2:$S$143,10,FALSE) -> 0 | AI35: =VLOOKUP($B35,'[3]ACT DEN1'!$G$2:$S$143,11,FALSE) -> 2 | AJ35: =VLOOKUP($B35,'[3]ACT DEN1'!$G$2:$S$143,12,FALSE) -> 0 | AL35: =SUM(Z35:AK35) -> 7 | AM35: =VLOOKUP($B35,'[3]ACT DEN1'!$AB$2:$AN$119,2,FALSE) -> 0 | AN35: =VLOOKUP($B35,'[3]ACT DEN1'!$AB$2:$AN$119,3,FALSE) -> 0 | AO35: =VLOOKUP($B35,'[3]ACT DEN1'!$AB$2:$AN$119,4,FALSE) -> 0 | AP35: =VLOOKUP($B35,'[3]ACT DEN1'!$AB$2:$AN$119,5,FALSE) -> 0 | AQ35: =VLOOKUP($B35,'[3]ACT DEN1'!$AB$2:$AN$119,6,FALSE) -> 0 | AR35: =VLOOKUP($B35,'[3]ACT DEN1'!$AB$2:$AN$119,7,FALSE) -> 0 | AS35: =VLOOKUP($B35,'[3]ACT DEN1'!$AB$2:$AN$119,8,FALSE) -> 0 | AT35: =VLOOKUP($B35,'[3]ACT DEN1'!$AB$2:$AN$119,9,FALSE) -> 0 | AU35: =VLOOKUP($B35,'[3]ACT DEN1'!$AB$2:$AN$119,10,FALSE) -> 0 | AV35: =VLOOKUP($B35,'[3]ACT DEN1'!$AB$2:$AN$119,11,FALSE) -> 0 | AW35: =VLOOKUP($B35,'[3]ACT DEN1'!$AB$2:$AN$119,12,FALSE) -> 0 | AY35: =SUM(AM35:AX35) -> 0
A36: TOTAL COQUIMBO MUNICIPAL | C36: =+D36/Metas!G108 -> 0.97002941 | D36: =+Q36/R36 -> 0.17460529 | E36: =SUM(E26:E35) -> 323 | F36: =SUM(F26:F35) -> 359 | G36: =SUM(G26:G35) -> 711 | H36: =SUM(H26:H35) -> 508 | I36: =SUM(I26:I35) -> 483 | J36: =SUM(J26:J35) -> 377 | K36: =SUM(K26:K35) -> 426 | L36: =SUM(L26:L35) -> 491 | ... Q36: =SUM(Q26:Q35) -> 5231 | R36: =+Y36-X36 -> 29959 | S36: =SUM(S26:S35) -> 833 | T36: =SUM(T26:T35) -> 862 | U36: =SUM(U26:U35) -> 869 | V36: =SUM(V26:V35) -> 904 | W36: =SUM(W26:W35) -> 920 | X36: =SUM(X26:X35) -> 916 | Y36: 30875 | Z36: =SUM(Z26:Z35) -> 9 | AA36: =SUM(AA26:AA35) -> 12 | AB36: =SUM(AB26:AB35) -> 10 | AC36: =SUM(AC26:AC35) -> 23 | AD36: =SUM(AD26:AD35) -> 12 | AE36: =SUM(AE26:AE35) -> 12 | AF36: =SUM(AF26:AF35) -> 18 | AG36: =SUM(AG26:AG35) -> 20 | ... AK36: =SUM(AK26:AK35) -> 0 | AL36: =SUM(Z36:AK36) -> 139 | AM36: =SUM(AM26:AM35) -> 0 | AN36: =SUM(AN26:AN35) -> 2 | AO36: =SUM(AO26:AO35) -> 0 | AP36: =SUM(AP26:AP35) -> 4 | AQ36: =SUM(AQ26:AQ35) -> 6 | AR36: =SUM(AR26:AR35) -> 5 | AS36: =SUM(AS26:AS35) -> 1 | AT36: =SUM(AT26:AT35) -> 2 | ... AX36: =SUM(AX26:AX35) -> 0 | AY36: =SUM(AM36:AX36) -> 24
A37: 04106-VICUÑA | B37: 105467-P.S.R. DIAGUITAS | E37: =VLOOKUP($B37,[1]NUM1!$G$2:$T$157,2,FALSE) -> 3 | F37: =VLOOKUP($B37,[1]NUM1!$G$2:$T$157,3,FALSE) -> 2 | G37: =VLOOKUP($B37,[1]NUM1!$G$2:$T$157,4,FALSE) -> 3 | H37: =VLOOKUP($B37,[1]NUM1!$G$2:$T$157,5,FALSE) -> 10 | I37: =VLOOKUP($B37,[1]NUM1!$G$2:$T$157,6,FALSE) -> 5 | J37: =VLOOKUP($B37,[1]NUM1!$G$2:$T$157,7,FALSE) -> 3 | K37: =VLOOKUP($B37,[1]NUM1!$G$2:$T$157,8,FALSE) -> 3 | L37: =VLOOKUP($B37,[1]NUM1!$G$2:$T$157,9,FALSE) -> 3 | M37: =VLOOKUP($B37,[1]NUM1!$G$2:$T$157,10,FALSE) -> 5 | N37: =VLOOKUP($B37,[1]NUM1!$G$2:$T$157,11,FALSE) -> 0 | O37: =VLOOKUP($B37,[1]NUM1!$G$2:$T$157,12,FALSE) -> 5 | P37: =VLOOKUP($B37,[1]NUM1!$G$2:$T$157,13,FALSE) -> 0 | Q37: =SUM(E37:P37) -> 42 | S37: 10 | T37: =+S37+(Z37+AA37+AB37)-(AM37+AN37+AO37) -> 10 | U37: =VLOOKUP($B37,[2]DEN1!$G$2:$I$157,2,FALSE) -> 9 | V37: =+U37+(AF37+AG37)-(AS37+AT37) -> 10 | W37: =+U37+(AF37+AG37+AH37+AI37)-(AS37+AT37+AU37+AV37) -> 10 | X37: =VLOOKUP($B37,[1]DEN1!$G$2:$I$159,2,FALSE) -> 13 | Z37: =VLOOKUP($B37,'[3]ACT DEN1'!$G$2:$S$143,2,FALSE) -> 0 | AA37: =VLOOKUP($B37,'[3]ACT DEN1'!$G$2:$S$143,3,FALSE) -> 0 | AB37: =VLOOKUP($B37,'[3]ACT DEN1'!$G$2:$S$143,4,FALSE) -> 0 | AC37: =VLOOKUP($B37,'[3]ACT DEN1'!$G$2:$S$143,5,FALSE) -> 1 | AD37: =VLOOKUP($B37,'[3]ACT DEN1'!$G$2:$S$143,6,FALSE) -> 0 | AE37: =VLOOKUP($B37,'[3]ACT DEN1'!$G$2:$S$143,7,FALSE) -> 0 | AF37: =VLOOKUP($B37,'[3]ACT DEN1'!$G$2:$S$143,8,FALSE) -> 1 | AG37: =VLOOKUP($B37,'[3]ACT DEN1'!$G$2:$S$143,9,FALSE) -> 0 | AH37: =VLOOKUP($B37,'[3]ACT DEN1'!$G$2:$S$143,10,FALSE) -> 0 | AI37: =VLOOKUP($B37,'[3]ACT DEN1'!$G$2:$S$143,11,FALSE) -> 0 | AJ37: =VLOOKUP($B37,'[3]ACT DEN1'!$G$2:$S$143,12,FALSE) -> 0 | AL37: =SUM(Z37:AK37) -> 2 | AM37: =VLOOKUP($B37,'[3]ACT DEN1'!$AB$2:$AN$119,2,FALSE) -> 0 | AN37: =VLOOKUP($B37,'[3]ACT DEN1'!$AB$2:$AN$119,3,FALSE) -> 0 | AO37: =VLOOKUP($B37,'[3]ACT DEN1'!$AB$2:$AN$119,4,FALSE) -> 0 | AP37: =VLOOKUP($B37,'[3]ACT DEN1'!$AB$2:$AN$119,5,FALSE) -> 0 | AQ37: =VLOOKUP($B37,'[3]ACT DEN1'!$AB$2:$AN$119,6,FALSE) -> 0 | AR37: =VLOOKUP($B37,'[3]ACT DEN1'!$AB$2:$AN$119,7,FALSE) -> 0 | AS37: =VLOOKUP($B37,'[3]ACT DEN1'!$AB$2:$AN$119,8,FALSE) -> 0 | AT37: =VLOOKUP($B37,'[3]ACT DEN1'!$AB$2:$AN$119,9,FALSE) -> 0 | AU37: =VLOOKUP($B37,'[3]ACT DEN1'!$AB$2:$AN$119,10,FALSE) -> 0 | AV37: =VLOOKUP($B37,'[3]ACT DEN1'!$AB$2:$AN$119,11,FALSE) -> 0 | AW37: =VLOOKUP($B37,'[3]ACT DEN1'!$AB$2:$AN$119,12,FALSE) -> 0 | AY37: =SUM(AM37:AX37) -> 0
A38: 04106-VICUÑA | B38: 105468-P.S.R. EL MOLLE | E38: =VLOOKUP($B38,[1]NUM1!$G$2:$T$157,2,FALSE) -> 0 | F38: =VLOOKUP($B38,[1]NUM1!$G$2:$T$157,3,FALSE) -> 0 | G38: =VLOOKUP($B38,[1]NUM1!$G$2:$T$157,4,FALSE) -> 2 | H38: =VLOOKUP($B38,[1]NUM1!$G$2:$T$157,5,FALSE) -> 3 | I38: =VLOOKUP($B38,[1]NUM1!$G$2:$T$157,6,FALSE) -> 0 | J38: =VLOOKUP($B38,[1]NUM1!$G$2:$T$157,7,FALSE) -> 0 | K38: =VLOOKUP($B38,[1]NUM1!$G$2:$T$157,8,FALSE) -> 0 | L38: =VLOOKUP($B38,[1]NUM1!$G$2:$T$157,9,FALSE) -> 1 | M38: =VLOOKUP($B38,[1]NUM1!$G$2:$T$157,10,FALSE) -> 0 | N38: =VLOOKUP($B38,[1]NUM1!$G$2:$T$157,11,FALSE) -> 0 | O38: =VLOOKUP($B38,[1]NUM1!$G$2:$T$157,12,FALSE) -> 0 | P38: =VLOOKUP($B38,[1]NUM1!$G$2:$T$157,13,FALSE) -> 0 | Q38: =SUM(E38:P38) -> 6 | S38: 4 | T38: =+S38+(Z38+AA38+AB38)-(AM38+AN38+AO38) -> 4 | U38: =VLOOKUP($B38,[2]DEN1!$G$2:$I$157,2,FALSE) -> 4 | V38: =+U38+(AF38+AG38)-(AS38+AT38) -> 4 | W38: =+U38+(AF38+AG38+AH38+AI38)-(AS38+AT38+AU38+AV38) -> 4 | X38: =VLOOKUP($B38,[1]DEN1!$G$2:$I$159,2,FALSE) -> 5 | Z38: =VLOOKUP($B38,'[3]ACT DEN1'!$G$2:$S$143,2,FALSE) -> 0 | AA38: =VLOOKUP($B38,'[3]ACT DEN1'!$G$2:$S$143,3,FALSE) -> 0 | AB38: =VLOOKUP($B38,'[3]ACT DEN1'!$G$2:$S$143,4,FALSE) -> 0 | AC38: =VLOOKUP($B38,'[3]ACT DEN1'!$G$2:$S$143,5,FALSE) -> 0 | AD38: =VLOOKUP($B38,'[3]ACT DEN1'!$G$2:$S$143,6,FALSE) -> 0 | AE38: =VLOOKUP($B38,'[3]ACT DEN1'!$G$2:$S$143,7,FALSE) -> 0 | AF38: =VLOOKUP($B38,'[3]ACT DEN1'!$G$2:$S$143,8,FALSE) -> 0 | AG38: =VLOOKUP($B38,'[3]ACT DEN1'!$G$2:$S$143,9,FALSE) -> 0 | AH38: =VLOOKUP($B38,'[3]ACT DEN1'!$G$2:$S$143,10,FALSE) -> 0 | AI38: =VLOOKUP($B38,'[3]ACT DEN1'!$G$2:$S$143,11,FALSE) -> 0 | AJ38: =VLOOKUP($B38,'[3]ACT DEN1'!$G$2:$S$143,12,FALSE) -> 0 | AL38: =SUM(Z38:AK38) -> 0 | AY38: =SUM(AM38:AX38) -> 0
A39: 04106-VICUÑA | B39: 105469-P.S.R. EL TAMBO | E39: =VLOOKUP($B39,[1]NUM1!$G$2:$T$157,2,FALSE) -> 0 | F39: =VLOOKUP($B39,[1]NUM1!$G$2:$T$157,3,FALSE) -> 3 | G39: =VLOOKUP($B39,[1]NUM1!$G$2:$T$157,4,FALSE) -> 0 | H39: =VLOOKUP($B39,[1]NUM1!$G$2:$T$157,5,FALSE) -> 12 | I39: =VLOOKUP($B39,[1]NUM1!$G$2:$T$157,6,FALSE) -> 1 | J39: =VLOOKUP($B39,[1]NUM1!$G$2:$T$157,7,FALSE) -> 36 | K39: =VLOOKUP($B39,[1]NUM1!$G$2:$T$157,8,FALSE) -> 0 | L39: =VLOOKUP($B39,[1]NUM1!$G$2:$T$157,9,FALSE) -> 2 | M39: =VLOOKUP($B39,[1]NUM1!$G$2:$T$157,10,FALSE) -> 6 | N39: =VLOOKUP($B39,[1]NUM1!$G$2:$T$157,11,FALSE) -> 1 | O39: =VLOOKUP($B39,[1]NUM1!$G$2:$T$157,12,FALSE) -> 1 | P39: =VLOOKUP($B39,[1]NUM1!$G$2:$T$157,13,FALSE) -> 0 | Q39: =SUM(E39:P39) -> 62 | S39: 6 | T39: =+S39+(Z39+AA39+AB39)-(AM39+AN39+AO39) -> 6 | U39: =VLOOKUP($B39,[2]DEN1!$G$2:$I$157,2,FALSE) -> 2 | V39: =+U39+(AF39+AG39)-(AS39+AT39) -> 2 | W39: =+U39+(AF39+AG39+AH39+AI39)-(AS39+AT39+AU39+AV39) -> 2 | X39: =VLOOKUP($B39,[1]DEN1!$G$2:$I$159,2,FALSE) -> 3 | Z39: =VLOOKUP($B39,'[3]ACT DEN1'!$G$2:$S$143,2,FALSE) -> 0 | AA39: =VLOOKUP($B39,'[3]ACT DEN1'!$G$2:$S$143,3,FALSE) -> 0 | AB39: =VLOOKUP($B39,'[3]ACT DEN1'!$G$2:$S$143,4,FALSE) -> 0 | AC39: =VLOOKUP($B39,'[3]ACT DEN1'!$G$2:$S$143,5,FALSE) -> 0 | AD39: =VLOOKUP($B39,'[3]ACT DEN1'!$G$2:$S$143,6,FALSE) -> 0 | AE39: =VLOOKUP($B39,'[3]ACT DEN1'!$G$2:$S$143,7,FALSE) -> 1 | AF39: =VLOOKUP($B39,'[3]ACT DEN1'!$G$2:$S$143,8,FALSE) -> 0 | AG39: =VLOOKUP($B39,'[3]ACT DEN1'!$G$2:$S$143,9,FALSE) -> 0 | AH39: =VLOOKUP($B39,'[3]ACT DEN1'!$G$2:$S$143,10,FALSE) -> 0 | AI39: =VLOOKUP($B39,'[3]ACT DEN1'!$G$2:$S$143,11,FALSE) -> 0 | AJ39: =VLOOKUP($B39,'[3]ACT DEN1'!$G$2:$S$143,12,FALSE) -> 0 | AL39: =SUM(Z39:AK39) -> 1 | AY39: =SUM(AM39:AX39) -> 0
A40: 04106-VICUÑA | B40: 105470-P.S.R. HUANTA | E40: =VLOOKUP($B40,[1]NUM1!$G$2:$T$157,2,FALSE) -> 0 | F40: =VLOOKUP($B40,[1]NUM1!$G$2:$T$157,3,FALSE) -> 0 | G40: =VLOOKUP($B40,[1]NUM1!$G$2:$T$157,4,FALSE) -> 0 | H40: =VLOOKUP($B40,[1]NUM1!$G$2:$T$157,5,FALSE) -> 0 | I40: =VLOOKUP($B40,[1]NUM1!$G$2:$T$157,6,FALSE) -> 0 | J40: =VLOOKUP($B40,[1]NUM1!$G$2:$T$157,7,FALSE) -> 0 | K40: =VLOOKUP($B40,[1]NUM1!$G$2:$T$157,8,FALSE) -> 0 | L40: =VLOOKUP($B40,[1]NUM1!$G$2:$T$157,9,FALSE) -> 0 | M40: =VLOOKUP($B40,[1]NUM1!$G$2:$T$157,10,FALSE) -> 1 | N40: =VLOOKUP($B40,[1]NUM1!$G$2:$T$157,11,FALSE) -> 0 | O40: =VLOOKUP($B40,[1]NUM1!$G$2:$T$157,12,FALSE) -> 100 | P40: =VLOOKUP($B40,[1]NUM1!$G$2:$T$157,13,FALSE) -> 0 | Q40: =SUM(E40:P40) -> 101 | S40: 0 | T40: =+S40+(Z40+AA40+AB40)-(AM40+AN40+AO40) -> 0 | U40: =VLOOKUP($B40,[2]DEN1!$G$2:$I$157,2,FALSE) -> 0 | V40: =+U40+(AF40+AG40)-(AS40+AT40) -> 0 | W40: =+U40+(AF40+AG40+AH40+AI40)-(AS40+AT40+AU40+AV40) -> 0 | X40: =VLOOKUP($B40,[1]DEN1!$G$2:$I$159,2,FALSE) -> 0 | AL40: =SUM(Z40:AK40) -> 0 | AY40: =SUM(AM40:AX40) -> 0
A41: 04106-VICUÑA | B41: 105471-P.S.R. PERALILLO | E41: =VLOOKUP($B41,[1]NUM1!$G$2:$T$157,2,FALSE) -> 1 | F41: =VLOOKUP($B41,[1]NUM1!$G$2:$T$157,3,FALSE) -> 0 | G41: =VLOOKUP($B41,[1]NUM1!$G$2:$T$157,4,FALSE) -> 2 | H41: =VLOOKUP($B41,[1]NUM1!$G$2:$T$157,5,FALSE) -> 5 | I41: =VLOOKUP($B41,[1]NUM1!$G$2:$T$157,6,FALSE) -> 8 | J41: =VLOOKUP($B41,[1]NUM1!$G$2:$T$157,7,FALSE) -> 0 | K41: =VLOOKUP($B41,[1]NUM1!$G$2:$T$157,8,FALSE) -> 4 | L41: =VLOOKUP($B41,[1]NUM1!$G$2:$T$157,9,FALSE) -> 0 | M41: =VLOOKUP($B41,[1]NUM1!$G$2:$T$157,10,FALSE) -> 19 | N41: =VLOOKUP($B41,[1]NUM1!$G$2:$T$157,11,FALSE) -> 0 | O41: =VLOOKUP($B41,[1]NUM1!$G$2:$T$157,12,FALSE) -> 0 | P41: =VLOOKUP($B41,[1]NUM1!$G$2:$T$157,13,FALSE) -> 3 | Q41: =SUM(E41:P41) -> 42 | S41: 3 | T41: =+S41+(Z41+AA41+AB41)-(AM41+AN41+AO41) -> 3 | U41: =VLOOKUP($B41,[2]DEN1!$G$2:$I$157,2,FALSE) -> 6 | V41: =+U41+(AF41+AG41)-(AS41+AT41) -> 8 | W41: =+U41+(AF41+AG41+AH41+AI41)-(AS41+AT41+AU41+AV41) -> 8 | X41: =VLOOKUP($B41,[1]DEN1!$G$2:$I$159,2,FALSE) -> 5 | Z41: =VLOOKUP($B41,'[3]ACT DEN1'!$G$2:$S$143,2,FALSE) -> 0 | AA41: =VLOOKUP($B41,'[3]ACT DEN1'!$G$2:$S$143,3,FALSE) -> 0 | AB41: =VLOOKUP($B41,'[3]ACT DEN1'!$G$2:$S$143,4,FALSE) -> 0 | AC41: =VLOOKUP($B41,'[3]ACT DEN1'!$G$2:$S$143,5,FALSE) -> 0 | AD41: =VLOOKUP($B41,'[3]ACT DEN1'!$G$2:$S$143,6,FALSE) -> 0 | AE41: =VLOOKUP($B41,'[3]ACT DEN1'!$G$2:$S$143,7,FALSE) -> 1 | AF41: =VLOOKUP($B41,'[3]ACT DEN1'!$G$2:$S$143,8,FALSE) -> 1 | AG41: =VLOOKUP($B41,'[3]ACT DEN1'!$G$2:$S$143,9,FALSE) -> 1 | AH41: =VLOOKUP($B41,'[3]ACT DEN1'!$G$2:$S$143,10,FALSE) -> 0 | AI41: =VLOOKUP($B41,'[3]ACT DEN1'!$G$2:$S$143,11,FALSE) -> 0 | AJ41: =VLOOKUP($B41,'[3]ACT DEN1'!$G$2:$S$143,12,FALSE) -> 0 | AL41: =SUM(Z41:AK41) -> 3 | AY41: =SUM(AM41:AX41) -> 0
A42: 04106-VICUÑA | B42: 105472-P.S.R. RIVADAVIA | E42: =VLOOKUP($B42,[1]NUM1!$G$2:$T$157,2,FALSE) -> 2 | F42: =VLOOKUP($B42,[1]NUM1!$G$2:$T$157,3,FALSE) -> 6 | G42: =VLOOKUP($B42,[1]NUM1!$G$2:$T$157,4,FALSE) -> 8 | H42: =VLOOKUP($B42,[1]NUM1!$G$2:$T$157,5,FALSE) -> 4 | I42: =VLOOKUP($B42,[1]NUM1!$G$2:$T$157,6,FALSE) -> 6 | J42: =VLOOKUP($B42,[1]NUM1!$G$2:$T$157,7,FALSE) -> 15 | K42: =VLOOKUP($B42,[1]NUM1!$G$2:$T$157,8,FALSE) -> 5 | L42: =VLOOKUP($B42,[1]NUM1!$G$2:$T$157,9,FALSE) -> 1 | M42: =VLOOKUP($B42,[1]NUM1!$G$2:$T$157,10,FALSE) -> 14 | N42: =VLOOKUP($B42,[1]NUM1!$G$2:$T$157,11,FALSE) -> 6 | O42: =VLOOKUP($B42,[1]NUM1!$G$2:$T$157,12,FALSE) -> 0 | P42: =VLOOKUP($B42,[1]NUM1!$G$2:$T$157,13,FALSE) -> 0 | Q42: =SUM(E42:P42) -> 67 | S42: 13 | T42: =+S42+(Z42+AA42+AB42)-(AM42+AN42+AO42) -> 13 | U42: =VLOOKUP($B42,[2]DEN1!$G$2:$I$157,2,FALSE) -> 13 | V42: =+U42+(AF42+AG42)-(AS42+AT42) -> 13 | W42: =+U42+(AF42+AG42+AH42+AI42)-(AS42+AT42+AU42+AV42) -> 13 | X42: =VLOOKUP($B42,[1]DEN1!$G$2:$I$159,2,FALSE) -> 14 | Z42: =VLOOKUP($B42,'[3]ACT DEN1'!$G$2:$S$143,2,FALSE) -> 0 | AA42: =VLOOKUP($B42,'[3]ACT DEN1'!$G$2:$S$143,3,FALSE) -> 0 | AB42: =VLOOKUP($B42,'[3]ACT DEN1'!$G$2:$S$143,4,FALSE) -> 0 | AC42: =VLOOKUP($B42,'[3]ACT DEN1'!$G$2:$S$143,5,FALSE) -> 0 | AD42: =VLOOKUP($B42,'[3]ACT DEN1'!$G$2:$S$143,6,FALSE) -> 0 | AE42: =VLOOKUP($B42,'[3]ACT DEN1'!$G$2:$S$143,7,FALSE) -> 0 | AF42: =VLOOKUP($B42,'[3]ACT DEN1'!$G$2:$S$143,8,FALSE) -> 0 | AG42: =VLOOKUP($B42,'[3]ACT DEN1'!$G$2:$S$143,9,FALSE) -> 0 | AH42: =VLOOKUP($B42,'[3]ACT DEN1'!$G$2:$S$143,10,FALSE) -> 0 | AI42: =VLOOKUP($B42,'[3]ACT DEN1'!$G$2:$S$143,11,FALSE) -> 0 | AJ42: =VLOOKUP($B42,'[3]ACT DEN1'!$G$2:$S$143,12,FALSE) -> 0 | AL42: =SUM(Z42:AK42) -> 0 | AY42: =SUM(AM42:AX42) -> 0
A43: 04106-VICUÑA | B43: 105473-P.S.R. TALCUNA | E43: =VLOOKUP($B43,[1]NUM1!$G$2:$T$157,2,FALSE) -> 0 | F43: =VLOOKUP($B43,[1]NUM1!$G$2:$T$157,3,FALSE) -> 0 | G43: =VLOOKUP($B43,[1]NUM1!$G$2:$T$157,4,FALSE) -> 2 | H43: =VLOOKUP($B43,[1]NUM1!$G$2:$T$157,5,FALSE) -> 2 | I43: =VLOOKUP($B43,[1]NUM1!$G$2:$T$157,6,FALSE) -> 1 | J43: =VLOOKUP($B43,[1]NUM1!$G$2:$T$157,7,FALSE) -> 0 | K43: =VLOOKUP($B43,[1]NUM1!$G$2:$T$157,8,FALSE) -> 0 | L43: =VLOOKUP($B43,[1]NUM1!$G$2:$T$157,9,FALSE) -> 0 | M43: =VLOOKUP($B43,[1]NUM1!$G$2:$T$157,10,FALSE) -> 6 | N43: =VLOOKUP($B43,[1]NUM1!$G$2:$T$157,11,FALSE) -> 0 | O43: =VLOOKUP($B43,[1]NUM1!$G$2:$T$157,12,FALSE) -> 1 | P43: =VLOOKUP($B43,[1]NUM1!$G$2:$T$157,13,FALSE) -> 0 | Q43: =SUM(E43:P43) -> 12 | S43: 6 | T43: =+S43+(Z43+AA43+AB43)-(AM43+AN43+AO43) -> 6 | U43: =VLOOKUP($B43,[2]DEN1!$G$2:$I$157,2,FALSE) -> 7 | V43: =+U43+(AF43+AG43)-(AS43+AT43) -> 7 | W43: =+U43+(AF43+AG43+AH43+AI43)-(AS43+AT43+AU43+AV43) -> 7 | X43: =VLOOKUP($B43,[1]DEN1!$G$2:$I$159,2,FALSE) -> 2 | Z43: =VLOOKUP($B43,'[3]ACT DEN1'!$G$2:$S$143,2,FALSE) -> 0 | AA43: =VLOOKUP($B43,'[3]ACT DEN1'!$G$2:$S$143,3,FALSE) -> 0 | AB43: =VLOOKUP($B43,'[3]ACT DEN1'!$G$2:$S$143,4,FALSE) -> 0 | AC43: =VLOOKUP($B43,'[3]ACT DEN1'!$G$2:$S$143,5,FALSE) -> 0 | AD43: =VLOOKUP($B43,'[3]ACT DEN1'!$G$2:$S$143,6,FALSE) -> 0 | AE43: =VLOOKUP($B43,'[3]ACT DEN1'!$G$2:$S$143,7,FALSE) -> 0 | AF43: =VLOOKUP($B43,'[3]ACT DEN1'!$G$2:$S$143,8,FALSE) -> 0 | AG43: =VLOOKUP($B43,'[3]ACT DEN1'!$G$2:$S$143,9,FALSE) -> 0 | AH43: =VLOOKUP($B43,'[3]ACT DEN1'!$G$2:$S$143,10,FALSE) -> 0 | AI43: =VLOOKUP($B43,'[3]ACT DEN1'!$G$2:$S$143,11,FALSE) -> 0 | AJ43: =VLOOKUP($B43,'[3]ACT DEN1'!$G$2:$S$143,12,FALSE) -> 0 | AL43: =SUM(Z43:AK43) -> 0 | AY43: =SUM(AM43:AX43) -> 0
A44: 04106-VICUÑA | B44: 105474-P.S.R. CHAPILCA | E44: =VLOOKUP($B44,[1]NUM1!$G$2:$T$157,2,FALSE) -> 0 | F44: =VLOOKUP($B44,[1]NUM1!$G$2:$T$157,3,FALSE) -> 0 | G44: =VLOOKUP($B44,[1]NUM1!$G$2:$T$157,4,FALSE) -> 1 | H44: =VLOOKUP($B44,[1]NUM1!$G$2:$T$157,5,FALSE) -> 1 | I44: =VLOOKUP($B44,[1]NUM1!$G$2:$T$157,6,FALSE) -> 4 | J44: =VLOOKUP($B44,[1]NUM1!$G$2:$T$157,7,FALSE) -> 3 | K44: =VLOOKUP($B44,[1]NUM1!$G$2:$T$157,8,FALSE) -> 1 | L44: =VLOOKUP($B44,[1]NUM1!$G$2:$T$157,9,FALSE) -> 1 | M44: =VLOOKUP($B44,[1]NUM1!$G$2:$T$157,10,FALSE) -> 1 | N44: =VLOOKUP($B44,[1]NUM1!$G$2:$T$157,11,FALSE) -> 2 | O44: =VLOOKUP($B44,[1]NUM1!$G$2:$T$157,12,FALSE) -> 0 | P44: =VLOOKUP($B44,[1]NUM1!$G$2:$T$157,13,FALSE) -> 3 | Q44: =SUM(E44:P44) -> 17 | S44: 1 | T44: =+S44+(Z44+AA44+AB44)-(AM44+AN44+AO44) -> 1 | U44: =VLOOKUP($B44,[2]DEN1!$G$2:$I$157,2,FALSE) -> 1 | V44: =+U44+(AF44+AG44)-(AS44+AT44) -> 1 | W44: =+U44+(AF44+AG44+AH44+AI44)-(AS44+AT44+AU44+AV44) -> 1 | X44: =VLOOKUP($B44,[1]DEN1!$G$2:$I$159,2,FALSE) -> 2 | AL44: =SUM(Z44:AK44) -> 0 | AY44: =SUM(AM44:AX44) -> 0
A45: 04106-VICUÑA | B45: 105502-P.S.R. CALINGASTA | E45: =VLOOKUP($B45,[1]NUM1!$G$2:$T$157,2,FALSE) -> 0 | F45: =VLOOKUP($B45,[1]NUM1!$G$2:$T$157,3,FALSE) -> 0 | G45: =VLOOKUP($B45,[1]NUM1!$G$2:$T$157,4,FALSE) -> 10 | H45: =VLOOKUP($B45,[1]NUM1!$G$2:$T$157,5,FALSE) -> 15 | I45: =VLOOKUP($B45,[1]NUM1!$G$2:$T$157,6,FALSE) -> 4 | J45: =VLOOKUP($B45,[1]NUM1!$G$2:$T$157,7,FALSE) -> 25 | K45: =VLOOKUP($B45,[1]NUM1!$G$2:$T$157,8,FALSE) -> 1 | L45: =VLOOKUP($B45,[1]NUM1!$G$2:$T$157,9,FALSE) -> 0 | M45: =VLOOKUP($B45,[1]NUM1!$G$2:$T$157,10,FALSE) -> 0 | N45: =VLOOKUP($B45,[1]NUM1!$G$2:$T$157,11,FALSE) -> 0 | O45: =VLOOKUP($B45,[1]NUM1!$G$2:$T$157,12,FALSE) -> 0 | P45: =VLOOKUP($B45,[1]NUM1!$G$2:$T$157,13,FALSE) -> 3 | Q45: =SUM(E45:P45) -> 58 | S45: 4 | T45: =+S45+(Z45+AA45+AB45)-(AM45+AN45+AO45) -> 4 | U45: =VLOOKUP($B45,[2]DEN1!$G$2:$I$157,2,FALSE) -> 10 | V45: =+U45+(AF45+AG45)-(AS45+AT45) -> 11 | W45: =+U45+(AF45+AG45+AH45+AI45)-(AS45+AT45+AU45+AV45) -> 11 | X45: =VLOOKUP($B45,[1]DEN1!$G$2:$I$159,2,FALSE) -> 11 | Z45: =VLOOKUP($B45,'[3]ACT DEN1'!$G$2:$S$143,2,FALSE) -> 0 | AA45: =VLOOKUP($B45,'[3]ACT DEN1'!$G$2:$S$143,3,FALSE) -> 0 | AB45: =VLOOKUP($B45,'[3]ACT DEN1'!$G$2:$S$143,4,FALSE) -> 0 | AC45: =VLOOKUP($B45,'[3]ACT DEN1'!$G$2:$S$143,5,FALSE) -> 0 | AD45: =VLOOKUP($B45,'[3]ACT DEN1'!$G$2:$S$143,6,FALSE) -> 0 | AE45: =VLOOKUP($B45,'[3]ACT DEN1'!$G$2:$S$143,7,FALSE) -> 0 | AF45: =VLOOKUP($B45,'[3]ACT DEN1'!$G$2:$S$143,8,FALSE) -> 1 | AG45: =VLOOKUP($B45,'[3]ACT DEN1'!$G$2:$S$143,9,FALSE) -> 0 | AH45: =VLOOKUP($B45,'[3]ACT DEN1'!$G$2:$S$143,10,FALSE) -> 0 | AI45: =VLOOKUP($B45,'[3]ACT DEN1'!$G$2:$S$143,11,FALSE) -> 0 | AJ45: =VLOOKUP($B45,'[3]ACT DEN1'!$G$2:$S$143,12,FALSE) -> 0 | AL45: =SUM(Z45:AK45) -> 1 | AY45: =SUM(AM45:AX45) -> 0
A46: 04106-VICUÑA | B46: 105509-P.S.R. GUALLIGUAICA | E46: =VLOOKUP($B46,[1]NUM1!$G$2:$T$157,2,FALSE) -> 0 | F46: =VLOOKUP($B46,[1]NUM1!$G$2:$T$157,3,FALSE) -> 0 | G46: =VLOOKUP($B46,[1]NUM1!$G$2:$T$157,4,FALSE) -> 0 | H46: =VLOOKUP($B46,[1]NUM1!$G$2:$T$157,5,FALSE) -> 0 | I46: =VLOOKUP($B46,[1]NUM1!$G$2:$T$157,6,FALSE) -> 0 | J46: =VLOOKUP($B46,[1]NUM1!$G$2:$T$157,7,FALSE) -> 0 | K46: =VLOOKUP($B46,[1]NUM1!$G$2:$T$157,8,FALSE) -> 4 | L46: =VLOOKUP($B46,[1]NUM1!$G$2:$T$157,9,FALSE) -> 14 | M46: =VLOOKUP($B46,[1]NUM1!$G$2:$T$157,10,FALSE) -> 2 | N46: =VLOOKUP($B46,[1]NUM1!$G$2:$T$157,11,FALSE) -> 1 | O46: =VLOOKUP($B46,[1]NUM1!$G$2:$T$157,12,FALSE) -> 2 | P46: =VLOOKUP($B46,[1]NUM1!$G$2:$T$157,13,FALSE) -> 0 | Q46: =SUM(E46:P46) -> 23 | S46: 2 | T46: =+S46+(Z46+AA46+AB46)-(AM46+AN46+AO46) -> 2 | U46: =VLOOKUP($B46,[2]DEN1!$G$2:$I$157,2,FALSE) -> 5 | V46: =+U46+(AF46+AG46)-(AS46+AT46) -> 5 | W46: =+U46+(AF46+AG46+AH46+AI46)-(AS46+AT46+AU46+AV46) -> 5 | X46: =VLOOKUP($B46,[1]DEN1!$G$2:$I$159,2,FALSE) -> 3 | Z46: =VLOOKUP($B46,'[3]ACT DEN1'!$G$2:$S$143,2,FALSE) -> 0 | AA46: =VLOOKUP($B46,'[3]ACT DEN1'!$G$2:$S$143,3,FALSE) -> 0 | AB46: =VLOOKUP($B46,'[3]ACT DEN1'!$G$2:$S$143,4,FALSE) -> 0 | AC46: =VLOOKUP($B46,'[3]ACT DEN1'!$G$2:$S$143,5,FALSE) -> 0 | AD46: =VLOOKUP($B46,'[3]ACT DEN1'!$G$2:$S$143,6,FALSE) -> 0 | AE46: =VLOOKUP($B46,'[3]ACT DEN1'!$G$2:$S$143,7,FALSE) -> 0 | AF46: =VLOOKUP($B46,'[3]ACT DEN1'!$G$2:$S$143,8,FALSE) -> 0 | AG46: =VLOOKUP($B46,'[3]ACT DEN1'!$G$2:$S$143,9,FALSE) -> 0 | AH46: =VLOOKUP($B46,'[3]ACT DEN1'!$G$2:$S$143,10,FALSE) -> 0 | AI46: =VLOOKUP($B46,'[3]ACT DEN1'!$G$2:$S$143,11,FALSE) -> 0 | AJ46: =VLOOKUP($B46,'[3]ACT DEN1'!$G$2:$S$143,12,FALSE) -> 0 | AL46: =SUM(Z46:AK46) -> 0 | AY46: =SUM(AM46:AX46) -> 0
A47: TOTAL VICUÑA MUNICIPAL | C47: =+D47/Metas!G117 -> 1.0274054 | D47: =+Q47/R47 -> 0.21575514 | E47: =SUM(E37:E46) -> 6 | F47: =SUM(F37:F46) -> 11 | G47: =SUM(G37:G46) -> 28 | H47: =SUM(H37:H46) -> 52 | I47: =SUM(I37:I46) -> 29 | J47: =SUM(J37:J46) -> 82 | K47: =SUM(K37:K46) -> 18 | L47: =SUM(L37:L46) -> 22 | ... Q47: =SUM(Q37:Q46) -> 430 | R47: =+Y47-X47 -> 1993 | S47: =SUM(S37:S46) -> 49 | T47: =SUM(T37:T46) -> 49 | U47: =SUM(U37:U46) -> 57 | V47: =SUM(V37:V46) -> 61 | W47: =SUM(W37:W46) -> 61 | X47: =SUM(X37:X46) -> 58 | Y47: 2051 | Z47: =SUM(Z37:Z46) -> 0 | AA47: =SUM(AA37:AA46) -> 0 | AB47: =SUM(AB37:AB46) -> 0 | AC47: =SUM(AC37:AC46) -> 1 | AD47: =SUM(AD37:AD46) -> 0 | AE47: =SUM(AE37:AE46) -> 2 | AF47: =SUM(AF37:AF46) -> 3 | AG47: =SUM(AG37:AG46) -> 1 | ... AK47: =SUM(AK37:AK46) -> 0 | AL47: =SUM(Z47:AK47) -> 7 | AM47: =SUM(AM37:AM46) -> 0 | AN47: =SUM(AN37:AN46) -> 0 | AO47: =SUM(AO37:AO46) -> 0 | AP47: =SUM(AP37:AP46) -> 0 | AQ47: =SUM(AQ37:AQ46) -> 0 | AR47: =SUM(AR37:AR46) -> 0 | AS47: =SUM(AS37:AS46) -> 0 | AT47: =SUM(AT37:AT46) -> 0 | ... AX47: =SUM(AX37:AX46) -> 0 | AY47: =SUM(AM47:AX47) -> 0
A48: 04201-ILLAPEL | B48: 105326-CESFAM SAN RAFAEL | E48: =VLOOKUP($B48,[1]NUM1!$G$2:$T$157,2,FALSE) -> 33 | F48: =VLOOKUP($B48,[1]NUM1!$G$2:$T$157,3,FALSE) -> 11 | G48: =VLOOKUP($B48,[1]NUM1!$G$2:$T$157,4,FALSE) -> 7 | H48: =VLOOKUP($B48,[1]NUM1!$G$2:$T$157,5,FALSE) -> 0 | I48: =VLOOKUP($B48,[1]NUM1!$G$2:$T$157,6,FALSE) -> 26 | J48: =VLOOKUP($B48,[1]NUM1!$G$2:$T$157,7,FALSE) -> 52 | K48: =VLOOKUP($B48,[1]NUM1!$G$2:$T$157,8,FALSE) -> 21 | L48: =VLOOKUP($B48,[1]NUM1!$G$2:$T$157,9,FALSE) -> 7 | M48: =VLOOKUP($B48,[1]NUM1!$G$2:$T$157,10,FALSE) -> 8 | N48: =VLOOKUP($B48,[1]NUM1!$G$2:$T$157,11,FALSE) -> 35 | O48: =VLOOKUP($B48,[1]NUM1!$G$2:$T$157,12,FALSE) -> 44 | P48: =VLOOKUP($B48,[1]NUM1!$G$2:$T$157,13,FALSE) -> 20 | Q48: =SUM(E48:P48) -> 264 | S48: 23 | T48: =+S48+(Z48+AA48+AB48)-(AM48+AN48+AO48) -> 25 | U48: =VLOOKUP($B48,[2]DEN1!$G$2:$I$157,2,FALSE) -> 31 | V48: =+U48+(AF48+AG48)-(AS48+AT48) -> 32 | W48: =+U48+(AF48+AG48+AH48+AI48)-(AS48+AT48+AU48+AV48) -> 33 | X48: =VLOOKUP($B48,[1]DEN1!$G$2:$I$159,2,FALSE) -> 30 | Z48: =VLOOKUP($B48,'[3]ACT DEN1'!$G$2:$S$143,2,FALSE) -> 2 | AA48: =VLOOKUP($B48,'[3]ACT DEN1'!$G$2:$S$143,3,FALSE) -> 0 | AB48: =VLOOKUP($B48,'[3]ACT DEN1'!$G$2:$S$143,4,FALSE) -> 0 | AC48: =VLOOKUP($B48,'[3]ACT DEN1'!$G$2:$S$143,5,FALSE) -> 0 | AD48: =VLOOKUP($B48,'[3]ACT DEN1'!$G$2:$S$143,6,FALSE) -> 1 | AE48: =VLOOKUP($B48,'[3]ACT DEN1'!$G$2:$S$143,7,FALSE) -> 1 | AF48: =VLOOKUP($B48,'[3]ACT DEN1'!$G$2:$S$143,8,FALSE) -> 1 | AG48: =VLOOKUP($B48,'[3]ACT DEN1'!$G$2:$S$143,9,FALSE) -> 0 | AH48: =VLOOKUP($B48,'[3]ACT DEN1'!$G$2:$S$143,10,FALSE) -> 1 | AI48: =VLOOKUP($B48,'[3]ACT DEN1'!$G$2:$S$143,11,FALSE) -> 0 | AJ48: =VLOOKUP($B48,'[3]ACT DEN1'!$G$2:$S$143,12,FALSE) -> 1 | AL48: =SUM(Z48:AK48) -> 7 | AM48: =VLOOKUP($B48,'[3]ACT DEN1'!$AB$2:$AN$119,2,FALSE) -> 0 | AN48: =VLOOKUP($B48,'[3]ACT DEN1'!$AB$2:$AN$119,3,FALSE) -> 0 | AO48: =VLOOKUP($B48,'[3]ACT DEN1'!$AB$2:$AN$119,4,FALSE) -> 0 | AP48: =VLOOKUP($B48,'[3]ACT DEN1'!$AB$2:$AN$119,5,FALSE) -> 0 | AQ48: =VLOOKUP($B48,'[3]ACT DEN1'!$AB$2:$AN$119,6,FALSE) -> 0 | AR48: =VLOOKUP($B48,'[3]ACT DEN1'!$AB$2:$AN$119,7,FALSE) -> 0 | AS48: =VLOOKUP($B48,'[3]ACT DEN1'!$AB$2:$AN$119,8,FALSE) -> 0 | AT48: =VLOOKUP($B48,'[3]ACT DEN1'!$AB$2:$AN$119,9,FALSE) -> 0 | AU48: =VLOOKUP($B48,'[3]ACT DEN1'!$AB$2:$AN$119,10,FALSE) -> 0 | AV48: =VLOOKUP($B48,'[3]ACT DEN1'!$AB$2:$AN$119,11,FALSE) -> 0 | AW48: =VLOOKUP($B48,'[3]ACT DEN1'!$AB$2:$AN$119,12,FALSE) -> 0 | AY48: =SUM(AM48:AX48) -> 0
A49: 04201-ILLAPEL | B49: 105443-P.S.R. CARCAMO | E49: =VLOOKUP($B49,[1]NUM1!$G$2:$T$157,2,FALSE) -> 0 | F49: =VLOOKUP($B49,[1]NUM1!$G$2:$T$157,3,FALSE) -> 0 | G49: =VLOOKUP($B49,[1]NUM1!$G$2:$T$157,4,FALSE) -> 1 | H49: =VLOOKUP($B49,[1]NUM1!$G$2:$T$157,5,FALSE) -> 6 | I49: =VLOOKUP($B49,[1]NUM1!$G$2:$T$157,6,FALSE) -> 8 | J49: =VLOOKUP($B49,[1]NUM1!$G$2:$T$157,7,FALSE) -> 14 | K49: =VLOOKUP($B49,[1]NUM1!$G$2:$T$157,8,FALSE) -> 3 | L49: =VLOOKUP($B49,[1]NUM1!$G$2:$T$157,9,FALSE) -> 1 | M49: =VLOOKUP($B49,[1]NUM1!$G$2:$T$157,10,FALSE) -> 0 | N49: =VLOOKUP($B49,[1]NUM1!$G$2:$T$157,11,FALSE) -> 0 | O49: =VLOOKUP($B49,[1]NUM1!$G$2:$T$157,12,FALSE) -> 10 | P49: =VLOOKUP($B49,[1]NUM1!$G$2:$T$157,13,FALSE) -> 0 | Q49: =SUM(E49:P49) -> 43 | S49: 6 | T49: =+S49+(Z49+AA49+AB49)-(AM49+AN49+AO49) -> 6 | U49: =VLOOKUP($B49,[2]DEN1!$G$2:$I$157,2,FALSE) -> 7 | V49: =+U49+(AF49+AG49)-(AS49+AT49) -> 7 | W49: =+U49+(AF49+AG49+AH49+AI49)-(AS49+AT49+AU49+AV49) -> 7 | X49: =VLOOKUP($B49,[1]DEN1!$G$2:$I$159,2,FALSE) -> 7 | Z49: =VLOOKUP($B49,'[3]ACT DEN1'!$G$2:$S$143,2,FALSE) -> 0 | AA49: =VLOOKUP($B49,'[3]ACT DEN1'!$G$2:$S$143,3,FALSE) -> 0 | AB49: =VLOOKUP($B49,'[3]ACT DEN1'!$G$2:$S$143,4,FALSE) -> 0 | AC49: =VLOOKUP($B49,'[3]ACT DEN1'!$G$2:$S$143,5,FALSE) -> 0 | AD49: =VLOOKUP($B49,'[3]ACT DEN1'!$G$2:$S$143,6,FALSE) -> 0 | AE49: =VLOOKUP($B49,'[3]ACT DEN1'!$G$2:$S$143,7,FALSE) -> 0 | AF49: =VLOOKUP($B49,'[3]ACT DEN1'!$G$2:$S$143,8,FALSE) -> 0 | AG49: =VLOOKUP($B49,'[3]ACT DEN1'!$G$2:$S$143,9,FALSE) -> 0 | AH49: =VLOOKUP($B49,'[3]ACT DEN1'!$G$2:$S$143,10,FALSE) -> 0 | AI49: =VLOOKUP($B49,'[3]ACT DEN1'!$G$2:$S$143,11,FALSE) -> 0 | AJ49: =VLOOKUP($B49,'[3]ACT DEN1'!$G$2:$S$143,12,FALSE) -> 0 | AL49: =SUM(Z49:AK49) -> 0 | AM49: =VLOOKUP($B49,'[3]ACT DEN1'!$AB$2:$AN$119,2,FALSE) -> 0 | AN49: =VLOOKUP($B49,'[3]ACT DEN1'!$AB$2:$AN$119,3,FALSE) -> 0 | AO49: =VLOOKUP($B49,'[3]ACT DEN1'!$AB$2:$AN$119,4,FALSE) -> 0 | AP49: =VLOOKUP($B49,'[3]ACT DEN1'!$AB$2:$AN$119,5,FALSE) -> 0 | AQ49: =VLOOKUP($B49,'[3]ACT DEN1'!$AB$2:$AN$119,6,FALSE) -> 0 | AR49: =VLOOKUP($B49,'[3]ACT DEN1'!$AB$2:$AN$119,7,FALSE) -> 0 | AS49: =VLOOKUP($B49,'[3]ACT DEN1'!$AB$2:$AN$119,8,FALSE) -> 0 | AT49: =VLOOKUP($B49,'[3]ACT DEN1'!$AB$2:$AN$119,9,FALSE) -> 0 | AU49: =VLOOKUP($B49,'[3]ACT DEN1'!$AB$2:$AN$119,10,FALSE) -> 0 | AV49: =VLOOKUP($B49,'[3]ACT DEN1'!$AB$2:$AN$119,11,FALSE) -> 0 | AW49: =VLOOKUP($B49,'[3]ACT DEN1'!$AB$2:$AN$119,12,FALSE) -> 0 | AY49: =SUM(AM49:AX49) -> 0
A50: 04201-ILLAPEL | B50: 105444-P.S.R. HUINTIL | E50: =VLOOKUP($B50,[1]NUM1!$G$2:$T$157,2,FALSE) -> 7 | F50: =VLOOKUP($B50,[1]NUM1!$G$2:$T$157,3,FALSE) -> 3 | G50: =VLOOKUP($B50,[1]NUM1!$G$2:$T$157,4,FALSE) -> 0 | H50: =VLOOKUP($B50,[1]NUM1!$G$2:$T$157,5,FALSE) -> 0 | I50: =VLOOKUP($B50,[1]NUM1!$G$2:$T$157,6,FALSE) -> 1 | J50: =VLOOKUP($B50,[1]NUM1!$G$2:$T$157,7,FALSE) -> 0 | K50: =VLOOKUP($B50,[1]NUM1!$G$2:$T$157,8,FALSE) -> 1 | L50: =VLOOKUP($B50,[1]NUM1!$G$2:$T$157,9,FALSE) -> 2 | M50: =VLOOKUP($B50,[1]NUM1!$G$2:$T$157,10,FALSE) -> 2 | N50: =VLOOKUP($B50,[1]NUM1!$G$2:$T$157,11,FALSE) -> 0 | O50: =VLOOKUP($B50,[1]NUM1!$G$2:$T$157,12,FALSE) -> 1 | P50: =VLOOKUP($B50,[1]NUM1!$G$2:$T$157,13,FALSE) -> 0 | Q50: =SUM(E50:P50) -> 17 | S50: 2 | T50: =+S50+(Z50+AA50+AB50)-(AM50+AN50+AO50) -> 2 | U50: =VLOOKUP($B50,[2]DEN1!$G$2:$I$157,2,FALSE) -> 2 | V50: =+U50+(AF50+AG50)-(AS50+AT50) -> 2 | W50: =+U50+(AF50+AG50+AH50+AI50)-(AS50+AT50+AU50+AV50) -> 2 | X50: =VLOOKUP($B50,[1]DEN1!$G$2:$I$159,2,FALSE) -> 2 | AL50: =SUM(Z50:AK50) -> 0 | AM50: =VLOOKUP($B50,'[3]ACT DEN1'!$AB$2:$AN$119,2,FALSE) -> 0 | AN50: =VLOOKUP($B50,'[3]ACT DEN1'!$AB$2:$AN$119,3,FALSE) -> 0 | AO50: =VLOOKUP($B50,'[3]ACT DEN1'!$AB$2:$AN$119,4,FALSE) -> 0 | AP50: =VLOOKUP($B50,'[3]ACT DEN1'!$AB$2:$AN$119,5,FALSE) -> 0 | AQ50: =VLOOKUP($B50,'[3]ACT DEN1'!$AB$2:$AN$119,6,FALSE) -> 0 | AR50: =VLOOKUP($B50,'[3]ACT DEN1'!$AB$2:$AN$119,7,FALSE) -> 0 | AS50: =VLOOKUP($B50,'[3]ACT DEN1'!$AB$2:$AN$119,8,FALSE) -> 0 | AT50: =VLOOKUP($B50,'[3]ACT DEN1'!$AB$2:$AN$119,9,FALSE) -> 0 | AU50: =VLOOKUP($B50,'[3]ACT DEN1'!$AB$2:$AN$119,10,FALSE) -> 0 | AV50: =VLOOKUP($B50,'[3]ACT DEN1'!$AB$2:$AN$119,11,FALSE) -> 0 | AW50: =VLOOKUP($B50,'[3]ACT DEN1'!$AB$2:$AN$119,12,FALSE) -> 0 | AY50: =SUM(AM50:AX50) -> 0
A51: 04201-ILLAPEL | B51: 105445-P.S.R. LIMAHUIDA | E51: =VLOOKUP($B51,[1]NUM1!$G$2:$T$157,2,FALSE) -> 2 | F51: =VLOOKUP($B51,[1]NUM1!$G$2:$T$157,3,FALSE) -> 2 | G51: =VLOOKUP($B51,[1]NUM1!$G$2:$T$157,4,FALSE) -> 2 | H51: =VLOOKUP($B51,[1]NUM1!$G$2:$T$157,5,FALSE) -> 0 | I51: =VLOOKUP($B51,[1]NUM1!$G$2:$T$157,6,FALSE) -> 4 | J51: =VLOOKUP($B51,[1]NUM1!$G$2:$T$157,7,FALSE) -> 1 | K51: =VLOOKUP($B51,[1]NUM1!$G$2:$T$157,8,FALSE) -> 2 | L51: =VLOOKUP($B51,[1]NUM1!$G$2:$T$157,9,FALSE) -> 1 | M51: =VLOOKUP($B51,[1]NUM1!$G$2:$T$157,10,FALSE) -> 1 | N51: =VLOOKUP($B51,[1]NUM1!$G$2:$T$157,11,FALSE) -> 2 | O51: =VLOOKUP($B51,[1]NUM1!$G$2:$T$157,12,FALSE) -> 1 | P51: =VLOOKUP($B51,[1]NUM1!$G$2:$T$157,13,FALSE) -> 0 | Q51: =SUM(E51:P51) -> 18 | S51: 3 | T51: =+S51+(Z51+AA51+AB51)-(AM51+AN51+AO51) -> 3 | U51: =VLOOKUP($B51,[2]DEN1!$G$2:$I$157,2,FALSE) -> 2 | V51: =+U51+(AF51+AG51)-(AS51+AT51) -> 2 | W51: =+U51+(AF51+AG51+AH51+AI51)-(AS51+AT51+AU51+AV51) -> 2 | X51: =VLOOKUP($B51,[1]DEN1!$G$2:$I$159,2,FALSE) -> 3 | Z51: =VLOOKUP($B51,'[3]ACT DEN1'!$G$2:$S$143,2,FALSE) -> 0 | AA51: =VLOOKUP($B51,'[3]ACT DEN1'!$G$2:$S$143,3,FALSE) -> 0 | AB51: =VLOOKUP($B51,'[3]ACT DEN1'!$G$2:$S$143,4,FALSE) -> 0 | AC51: =VLOOKUP($B51,'[3]ACT DEN1'!$G$2:$S$143,5,FALSE) -> 0 | AD51: =VLOOKUP($B51,'[3]ACT DEN1'!$G$2:$S$143,6,FALSE) -> 0 | AE51: =VLOOKUP($B51,'[3]ACT DEN1'!$G$2:$S$143,7,FALSE) -> 0 | AF51: =VLOOKUP($B51,'[3]ACT DEN1'!$G$2:$S$143,8,FALSE) -> 0 | AG51: =VLOOKUP($B51,'[3]ACT DEN1'!$G$2:$S$143,9,FALSE) -> 0 | AH51: =VLOOKUP($B51,'[3]ACT DEN1'!$G$2:$S$143,10,FALSE) -> 0 | AI51: =VLOOKUP($B51,'[3]ACT DEN1'!$G$2:$S$143,11,FALSE) -> 0 | AJ51: =VLOOKUP($B51,'[3]ACT DEN1'!$G$2:$S$143,12,FALSE) -> 0 | AL51: =SUM(Z51:AK51) -> 0 | AM51: =VLOOKUP($B51,'[3]ACT DEN1'!$AB$2:$AN$119,2,FALSE) -> 0 | AN51: =VLOOKUP($B51,'[3]ACT DEN1'!$AB$2:$AN$119,3,FALSE) -> 0 | AO51: =VLOOKUP($B51,'[3]ACT DEN1'!$AB$2:$AN$119,4,FALSE) -> 0 | AP51: =VLOOKUP($B51,'[3]ACT DEN1'!$AB$2:$AN$119,5,FALSE) -> 0 | AQ51: =VLOOKUP($B51,'[3]ACT DEN1'!$AB$2:$AN$119,6,FALSE) -> 0 | AR51: =VLOOKUP($B51,'[3]ACT DEN1'!$AB$2:$AN$119,7,FALSE) -> 0 | AS51: =VLOOKUP($B51,'[3]ACT DEN1'!$AB$2:$AN$119,8,FALSE) -> 0 | AT51: =VLOOKUP($B51,'[3]ACT DEN1'!$AB$2:$AN$119,9,FALSE) -> 0 | AU51: =VLOOKUP($B51,'[3]ACT DEN1'!$AB$2:$AN$119,10,FALSE) -> 0 | AV51: =VLOOKUP($B51,'[3]ACT DEN1'!$AB$2:$AN$119,11,FALSE) -> 0 | AW51: =VLOOKUP($B51,'[3]ACT DEN1'!$AB$2:$AN$119,12,FALSE) -> 0 | AY51: =SUM(AM51:AX51) -> 0
A52: 04201-ILLAPEL | B52: 105446-P.S.R. MATANCILLA | E52: =VLOOKUP($B52,[1]NUM1!$G$2:$T$157,2,FALSE) -> 0 | F52: =VLOOKUP($B52,[1]NUM1!$G$2:$T$157,3,FALSE) -> 0 | G52: =VLOOKUP($B52,[1]NUM1!$G$2:$T$157,4,FALSE) -> 0 | H52: =VLOOKUP($B52,[1]NUM1!$G$2:$T$157,5,FALSE) -> 0 | I52: =VLOOKUP($B52,[1]NUM1!$G$2:$T$157,6,FALSE) -> 0 | J52: =VLOOKUP($B52,[1]NUM1!$G$2:$T$157,7,FALSE) -> 0 | K52: =VLOOKUP($B52,[1]NUM1!$G$2:$T$157,8,FALSE) -> 0 | L52: =VLOOKUP($B52,[1]NUM1!$G$2:$T$157,9,FALSE) -> 0 | M52: =VLOOKUP($B52,[1]NUM1!$G$2:$T$157,10,FALSE) -> 2 | N52: =VLOOKUP($B52,[1]NUM1!$G$2:$T$157,11,FALSE) -> 0 | O52: =VLOOKUP($B52,[1]NUM1!$G$2:$T$157,12,FALSE) -> 2 | P52: =VLOOKUP($B52,[1]NUM1!$G$2:$T$157,13,FALSE) -> 0 | Q52: =SUM(E52:P52) -> 4 | S52: 0 | T52: =+S52+(Z52+AA52+AB52)-(AM52+AN52+AO52) -> 0 | U52: =VLOOKUP($B52,[2]DEN1!$G$2:$I$157,2,FALSE) -> 0 | V52: =+U52+(AF52+AG52)-(AS52+AT52) -> 0 | W52: =+U52+(AF52+AG52+AH52+AI52)-(AS52+AT52+AU52+AV52) -> 0 | X52: =VLOOKUP($B52,[1]DEN1!$G$2:$I$159,2,FALSE) -> 0 | Z52: =VLOOKUP($B52,'[3]ACT DEN1'!$G$2:$S$143,2,FALSE) -> 0 | AA52: =VLOOKUP($B52,'[3]ACT DEN1'!$G$2:$S$143,3,FALSE) -> 0 | AB52: =VLOOKUP($B52,'[3]ACT DEN1'!$G$2:$S$143,4,FALSE) -> 0 | AC52: =VLOOKUP($B52,'[3]ACT DEN1'!$G$2:$S$143,5,FALSE) -> 0 | AD52: =VLOOKUP($B52,'[3]ACT DEN1'!$G$2:$S$143,6,FALSE) -> 0 | AE52: =VLOOKUP($B52,'[3]ACT DEN1'!$G$2:$S$143,7,FALSE) -> 0 | AF52: =VLOOKUP($B52,'[3]ACT DEN1'!$G$2:$S$143,8,FALSE) -> 0 | AG52: =VLOOKUP($B52,'[3]ACT DEN1'!$G$2:$S$143,9,FALSE) -> 0 | AH52: =VLOOKUP($B52,'[3]ACT DEN1'!$G$2:$S$143,10,FALSE) -> 0 | AI52: =VLOOKUP($B52,'[3]ACT DEN1'!$G$2:$S$143,11,FALSE) -> 0 | AJ52: =VLOOKUP($B52,'[3]ACT DEN1'!$G$2:$S$143,12,FALSE) -> 0 | AL52: =SUM(Z52:AK52) -> 0 | AY52: =SUM(AM52:AX52) -> 0
A53: 04201-ILLAPEL | B53: 105447-P.S.R. PERALILLO | E53: =VLOOKUP($B53,[1]NUM1!$G$2:$T$157,2,FALSE) -> 0 | F53: =VLOOKUP($B53,[1]NUM1!$G$2:$T$157,3,FALSE) -> 0 | G53: =VLOOKUP($B53,[1]NUM1!$G$2:$T$157,4,FALSE) -> 0 | H53: =VLOOKUP($B53,[1]NUM1!$G$2:$T$157,5,FALSE) -> 1 | I53: =VLOOKUP($B53,[1]NUM1!$G$2:$T$157,6,FALSE) -> 2 | J53: =VLOOKUP($B53,[1]NUM1!$G$2:$T$157,7,FALSE) -> 0 | K53: =VLOOKUP($B53,[1]NUM1!$G$2:$T$157,8,FALSE) -> 5 | L53: =VLOOKUP($B53,[1]NUM1!$G$2:$T$157,9,FALSE) -> 0 | M53: =VLOOKUP($B53,[1]NUM1!$G$2:$T$157,10,FALSE) -> 12 | N53: =VLOOKUP($B53,[1]NUM1!$G$2:$T$157,11,FALSE) -> 2 | O53: =VLOOKUP($B53,[1]NUM1!$G$2:$T$157,12,FALSE) -> 0 | P53: =VLOOKUP($B53,[1]NUM1!$G$2:$T$157,13,FALSE) -> 0 | Q53: =SUM(E53:P53) -> 22 | S53: 1 | T53: =+S53+(Z53+AA53+AB53)-(AM53+AN53+AO53) -> 1 | U53: =VLOOKUP($B53,[2]DEN1!$G$2:$I$157,2,FALSE) -> 1 | V53: =+U53+(AF53+AG53)-(AS53+AT53) -> 1 | W53: =+U53+(AF53+AG53+AH53+AI53)-(AS53+AT53+AU53+AV53) -> 1 | X53: =VLOOKUP($B53,[1]DEN1!$G$2:$I$159,2,FALSE) -> 1 | Z53: =VLOOKUP($B53,'[3]ACT DEN1'!$G$2:$S$143,2,FALSE) -> 0 | AA53: =VLOOKUP($B53,'[3]ACT DEN1'!$G$2:$S$143,3,FALSE) -> 0 | AB53: =VLOOKUP($B53,'[3]ACT DEN1'!$G$2:$S$143,4,FALSE) -> 0 | AC53: =VLOOKUP($B53,'[3]ACT DEN1'!$G$2:$S$143,5,FALSE) -> 0 | AD53: =VLOOKUP($B53,'[3]ACT DEN1'!$G$2:$S$143,6,FALSE) -> 0 | AE53: =VLOOKUP($B53,'[3]ACT DEN1'!$G$2:$S$143,7,FALSE) -> 0 | AF53: =VLOOKUP($B53,'[3]ACT DEN1'!$G$2:$S$143,8,FALSE) -> 0 | AG53: =VLOOKUP($B53,'[3]ACT DEN1'!$G$2:$S$143,9,FALSE) -> 0 | AH53: =VLOOKUP($B53,'[3]ACT DEN1'!$G$2:$S$143,10,FALSE) -> 0 | AI53: =VLOOKUP($B53,'[3]ACT DEN1'!$G$2:$S$143,11,FALSE) -> 0 | AJ53: =VLOOKUP($B53,'[3]ACT DEN1'!$G$2:$S$143,12,FALSE) -> 0 | AL53: =SUM(Z53:AK53) -> 0 | AY53: =SUM(AM53:AX53) -> 0
A54: 04201-ILLAPEL | B54: 105448-P.S.R. SANTA VIRGINIA | E54: =VLOOKUP($B54,[1]NUM1!$G$2:$T$157,2,FALSE) -> 0 | F54: =VLOOKUP($B54,[1]NUM1!$G$2:$T$157,3,FALSE) -> 1 | G54: =VLOOKUP($B54,[1]NUM1!$G$2:$T$157,4,FALSE) -> 8 | H54: =VLOOKUP($B54,[1]NUM1!$G$2:$T$157,5,FALSE) -> 7 | I54: =VLOOKUP($B54,[1]NUM1!$G$2:$T$157,6,FALSE) -> 11 | J54: =VLOOKUP($B54,[1]NUM1!$G$2:$T$157,7,FALSE) -> 0 | K54: =VLOOKUP($B54,[1]NUM1!$G$2:$T$157,8,FALSE) -> 0 | L54: =VLOOKUP($B54,[1]NUM1!$G$2:$T$157,9,FALSE) -> 0 | M54: =VLOOKUP($B54,[1]NUM1!$G$2:$T$157,10,FALSE) -> 0 | N54: =VLOOKUP($B54,[1]NUM1!$G$2:$T$157,11,FALSE) -> 0 | O54: =VLOOKUP($B54,[1]NUM1!$G$2:$T$157,12,FALSE) -> 0 | P54: =VLOOKUP($B54,[1]NUM1!$G$2:$T$157,13,FALSE) -> 0 | Q54: =SUM(E54:P54) -> 27 | S54: 2 | T54: =+S54+(Z54+AA54+AB54)-(AM54+AN54+AO54) -> 2 | U54: =VLOOKUP($B54,[2]DEN1!$G$2:$I$157,2,FALSE) -> 2 | V54: =+U54+(AF54+AG54)-(AS54+AT54) -> 2 | W54: =+U54+(AF54+AG54+AH54+AI54)-(AS54+AT54+AU54+AV54) -> 2 | X54: =VLOOKUP($B54,[1]DEN1!$G$2:$I$159,2,FALSE) -> 2 | Z54: =VLOOKUP($B54,'[3]ACT DEN1'!$G$2:$S$143,2,FALSE) -> 0 | AA54: =VLOOKUP($B54,'[3]ACT DEN1'!$G$2:$S$143,3,FALSE) -> 0 | AB54: =VLOOKUP($B54,'[3]ACT DEN1'!$G$2:$S$143,4,FALSE) -> 0 | AC54: =VLOOKUP($B54,'[3]ACT DEN1'!$G$2:$S$143,5,FALSE) -> 0 | AD54: =VLOOKUP($B54,'[3]ACT DEN1'!$G$2:$S$143,6,FALSE) -> 0 | AE54: =VLOOKUP($B54,'[3]ACT DEN1'!$G$2:$S$143,7,FALSE) -> 0 | AF54: =VLOOKUP($B54,'[3]ACT DEN1'!$G$2:$S$143,8,FALSE) -> 0 | AG54: =VLOOKUP($B54,'[3]ACT DEN1'!$G$2:$S$143,9,FALSE) -> 0 | AH54: =VLOOKUP($B54,'[3]ACT DEN1'!$G$2:$S$143,10,FALSE) -> 0 | AI54: =VLOOKUP($B54,'[3]ACT DEN1'!$G$2:$S$143,11,FALSE) -> 0 | AJ54: =VLOOKUP($B54,'[3]ACT DEN1'!$G$2:$S$143,12,FALSE) -> 0 | AL54: =SUM(Z54:AK54) -> 0 | AY54: =SUM(AM54:AX54) -> 0
A55: 04201-ILLAPEL | B55: 105449-P.S.R. TUNGA NORTE | E55: =VLOOKUP($B55,[1]NUM1!$G$2:$T$157,2,FALSE) -> 0 | F55: =VLOOKUP($B55,[1]NUM1!$G$2:$T$157,3,FALSE) -> 0 | G55: =VLOOKUP($B55,[1]NUM1!$G$2:$T$157,4,FALSE) -> 0 | H55: =VLOOKUP($B55,[1]NUM1!$G$2:$T$157,5,FALSE) -> 0 | I55: =VLOOKUP($B55,[1]NUM1!$G$2:$T$157,6,FALSE) -> 1 | J55: =VLOOKUP($B55,[1]NUM1!$G$2:$T$157,7,FALSE) -> 0 | K55: =VLOOKUP($B55,[1]NUM1!$G$2:$T$157,8,FALSE) -> 0 | L55: =VLOOKUP($B55,[1]NUM1!$G$2:$T$157,9,FALSE) -> 0 | M55: =VLOOKUP($B55,[1]NUM1!$G$2:$T$157,10,FALSE) -> 5 | N55: =VLOOKUP($B55,[1]NUM1!$G$2:$T$157,11,FALSE) -> 0 | O55: =VLOOKUP($B55,[1]NUM1!$G$2:$T$157,12,FALSE) -> 10 | P55: =VLOOKUP($B55,[1]NUM1!$G$2:$T$157,13,FALSE) -> 0 | Q55: =SUM(E55:P55) -> 16 | S55: 1 | T55: =+S55+(Z55+AA55+AB55)-(AM55+AN55+AO55) -> 1 | U55: =VLOOKUP($B55,[2]DEN1!$G$2:$I$157,2,FALSE) -> 1 | V55: =+U55+(AF55+AG55)-(AS55+AT55) -> 1 | W55: =+U55+(AF55+AG55+AH55+AI55)-(AS55+AT55+AU55+AV55) -> 1 | X55: =VLOOKUP($B55,[1]DEN1!$G$2:$I$159,2,FALSE) -> 1 | Z55: =VLOOKUP($B55,'[3]ACT DEN1'!$G$2:$S$143,2,FALSE) -> 0 | AA55: =VLOOKUP($B55,'[3]ACT DEN1'!$G$2:$S$143,3,FALSE) -> 0 | AB55: =VLOOKUP($B55,'[3]ACT DEN1'!$G$2:$S$143,4,FALSE) -> 0 | AC55: =VLOOKUP($B55,'[3]ACT DEN1'!$G$2:$S$143,5,FALSE) -> 0 | AD55: =VLOOKUP($B55,'[3]ACT DEN1'!$G$2:$S$143,6,FALSE) -> 0 | AE55: =VLOOKUP($B55,'[3]ACT DEN1'!$G$2:$S$143,7,FALSE) -> 0 | AF55: =VLOOKUP($B55,'[3]ACT DEN1'!$G$2:$S$143,8,FALSE) -> 0 | AG55: =VLOOKUP($B55,'[3]ACT DEN1'!$G$2:$S$143,9,FALSE) -> 0 | AH55: =VLOOKUP($B55,'[3]ACT DEN1'!$G$2:$S$143,10,FALSE) -> 0 | AI55: =VLOOKUP($B55,'[3]ACT DEN1'!$G$2:$S$143,11,FALSE) -> 0 | AJ55: =VLOOKUP($B55,'[3]ACT DEN1'!$G$2:$S$143,12,FALSE) -> 0 | AL55: =SUM(Z55:AK55) -> 0 | AM55: =VLOOKUP($B55,'[3]ACT DEN1'!$AB$2:$AN$119,2,FALSE) -> 0 | AN55: =VLOOKUP($B55,'[3]ACT DEN1'!$AB$2:$AN$119,3,FALSE) -> 0 | AO55: =VLOOKUP($B55,'[3]ACT DEN1'!$AB$2:$AN$119,4,FALSE) -> 0 | AP55: =VLOOKUP($B55,'[3]ACT DEN1'!$AB$2:$AN$119,5,FALSE) -> 0 | AQ55: =VLOOKUP($B55,'[3]ACT DEN1'!$AB$2:$AN$119,6,FALSE) -> 0 | AR55: =VLOOKUP($B55,'[3]ACT DEN1'!$AB$2:$AN$119,7,FALSE) -> 0 | AS55: =VLOOKUP($B55,'[3]ACT DEN1'!$AB$2:$AN$119,8,FALSE) -> 0 | AT55: =VLOOKUP($B55,'[3]ACT DEN1'!$AB$2:$AN$119,9,FALSE) -> 0 | AU55: =VLOOKUP($B55,'[3]ACT DEN1'!$AB$2:$AN$119,10,FALSE) -> 0 | AV55: =VLOOKUP($B55,'[3]ACT DEN1'!$AB$2:$AN$119,11,FALSE) -> 0 | AW55: =VLOOKUP($B55,'[3]ACT DEN1'!$AB$2:$AN$119,12,FALSE) -> 0 | AY55: =SUM(AM55:AX55) -> 0
A56: 04201-ILLAPEL | B56: 105485-P.S.R. PLAN DE HORNOS | E56: =VLOOKUP($B56,[1]NUM1!$G$2:$T$157,2,FALSE) -> 2 | F56: =VLOOKUP($B56,[1]NUM1!$G$2:$T$157,3,FALSE) -> 0 | G56: =VLOOKUP($B56,[1]NUM1!$G$2:$T$157,4,FALSE) -> 0 | H56: =VLOOKUP($B56,[1]NUM1!$G$2:$T$157,5,FALSE) -> 1 | I56: =VLOOKUP($B56,[1]NUM1!$G$2:$T$157,6,FALSE) -> 1 | J56: =VLOOKUP($B56,[1]NUM1!$G$2:$T$157,7,FALSE) -> 0 | K56: =VLOOKUP($B56,[1]NUM1!$G$2:$T$157,8,FALSE) -> 2 | L56: =VLOOKUP($B56,[1]NUM1!$G$2:$T$157,9,FALSE) -> 1 | M56: =VLOOKUP($B56,[1]NUM1!$G$2:$T$157,10,FALSE) -> 1 | N56: =VLOOKUP($B56,[1]NUM1!$G$2:$T$157,11,FALSE) -> 0 | O56: =VLOOKUP($B56,[1]NUM1!$G$2:$T$157,12,FALSE) -> 9 | P56: =VLOOKUP($B56,[1]NUM1!$G$2:$T$157,13,FALSE) -> 0 | Q56: =SUM(E56:P56) -> 17 | S56: 6 | T56: =+S56+(Z56+AA56+AB56)-(AM56+AN56+AO56) -> 9 | U56: =VLOOKUP($B56,[2]DEN1!$G$2:$I$157,2,FALSE) -> 8 | V56: =+U56+(AF56+AG56)-(AS56+AT56) -> 9 | W56: =+U56+(AF56+AG56+AH56+AI56)-(AS56+AT56+AU56+AV56) -> 9 | X56: =VLOOKUP($B56,[1]DEN1!$G$2:$I$159,2,FALSE) -> 6 | Z56: =VLOOKUP($B56,'[3]ACT DEN1'!$G$2:$S$143,2,FALSE) -> 2 | AA56: =VLOOKUP($B56,'[3]ACT DEN1'!$G$2:$S$143,3,FALSE) -> 1 | AB56: =VLOOKUP($B56,'[3]ACT DEN1'!$G$2:$S$143,4,FALSE) -> 0 | AC56: =VLOOKUP($B56,'[3]ACT DEN1'!$G$2:$S$143,5,FALSE) -> 0 | AD56: =VLOOKUP($B56,'[3]ACT DEN1'!$G$2:$S$143,6,FALSE) -> 0 | AE56: =VLOOKUP($B56,'[3]ACT DEN1'!$G$2:$S$143,7,FALSE) -> 0 | AF56: =VLOOKUP($B56,'[3]ACT DEN1'!$G$2:$S$143,8,FALSE) -> 0 | AG56: =VLOOKUP($B56,'[3]ACT DEN1'!$G$2:$S$143,9,FALSE) -> 1 | AH56: =VLOOKUP($B56,'[3]ACT DEN1'!$G$2:$S$143,10,FALSE) -> 0 | AI56: =VLOOKUP($B56,'[3]ACT DEN1'!$G$2:$S$143,11,FALSE) -> 0 | AJ56: =VLOOKUP($B56,'[3]ACT DEN1'!$G$2:$S$143,12,FALSE) -> 0 | AL56: =SUM(Z56:AK56) -> 4 | AM56: =VLOOKUP($B56,'[3]ACT DEN1'!$AB$2:$AN$119,2,FALSE) -> 0 | AN56: =VLOOKUP($B56,'[3]ACT DEN1'!$AB$2:$AN$119,3,FALSE) -> 0 | AO56: =VLOOKUP($B56,'[3]ACT DEN1'!$AB$2:$AN$119,4,FALSE) -> 0 | AP56: =VLOOKUP($B56,'[3]ACT DEN1'!$AB$2:$AN$119,5,FALSE) -> 0 | AQ56: =VLOOKUP($B56,'[3]ACT DEN1'!$AB$2:$AN$119,6,FALSE) -> 0 | AR56: =VLOOKUP($B56,'[3]ACT DEN1'!$AB$2:$AN$119,7,FALSE) -> 0 | AS56: =VLOOKUP($B56,'[3]ACT DEN1'!$AB$2:$AN$119,8,FALSE) -> 0 | AT56: =VLOOKUP($B56,'[3]ACT DEN1'!$AB$2:$AN$119,9,FALSE) -> 0 | AU56: =VLOOKUP($B56,'[3]ACT DEN1'!$AB$2:$AN$119,10,FALSE) -> 0 | AV56: =VLOOKUP($B56,'[3]ACT DEN1'!$AB$2:$AN$119,11,FALSE) -> 0 | AW56: =VLOOKUP($B56,'[3]ACT DEN1'!$AB$2:$AN$119,12,FALSE) -> 0 | AY56: =SUM(AM56:AX56) -> 0
A57: 04201-ILLAPEL | B57: 105486-P.S.R. TUNGA SUR | E57: =VLOOKUP($B57,[1]NUM1!$G$2:$T$157,2,FALSE) -> 0 | F57: =VLOOKUP($B57,[1]NUM1!$G$2:$T$157,3,FALSE) -> 0 | G57: =VLOOKUP($B57,[1]NUM1!$G$2:$T$157,4,FALSE) -> 0 | H57: =VLOOKUP($B57,[1]NUM1!$G$2:$T$157,5,FALSE) -> 0 | I57: =VLOOKUP($B57,[1]NUM1!$G$2:$T$157,6,FALSE) -> 2 | J57: =VLOOKUP($B57,[1]NUM1!$G$2:$T$157,7,FALSE) -> 9 | K57: =VLOOKUP($B57,[1]NUM1!$G$2:$T$157,8,FALSE) -> 0 | L57: =VLOOKUP($B57,[1]NUM1!$G$2:$T$157,9,FALSE) -> 0 | M57: =VLOOKUP($B57,[1]NUM1!$G$2:$T$157,10,FALSE) -> 0 | N57: =VLOOKUP($B57,[1]NUM1!$G$2:$T$157,11,FALSE) -> 0 | O57: =VLOOKUP($B57,[1]NUM1!$G$2:$T$157,12,FALSE) -> 0 | P57: =VLOOKUP($B57,[1]NUM1!$G$2:$T$157,13,FALSE) -> 0 | Q57: =SUM(E57:P57) -> 11 | S57: 0 | T57: =+S57+(Z57+AA57+AB57)-(AM57+AN57+AO57) -> 0 | U57: =VLOOKUP($B57,[2]DEN1!$G$2:$I$157,2,FALSE) -> 0 | V57: =+U57+(AF57+AG57)-(AS57+AT57) -> 0 | W57: =+U57+(AF57+AG57+AH57+AI57)-(AS57+AT57+AU57+AV57) -> 0 | X57: =VLOOKUP($B57,[1]DEN1!$G$2:$I$159,2,FALSE) -> 1 | AL57: =SUM(Z57:AK57) -> 0 | AM57: =VLOOKUP($B57,'[3]ACT DEN1'!$AB$2:$AN$119,2,FALSE) -> 0 | AN57: =VLOOKUP($B57,'[3]ACT DEN1'!$AB$2:$AN$119,3,FALSE) -> 0 | AO57: =VLOOKUP($B57,'[3]ACT DEN1'!$AB$2:$AN$119,4,FALSE) -> 0 | AP57: =VLOOKUP($B57,'[3]ACT DEN1'!$AB$2:$AN$119,5,FALSE) -> 0 | AQ57: =VLOOKUP($B57,'[3]ACT DEN1'!$AB$2:$AN$119,6,FALSE) -> 0 | AR57: =VLOOKUP($B57,'[3]ACT DEN1'!$AB$2:$AN$119,7,FALSE) -> 0 | AS57: =VLOOKUP($B57,'[3]ACT DEN1'!$AB$2:$AN$119,8,FALSE) -> 0 | AT57: =VLOOKUP($B57,'[3]ACT DEN1'!$AB$2:$AN$119,9,FALSE) -> 0 | AU57: =VLOOKUP($B57,'[3]ACT DEN1'!$AB$2:$AN$119,10,FALSE) -> 0 | AV57: =VLOOKUP($B57,'[3]ACT DEN1'!$AB$2:$AN$119,11,FALSE) -> 0 | AW57: =VLOOKUP($B57,'[3]ACT DEN1'!$AB$2:$AN$119,12,FALSE) -> 0 | AY57: =SUM(AM57:AX57) -> 0
A58: 04201-ILLAPEL | B58: 105487-P.S.R. CAÑAS UNO | E58: =VLOOKUP($B58,[1]NUM1!$G$2:$T$157,2,FALSE) -> 4 | F58: =VLOOKUP($B58,[1]NUM1!$G$2:$T$157,3,FALSE) -> 9 | G58: =VLOOKUP($B58,[1]NUM1!$G$2:$T$157,4,FALSE) -> 11 | H58: =VLOOKUP($B58,[1]NUM1!$G$2:$T$157,5,FALSE) -> 5 | I58: =VLOOKUP($B58,[1]NUM1!$G$2:$T$157,6,FALSE) -> 11 | J58: =VLOOKUP($B58,[1]NUM1!$G$2:$T$157,7,FALSE) -> 1 | K58: =VLOOKUP($B58,[1]NUM1!$G$2:$T$157,8,FALSE) -> 2 | L58: =VLOOKUP($B58,[1]NUM1!$G$2:$T$157,9,FALSE) -> 3 | M58: =VLOOKUP($B58,[1]NUM1!$G$2:$T$157,10,FALSE) -> 7 | N58: =VLOOKUP($B58,[1]NUM1!$G$2:$T$157,11,FALSE) -> 2 | O58: =VLOOKUP($B58,[1]NUM1!$G$2:$T$157,12,FALSE) -> 13 | P58: =VLOOKUP($B58,[1]NUM1!$G$2:$T$157,13,FALSE) -> 0 | Q58: =SUM(E58:P58) -> 68 | S58: 9 | T58: =+S58+(Z58+AA58+AB58)-(AM58+AN58+AO58) -> 10 | U58: =VLOOKUP($B58,[2]DEN1!$G$2:$I$157,2,FALSE) -> 10 | V58: =+U58+(AF58+AG58)-(AS58+AT58) -> 10 | W58: =+U58+(AF58+AG58+AH58+AI58)-(AS58+AT58+AU58+AV58) -> 11 | X58: =VLOOKUP($B58,[1]DEN1!$G$2:$I$159,2,FALSE) -> 12 | Z58: =VLOOKUP($B58,'[3]ACT DEN1'!$G$2:$S$143,2,FALSE) -> 1 | AA58: =VLOOKUP($B58,'[3]ACT DEN1'!$G$2:$S$143,3,FALSE) -> 0 | AB58: =VLOOKUP($B58,'[3]ACT DEN1'!$G$2:$S$143,4,FALSE) -> 0 | AC58: =VLOOKUP($B58,'[3]ACT DEN1'!$G$2:$S$143,5,FALSE) -> 0 | AD58: =VLOOKUP($B58,'[3]ACT DEN1'!$G$2:$S$143,6,FALSE) -> 0 | AE58: =VLOOKUP($B58,'[3]ACT DEN1'!$G$2:$S$143,7,FALSE) -> 0 | AF58: =VLOOKUP($B58,'[3]ACT DEN1'!$G$2:$S$143,8,FALSE) -> 0 | AG58: =VLOOKUP($B58,'[3]ACT DEN1'!$G$2:$S$143,9,FALSE) -> 0 | AH58: =VLOOKUP($B58,'[3]ACT DEN1'!$G$2:$S$143,10,FALSE) -> 1 | AI58: =VLOOKUP($B58,'[3]ACT DEN1'!$G$2:$S$143,11,FALSE) -> 0 | AJ58: =VLOOKUP($B58,'[3]ACT DEN1'!$G$2:$S$143,12,FALSE) -> 0 | AL58: =SUM(Z58:AK58) -> 2 | AY58: =SUM(AM58:AX58) -> 0
A59: 04201-ILLAPEL | B59: 105496-P.S.R. PINTACURA SUR | E59: =VLOOKUP($B59,[1]NUM1!$G$2:$T$157,2,FALSE) -> 0 | F59: =VLOOKUP($B59,[1]NUM1!$G$2:$T$157,3,FALSE) -> 0 | G59: =VLOOKUP($B59,[1]NUM1!$G$2:$T$157,4,FALSE) -> 0 | H59: =VLOOKUP($B59,[1]NUM1!$G$2:$T$157,5,FALSE) -> 0 | I59: =VLOOKUP($B59,[1]NUM1!$G$2:$T$157,6,FALSE) -> 0 | J59: =VLOOKUP($B59,[1]NUM1!$G$2:$T$157,7,FALSE) -> 0 | K59: =VLOOKUP($B59,[1]NUM1!$G$2:$T$157,8,FALSE) -> 0 | L59: =VLOOKUP($B59,[1]NUM1!$G$2:$T$157,9,FALSE) -> 0 | M59: =VLOOKUP($B59,[1]NUM1!$G$2:$T$157,10,FALSE) -> 2 | N59: =VLOOKUP($B59,[1]NUM1!$G$2:$T$157,11,FALSE) -> 0 | O59: =VLOOKUP($B59,[1]NUM1!$G$2:$T$157,12,FALSE) -> 1 | P59: =VLOOKUP($B59,[1]NUM1!$G$2:$T$157,13,FALSE) -> 0 | Q59: =SUM(E59:P59) -> 3 | S59: 0 | T59: =+S59+(Z59+AA59+AB59)-(AM59+AN59+AO59) -> 0 | U59: =VLOOKUP($B59,[2]DEN1!$G$2:$I$157,2,FALSE) -> 0 | V59: =+U59+(AF59+AG59)-(AS59+AT59) -> 0 | W59: =+U59+(AF59+AG59+AH59+AI59)-(AS59+AT59+AU59+AV59) -> 0 | X59: =VLOOKUP($B59,[1]DEN1!$G$2:$I$159,2,FALSE) -> 0 | Z59: =VLOOKUP($B59,'[3]ACT DEN1'!$G$2:$S$143,2,FALSE) -> 0 | AA59: =VLOOKUP($B59,'[3]ACT DEN1'!$G$2:$S$143,3,FALSE) -> 0 | AB59: =VLOOKUP($B59,'[3]ACT DEN1'!$G$2:$S$143,4,FALSE) -> 0 | AC59: =VLOOKUP($B59,'[3]ACT DEN1'!$G$2:$S$143,5,FALSE) -> 0 | AD59: =VLOOKUP($B59,'[3]ACT DEN1'!$G$2:$S$143,6,FALSE) -> 0 | AE59: =VLOOKUP($B59,'[3]ACT DEN1'!$G$2:$S$143,7,FALSE) -> 0 | AF59: =VLOOKUP($B59,'[3]ACT DEN1'!$G$2:$S$143,8,FALSE) -> 0 | AG59: =VLOOKUP($B59,'[3]ACT DEN1'!$G$2:$S$143,9,FALSE) -> 0 | AH59: =VLOOKUP($B59,'[3]ACT DEN1'!$G$2:$S$143,10,FALSE) -> 0 | AI59: =VLOOKUP($B59,'[3]ACT DEN1'!$G$2:$S$143,11,FALSE) -> 0 | AJ59: =VLOOKUP($B59,'[3]ACT DEN1'!$G$2:$S$143,12,FALSE) -> 0 | AL59: =SUM(Z59:AK59) -> 0 | AM59: =VLOOKUP($B59,'[3]ACT DEN1'!$AB$2:$AN$119,2,FALSE) -> 0 | AN59: =VLOOKUP($B59,'[3]ACT DEN1'!$AB$2:$AN$119,3,FALSE) -> 0 | AO59: =VLOOKUP($B59,'[3]ACT DEN1'!$AB$2:$AN$119,4,FALSE) -> 0 | AP59: =VLOOKUP($B59,'[3]ACT DEN1'!$AB$2:$AN$119,5,FALSE) -> 0 | AQ59: =VLOOKUP($B59,'[3]ACT DEN1'!$AB$2:$AN$119,6,FALSE) -> 0 | AR59: =VLOOKUP($B59,'[3]ACT DEN1'!$AB$2:$AN$119,7,FALSE) -> 0 | AS59: =VLOOKUP($B59,'[3]ACT DEN1'!$AB$2:$AN$119,8,FALSE) -> 0 | AT59: =VLOOKUP($B59,'[3]ACT DEN1'!$AB$2:$AN$119,9,FALSE) -> 0 | AU59: =VLOOKUP($B59,'[3]ACT DEN1'!$AB$2:$AN$119,10,FALSE) -> 0 | AV59: =VLOOKUP($B59,'[3]ACT DEN1'!$AB$2:$AN$119,11,FALSE) -> 0 | AW59: =VLOOKUP($B59,'[3]ACT DEN1'!$AB$2:$AN$119,12,FALSE) -> 0 | AY59: =SUM(AM59:AX59) -> 0
A60: 04201-ILLAPEL | B60: 105504-P.S.R. SOCAVON | E60: =VLOOKUP($B60,[1]NUM1!$G$2:$T$157,2,FALSE) -> 0 | F60: =VLOOKUP($B60,[1]NUM1!$G$2:$T$157,3,FALSE) -> 0 | G60: =VLOOKUP($B60,[1]NUM1!$G$2:$T$157,4,FALSE) -> 0 | H60: =VLOOKUP($B60,[1]NUM1!$G$2:$T$157,5,FALSE) -> 0 | I60: =VLOOKUP($B60,[1]NUM1!$G$2:$T$157,6,FALSE) -> 0 | J60: =VLOOKUP($B60,[1]NUM1!$G$2:$T$157,7,FALSE) -> 1 | K60: =VLOOKUP($B60,[1]NUM1!$G$2:$T$157,8,FALSE) -> 0 | L60: =VLOOKUP($B60,[1]NUM1!$G$2:$T$157,9,FALSE) -> 0 | M60: =VLOOKUP($B60,[1]NUM1!$G$2:$T$157,10,FALSE) -> 0 | N60: =VLOOKUP($B60,[1]NUM1!$G$2:$T$157,11,FALSE) -> 0 | O60: =VLOOKUP($B60,[1]NUM1!$G$2:$T$157,12,FALSE) -> 2 | P60: =VLOOKUP($B60,[1]NUM1!$G$2:$T$157,13,FALSE) -> 0 | Q60: =SUM(E60:P60) -> 3 | S60: 3 | T60: =+S60+(Z60+AA60+AB60)-(AM60+AN60+AO60) -> 3 | U60: =VLOOKUP($B60,[2]DEN1!$G$2:$I$157,2,FALSE) -> 2 | V60: =+U60+(AF60+AG60)-(AS60+AT60) -> 2 | W60: =+U60+(AF60+AG60+AH60+AI60)-(AS60+AT60+AU60+AV60) -> 2 | X60: =VLOOKUP($B60,[1]DEN1!$G$2:$I$159,2,FALSE) -> 3 | AL60: =SUM(Z60:AK60) -> 0 | AY60: =SUM(AM60:AX60) -> 0
A61: TOTAL ILLAPEL MUNICIPAL | C61: =+D61/Metas!G109 -> 1.0004876 | D61: =+Q61/R61 -> 0.25012189 | E61: =SUM(E48:E60) -> 48 | F61: =SUM(F48:F60) -> 26 | G61: =SUM(G48:G60) -> 29 | H61: =SUM(H48:H60) -> 20 | I61: =SUM(I48:I60) -> 67 | J61: =SUM(J48:J60) -> 78 | K61: =SUM(K48:K60) -> 36 | L61: =SUM(L48:L60) -> 15 | ... Q61: =SUM(Q48:Q60) -> 513 | R61: =+Y61-X61 -> 2051 | S61: =SUM(S48:S60) -> 56 | T61: =SUM(T48:T60) -> 62 | U61: =SUM(U48:U60) -> 66 | V61: =SUM(V48:V60) -> 68 | W61: =SUM(W48:W60) -> 70 | X61: =SUM(X48:X60) -> 68 | Y61: 2119 | Z61: =SUM(Z48:Z60) -> 5 | AA61: =SUM(AA48:AA60) -> 1 | AB61: =SUM(AB48:AB60) -> 0 | AC61: =SUM(AC48:AC60) -> 0 | AD61: =SUM(AD48:AD60) -> 1 | AE61: =SUM(AE48:AE60) -> 1 | AF61: =SUM(AF48:AF60) -> 1 | AG61: =SUM(AG48:AG60) -> 1 | ... AK61: =SUM(AK48:AK60) -> 0 | AL61: =SUM(Z61:AK61) -> 13 | AM61: =SUM(AM48:AM60) -> 0 | AN61: =SUM(AN48:AN60) -> 0 | AO61: =SUM(AO48:AO60) -> 0 | AP61: =SUM(AP48:AP60) -> 0 | AQ61: =SUM(AQ48:AQ60) -> 0 | AR61: =SUM(AR48:AR60) -> 0 | AS61: =SUM(AS48:AS60) -> 0 | AT61: =SUM(AT48:AT60) -> 0 | ... AX61: =SUM(AX48:AX60) -> 0 | AY61: =SUM(AM61:AX61) -> 0
A62: 04202-CANELA | B62: 105309-CES. RURAL CANELA | E62: =VLOOKUP($B62,[1]NUM1!$G$2:$T$157,2,FALSE) -> 19 | F62: =VLOOKUP($B62,[1]NUM1!$G$2:$T$157,3,FALSE) -> 2 | G62: =VLOOKUP($B62,[1]NUM1!$G$2:$T$157,4,FALSE) -> 26 | H62: =VLOOKUP($B62,[1]NUM1!$G$2:$T$157,5,FALSE) -> 4 | I62: =VLOOKUP($B62,[1]NUM1!$G$2:$T$157,6,FALSE) -> 8 | J62: =VLOOKUP($B62,[1]NUM1!$G$2:$T$157,7,FALSE) -> 2 | K62: =VLOOKUP($B62,[1]NUM1!$G$2:$T$157,8,FALSE) -> 4 | L62: =VLOOKUP($B62,[1]NUM1!$G$2:$T$157,9,FALSE) -> 13 | M62: =VLOOKUP($B62,[1]NUM1!$G$2:$T$157,10,FALSE) -> 11 | N62: =VLOOKUP($B62,[1]NUM1!$G$2:$T$157,11,FALSE) -> 4 | O62: =VLOOKUP($B62,[1]NUM1!$G$2:$T$157,12,FALSE) -> 15 | P62: =VLOOKUP($B62,[1]NUM1!$G$2:$T$157,13,FALSE) -> 3 | Q62: =SUM(E62:P62) -> 111 | S62: 26 | T62: =+S62+(Z62+AA62+AB62)-(AM62+AN62+AO62) -> 29 | U62: =VLOOKUP($B62,[2]DEN1!$G$2:$I$157,2,FALSE) -> 29 | V62: =+U62+(AF62+AG62)-(AS62+AT62) -> 26 | W62: =+U62+(AF62+AG62+AH62+AI62)-(AS62+AT62+AU62+AV62) -> 30 | X62: =VLOOKUP($B62,[1]DEN1!$G$2:$I$159,2,FALSE) -> 31 | Z62: =VLOOKUP($B62,'[3]ACT DEN1'!$G$2:$S$143,2,FALSE) -> 0 | AA62: =VLOOKUP($B62,'[3]ACT DEN1'!$G$2:$S$143,3,FALSE) -> 1 | AB62: =VLOOKUP($B62,'[3]ACT DEN1'!$G$2:$S$143,4,FALSE) -> 2 | AC62: =VLOOKUP($B62,'[3]ACT DEN1'!$G$2:$S$143,5,FALSE) -> 1 | AD62: =VLOOKUP($B62,'[3]ACT DEN1'!$G$2:$S$143,6,FALSE) -> 0 | AE62: =VLOOKUP($B62,'[3]ACT DEN1'!$G$2:$S$143,7,FALSE) -> 1 | AF62: =VLOOKUP($B62,'[3]ACT DEN1'!$G$2:$S$143,8,FALSE) -> 0 | AG62: =VLOOKUP($B62,'[3]ACT DEN1'!$G$2:$S$143,9,FALSE) -> 2 | AH62: =VLOOKUP($B62,'[3]ACT DEN1'!$G$2:$S$143,10,FALSE) -> 0 | AI62: =VLOOKUP($B62,'[3]ACT DEN1'!$G$2:$S$143,11,FALSE) -> 4 | AJ62: =VLOOKUP($B62,'[3]ACT DEN1'!$G$2:$S$143,12,FALSE) -> 1 | AL62: =SUM(Z62:AK62) -> 12 | AM62: =VLOOKUP($B62,'[3]ACT DEN1'!$AB$2:$AN$119,2,FALSE) -> 0 | AN62: =VLOOKUP($B62,'[3]ACT DEN1'!$AB$2:$AN$119,3,FALSE) -> 0 | AO62: =VLOOKUP($B62,'[3]ACT DEN1'!$AB$2:$AN$119,4,FALSE) -> 0 | AP62: =VLOOKUP($B62,'[3]ACT DEN1'!$AB$2:$AN$119,5,FALSE) -> 0 | AQ62: =VLOOKUP($B62,'[3]ACT DEN1'!$AB$2:$AN$119,6,FALSE) -> 0 | AR62: =VLOOKUP($B62,'[3]ACT DEN1'!$AB$2:$AN$119,7,FALSE) -> 0 | AS62: =VLOOKUP($B62,'[3]ACT DEN1'!$AB$2:$AN$119,8,FALSE) -> 0 | AT62: =VLOOKUP($B62,'[3]ACT DEN1'!$AB$2:$AN$119,9,FALSE) -> 5 | AU62: =VLOOKUP($B62,'[3]ACT DEN1'!$AB$2:$AN$119,10,FALSE) -> 0 | AV62: =VLOOKUP($B62,'[3]ACT DEN1'!$AB$2:$AN$119,11,FALSE) -> 0 | AW62: =VLOOKUP($B62,'[3]ACT DEN1'!$AB$2:$AN$119,12,FALSE) -> 0 | AY62: =SUM(AM62:AX62) -> 5
A63: 04202-CANELA | B63: 105450-P.S.R. MINCHA NORTE | E63: =VLOOKUP($B63,[1]NUM1!$G$2:$T$157,2,FALSE) -> 10 | F63: =VLOOKUP($B63,[1]NUM1!$G$2:$T$157,3,FALSE) -> 4 | G63: =VLOOKUP($B63,[1]NUM1!$G$2:$T$157,4,FALSE) -> 7 | H63: =VLOOKUP($B63,[1]NUM1!$G$2:$T$157,5,FALSE) -> 7 | I63: =VLOOKUP($B63,[1]NUM1!$G$2:$T$157,6,FALSE) -> 3 | J63: =VLOOKUP($B63,[1]NUM1!$G$2:$T$157,7,FALSE) -> 4 | K63: =VLOOKUP($B63,[1]NUM1!$G$2:$T$157,8,FALSE) -> 1 | L63: =VLOOKUP($B63,[1]NUM1!$G$2:$T$157,9,FALSE) -> 3 | M63: =VLOOKUP($B63,[1]NUM1!$G$2:$T$157,10,FALSE) -> 0 | N63: =VLOOKUP($B63,[1]NUM1!$G$2:$T$157,11,FALSE) -> 3 | O63: =VLOOKUP($B63,[1]NUM1!$G$2:$T$157,12,FALSE) -> 0 | P63: =VLOOKUP($B63,[1]NUM1!$G$2:$T$157,13,FALSE) -> 0 | Q63: =SUM(E63:P63) -> 42 | S63: 7 | T63: =+S63+(Z63+AA63+AB63)-(AM63+AN63+AO63) -> 7 | U63: =VLOOKUP($B63,[2]DEN1!$G$2:$I$157,2,FALSE) -> 7 | V63: =+U63+(AF63+AG63)-(AS63+AT63) -> 7 | W63: =+U63+(AF63+AG63+AH63+AI63)-(AS63+AT63+AU63+AV63) -> 7 | X63: =VLOOKUP($B63,[1]DEN1!$G$2:$I$159,2,FALSE) -> 6 | Z63: =VLOOKUP($B63,'[3]ACT DEN1'!$G$2:$S$143,2,FALSE) -> 0 | AA63: =VLOOKUP($B63,'[3]ACT DEN1'!$G$2:$S$143,3,FALSE) -> 0 | AB63: =VLOOKUP($B63,'[3]ACT DEN1'!$G$2:$S$143,4,FALSE) -> 0 | AC63: =VLOOKUP($B63,'[3]ACT DEN1'!$G$2:$S$143,5,FALSE) -> 0 | AD63: =VLOOKUP($B63,'[3]ACT DEN1'!$G$2:$S$143,6,FALSE) -> 0 | AE63: =VLOOKUP($B63,'[3]ACT DEN1'!$G$2:$S$143,7,FALSE) -> 0 | AF63: =VLOOKUP($B63,'[3]ACT DEN1'!$G$2:$S$143,8,FALSE) -> 0 | AG63: =VLOOKUP($B63,'[3]ACT DEN1'!$G$2:$S$143,9,FALSE) -> 0 | AH63: =VLOOKUP($B63,'[3]ACT DEN1'!$G$2:$S$143,10,FALSE) -> 0 | AI63: =VLOOKUP($B63,'[3]ACT DEN1'!$G$2:$S$143,11,FALSE) -> 0 | AJ63: =VLOOKUP($B63,'[3]ACT DEN1'!$G$2:$S$143,12,FALSE) -> 0 | AL63: =SUM(Z63:AK63) -> 0 | AM63: =VLOOKUP($B63,'[3]ACT DEN1'!$AB$2:$AN$119,2,FALSE) -> 0 | AN63: =VLOOKUP($B63,'[3]ACT DEN1'!$AB$2:$AN$119,3,FALSE) -> 0 | AO63: =VLOOKUP($B63,'[3]ACT DEN1'!$AB$2:$AN$119,4,FALSE) -> 0 | AP63: =VLOOKUP($B63,'[3]ACT DEN1'!$AB$2:$AN$119,5,FALSE) -> 0 | AQ63: =VLOOKUP($B63,'[3]ACT DEN1'!$AB$2:$AN$119,6,FALSE) -> 0 | AR63: =VLOOKUP($B63,'[3]ACT DEN1'!$AB$2:$AN$119,7,FALSE) -> 0 | AS63: =VLOOKUP($B63,'[3]ACT DEN1'!$AB$2:$AN$119,8,FALSE) -> 0 | AT63: =VLOOKUP($B63,'[3]ACT DEN1'!$AB$2:$AN$119,9,FALSE) -> 0 | AU63: =VLOOKUP($B63,'[3]ACT DEN1'!$AB$2:$AN$119,10,FALSE) -> 0 | AV63: =VLOOKUP($B63,'[3]ACT DEN1'!$AB$2:$AN$119,11,FALSE) -> 0 | AW63: =VLOOKUP($B63,'[3]ACT DEN1'!$AB$2:$AN$119,12,FALSE) -> 0 | AY63: =SUM(AM63:AX63) -> 0
A64: 04202-CANELA | B64: 105451-P.S.R. AGUA FRIA | E64: =VLOOKUP($B64,[1]NUM1!$G$2:$T$157,2,FALSE) -> 4 | F64: =VLOOKUP($B64,[1]NUM1!$G$2:$T$157,3,FALSE) -> 3 | G64: =VLOOKUP($B64,[1]NUM1!$G$2:$T$157,4,FALSE) -> 0 | H64: =VLOOKUP($B64,[1]NUM1!$G$2:$T$157,5,FALSE) -> 3 | I64: =VLOOKUP($B64,[1]NUM1!$G$2:$T$157,6,FALSE) -> 1 | J64: =VLOOKUP($B64,[1]NUM1!$G$2:$T$157,7,FALSE) -> 0 | K64: =VLOOKUP($B64,[1]NUM1!$G$2:$T$157,8,FALSE) -> 2 | L64: =VLOOKUP($B64,[1]NUM1!$G$2:$T$157,9,FALSE) -> 0 | M64: =VLOOKUP($B64,[1]NUM1!$G$2:$T$157,10,FALSE) -> 0 | N64: =VLOOKUP($B64,[1]NUM1!$G$2:$T$157,11,FALSE) -> 0 | O64: =VLOOKUP($B64,[1]NUM1!$G$2:$T$157,12,FALSE) -> 1 | P64: =VLOOKUP($B64,[1]NUM1!$G$2:$T$157,13,FALSE) -> 1 | Q64: =SUM(E64:P64) -> 15 | S64: 0 | T64: =+S64+(Z64+AA64+AB64)-(AM64+AN64+AO64) -> 0 | U64: =VLOOKUP($B64,[2]DEN1!$G$2:$I$157,2,FALSE) -> 0 | V64: =+U64+(AF64+AG64)-(AS64+AT64) -> 0 | W64: =+U64+(AF64+AG64+AH64+AI64)-(AS64+AT64+AU64+AV64) -> 0 | X64: =VLOOKUP($B64,[1]DEN1!$G$2:$I$159,2,FALSE) -> 0 | Z64: =VLOOKUP($B64,'[3]ACT DEN1'!$G$2:$S$143,2,FALSE) -> 0 | AA64: =VLOOKUP($B64,'[3]ACT DEN1'!$G$2:$S$143,3,FALSE) -> 0 | AB64: =VLOOKUP($B64,'[3]ACT DEN1'!$G$2:$S$143,4,FALSE) -> 0 | AC64: =VLOOKUP($B64,'[3]ACT DEN1'!$G$2:$S$143,5,FALSE) -> 0 | AD64: =VLOOKUP($B64,'[3]ACT DEN1'!$G$2:$S$143,6,FALSE) -> 0 | AE64: =VLOOKUP($B64,'[3]ACT DEN1'!$G$2:$S$143,7,FALSE) -> 0 | AF64: =VLOOKUP($B64,'[3]ACT DEN1'!$G$2:$S$143,8,FALSE) -> 0 | AG64: =VLOOKUP($B64,'[3]ACT DEN1'!$G$2:$S$143,9,FALSE) -> 0 | AH64: =VLOOKUP($B64,'[3]ACT DEN1'!$G$2:$S$143,10,FALSE) -> 0 | AI64: =VLOOKUP($B64,'[3]ACT DEN1'!$G$2:$S$143,11,FALSE) -> 0 | AJ64: =VLOOKUP($B64,'[3]ACT DEN1'!$G$2:$S$143,12,FALSE) -> 0 | AL64: =SUM(Z64:AK64) -> 0 | AM64: =VLOOKUP($B64,'[3]ACT DEN1'!$AB$2:$AN$119,2,FALSE) -> 0 | AN64: =VLOOKUP($B64,'[3]ACT DEN1'!$AB$2:$AN$119,3,FALSE) -> 0 | AO64: =VLOOKUP($B64,'[3]ACT DEN1'!$AB$2:$AN$119,4,FALSE) -> 0 | AP64: =VLOOKUP($B64,'[3]ACT DEN1'!$AB$2:$AN$119,5,FALSE) -> 0 | AQ64: =VLOOKUP($B64,'[3]ACT DEN1'!$AB$2:$AN$119,6,FALSE) -> 0 | AR64: =VLOOKUP($B64,'[3]ACT DEN1'!$AB$2:$AN$119,7,FALSE) -> 0 | AS64: =VLOOKUP($B64,'[3]ACT DEN1'!$AB$2:$AN$119,8,FALSE) -> 0 | AT64: =VLOOKUP($B64,'[3]ACT DEN1'!$AB$2:$AN$119,9,FALSE) -> 0 | AU64: =VLOOKUP($B64,'[3]ACT DEN1'!$AB$2:$AN$119,10,FALSE) -> 0 | AV64: =VLOOKUP($B64,'[3]ACT DEN1'!$AB$2:$AN$119,11,FALSE) -> 0 | AW64: =VLOOKUP($B64,'[3]ACT DEN1'!$AB$2:$AN$119,12,FALSE) -> 0 | AY64: =SUM(AM64:AX64) -> 0
A65: 04202-CANELA | B65: 105482-P.S.R. CANELA ALTA | E65: =VLOOKUP($B65,[1]NUM1!$G$2:$T$157,2,FALSE) -> 5 | F65: =VLOOKUP($B65,[1]NUM1!$G$2:$T$157,3,FALSE) -> 0 | G65: =VLOOKUP($B65,[1]NUM1!$G$2:$T$157,4,FALSE) -> 4 | H65: =VLOOKUP($B65,[1]NUM1!$G$2:$T$157,5,FALSE) -> 7 | I65: =VLOOKUP($B65,[1]NUM1!$G$2:$T$157,6,FALSE) -> 1 | J65: =VLOOKUP($B65,[1]NUM1!$G$2:$T$157,7,FALSE) -> 9 | K65: =VLOOKUP($B65,[1]NUM1!$G$2:$T$157,8,FALSE) -> 3 | L65: =VLOOKUP($B65,[1]NUM1!$G$2:$T$157,9,FALSE) -> 6 | M65: =VLOOKUP($B65,[1]NUM1!$G$2:$T$157,10,FALSE) -> 5 | N65: =VLOOKUP($B65,[1]NUM1!$G$2:$T$157,11,FALSE) -> 0 | O65: =VLOOKUP($B65,[1]NUM1!$G$2:$T$157,12,FALSE) -> 1 | P65: =VLOOKUP($B65,[1]NUM1!$G$2:$T$157,13,FALSE) -> 3 | Q65: =SUM(E65:P65) -> 44 | S65: 5 | T65: =+S65+(Z65+AA65+AB65)-(AM65+AN65+AO65) -> 5 | U65: =VLOOKUP($B65,[2]DEN1!$G$2:$I$157,2,FALSE) -> 4 | V65: =+U65+(AF65+AG65)-(AS65+AT65) -> 4 | W65: =+U65+(AF65+AG65+AH65+AI65)-(AS65+AT65+AU65+AV65) -> 4 | X65: =VLOOKUP($B65,[1]DEN1!$G$2:$I$159,2,FALSE) -> 3 | Z65: =VLOOKUP($B65,'[3]ACT DEN1'!$G$2:$S$143,2,FALSE) -> 0 | AA65: =VLOOKUP($B65,'[3]ACT DEN1'!$G$2:$S$143,3,FALSE) -> 0 | AB65: =VLOOKUP($B65,'[3]ACT DEN1'!$G$2:$S$143,4,FALSE) -> 0 | AC65: =VLOOKUP($B65,'[3]ACT DEN1'!$G$2:$S$143,5,FALSE) -> 0 | AD65: =VLOOKUP($B65,'[3]ACT DEN1'!$G$2:$S$143,6,FALSE) -> 0 | AE65: =VLOOKUP($B65,'[3]ACT DEN1'!$G$2:$S$143,7,FALSE) -> 0 | AF65: =VLOOKUP($B65,'[3]ACT DEN1'!$G$2:$S$143,8,FALSE) -> 0 | AG65: =VLOOKUP($B65,'[3]ACT DEN1'!$G$2:$S$143,9,FALSE) -> 0 | AH65: =VLOOKUP($B65,'[3]ACT DEN1'!$G$2:$S$143,10,FALSE) -> 0 | AI65: =VLOOKUP($B65,'[3]ACT DEN1'!$G$2:$S$143,11,FALSE) -> 0 | AJ65: =VLOOKUP($B65,'[3]ACT DEN1'!$G$2:$S$143,12,FALSE) -> 0 | AL65: =SUM(Z65:AK65) -> 0 | AM65: =VLOOKUP($B65,'[3]ACT DEN1'!$AB$2:$AN$119,2,FALSE) -> 0 | AN65: =VLOOKUP($B65,'[3]ACT DEN1'!$AB$2:$AN$119,3,FALSE) -> 0 | AO65: =VLOOKUP($B65,'[3]ACT DEN1'!$AB$2:$AN$119,4,FALSE) -> 0 | AP65: =VLOOKUP($B65,'[3]ACT DEN1'!$AB$2:$AN$119,5,FALSE) -> 0 | AQ65: =VLOOKUP($B65,'[3]ACT DEN1'!$AB$2:$AN$119,6,FALSE) -> 0 | AR65: =VLOOKUP($B65,'[3]ACT DEN1'!$AB$2:$AN$119,7,FALSE) -> 0 | AS65: =VLOOKUP($B65,'[3]ACT DEN1'!$AB$2:$AN$119,8,FALSE) -> 0 | AT65: =VLOOKUP($B65,'[3]ACT DEN1'!$AB$2:$AN$119,9,FALSE) -> 0 | AU65: =VLOOKUP($B65,'[3]ACT DEN1'!$AB$2:$AN$119,10,FALSE) -> 0 | AV65: =VLOOKUP($B65,'[3]ACT DEN1'!$AB$2:$AN$119,11,FALSE) -> 0 | AW65: =VLOOKUP($B65,'[3]ACT DEN1'!$AB$2:$AN$119,12,FALSE) -> 0 | AY65: =SUM(AM65:AX65) -> 0
A66: 04202-CANELA | B66: 105483-P.S.R. LOS RULOS | E66: =VLOOKUP($B66,[1]NUM1!$G$2:$T$157,2,FALSE) -> 2 | F66: =VLOOKUP($B66,[1]NUM1!$G$2:$T$157,3,FALSE) -> 5 | G66: =VLOOKUP($B66,[1]NUM1!$G$2:$T$157,4,FALSE) -> 0 | H66: =VLOOKUP($B66,[1]NUM1!$G$2:$T$157,5,FALSE) -> 0 | I66: =VLOOKUP($B66,[1]NUM1!$G$2:$T$157,6,FALSE) -> 3 | J66: =VLOOKUP($B66,[1]NUM1!$G$2:$T$157,7,FALSE) -> 2 | K66: =VLOOKUP($B66,[1]NUM1!$G$2:$T$157,8,FALSE) -> 0 | L66: =VLOOKUP($B66,[1]NUM1!$G$2:$T$157,9,FALSE) -> 3 | M66: =VLOOKUP($B66,[1]NUM1!$G$2:$T$157,10,FALSE) -> 0 | N66: =VLOOKUP($B66,[1]NUM1!$G$2:$T$157,11,FALSE) -> 0 | O66: =VLOOKUP($B66,[1]NUM1!$G$2:$T$157,12,FALSE) -> 1 | P66: =VLOOKUP($B66,[1]NUM1!$G$2:$T$157,13,FALSE) -> 0 | Q66: =SUM(E66:P66) -> 16 | S66: 2 | T66: =+S66+(Z66+AA66+AB66)-(AM66+AN66+AO66) -> 2 | U66: =VLOOKUP($B66,[2]DEN1!$G$2:$I$157,2,FALSE) -> 2 | V66: =+U66+(AF66+AG66)-(AS66+AT66) -> 2 | W66: =+U66+(AF66+AG66+AH66+AI66)-(AS66+AT66+AU66+AV66) -> 3 | X66: =VLOOKUP($B66,[1]DEN1!$G$2:$I$159,2,FALSE) -> 3 | Z66: =VLOOKUP($B66,'[3]ACT DEN1'!$G$2:$S$143,2,FALSE) -> 0 | AA66: =VLOOKUP($B66,'[3]ACT DEN1'!$G$2:$S$143,3,FALSE) -> 0 | AB66: =VLOOKUP($B66,'[3]ACT DEN1'!$G$2:$S$143,4,FALSE) -> 0 | AC66: =VLOOKUP($B66,'[3]ACT DEN1'!$G$2:$S$143,5,FALSE) -> 0 | AD66: =VLOOKUP($B66,'[3]ACT DEN1'!$G$2:$S$143,6,FALSE) -> 0 | AE66: =VLOOKUP($B66,'[3]ACT DEN1'!$G$2:$S$143,7,FALSE) -> 0 | AF66: =VLOOKUP($B66,'[3]ACT DEN1'!$G$2:$S$143,8,FALSE) -> 0 | AG66: =VLOOKUP($B66,'[3]ACT DEN1'!$G$2:$S$143,9,FALSE) -> 0 | AH66: =VLOOKUP($B66,'[3]ACT DEN1'!$G$2:$S$143,10,FALSE) -> 0 | AI66: =VLOOKUP($B66,'[3]ACT DEN1'!$G$2:$S$143,11,FALSE) -> 1 | AJ66: =VLOOKUP($B66,'[3]ACT DEN1'!$G$2:$S$143,12,FALSE) -> 0 | AL66: =SUM(Z66:AK66) -> 1 | AY66: =SUM(AM66:AX66) -> 0
A67: 04202-CANELA | B67: 105484-P.S.R. HUENTELAUQUEN | E67: =VLOOKUP($B67,[1]NUM1!$G$2:$T$157,2,FALSE) -> 1 | F67: =VLOOKUP($B67,[1]NUM1!$G$2:$T$157,3,FALSE) -> 0 | G67: =VLOOKUP($B67,[1]NUM1!$G$2:$T$157,4,FALSE) -> 15 | H67: =VLOOKUP($B67,[1]NUM1!$G$2:$T$157,5,FALSE) -> 1 | I67: =VLOOKUP($B67,[1]NUM1!$G$2:$T$157,6,FALSE) -> 0 | J67: =VLOOKUP($B67,[1]NUM1!$G$2:$T$157,7,FALSE) -> 0 | K67: =VLOOKUP($B67,[1]NUM1!$G$2:$T$157,8,FALSE) -> 0 | L67: =VLOOKUP($B67,[1]NUM1!$G$2:$T$157,9,FALSE) -> 4 | M67: =VLOOKUP($B67,[1]NUM1!$G$2:$T$157,10,FALSE) -> 0 | N67: =VLOOKUP($B67,[1]NUM1!$G$2:$T$157,11,FALSE) -> 3 | O67: =VLOOKUP($B67,[1]NUM1!$G$2:$T$157,12,FALSE) -> 0 | P67: =VLOOKUP($B67,[1]NUM1!$G$2:$T$157,13,FALSE) -> 0 | Q67: =SUM(E67:P67) -> 24 | S67: 0 | T67: =+S67+(Z67+AA67+AB67)-(AM67+AN67+AO67) -> 0 | U67: =VLOOKUP($B67,[2]DEN1!$G$2:$I$157,2,FALSE) -> 2 | V67: =+U67+(AF67+AG67)-(AS67+AT67) -> 2 | W67: =+U67+(AF67+AG67+AH67+AI67)-(AS67+AT67+AU67+AV67) -> 2 | X67: =VLOOKUP($B67,[1]DEN1!$G$2:$I$159,2,FALSE) -> 0 | Z67: =VLOOKUP($B67,'[3]ACT DEN1'!$G$2:$S$143,2,FALSE) -> 0 | AA67: =VLOOKUP($B67,'[3]ACT DEN1'!$G$2:$S$143,3,FALSE) -> 0 | AB67: =VLOOKUP($B67,'[3]ACT DEN1'!$G$2:$S$143,4,FALSE) -> 0 | AC67: =VLOOKUP($B67,'[3]ACT DEN1'!$G$2:$S$143,5,FALSE) -> 0 | AD67: =VLOOKUP($B67,'[3]ACT DEN1'!$G$2:$S$143,6,FALSE) -> 1 | AE67: =VLOOKUP($B67,'[3]ACT DEN1'!$G$2:$S$143,7,FALSE) -> 0 | AF67: =VLOOKUP($B67,'[3]ACT DEN1'!$G$2:$S$143,8,FALSE) -> 0 | AG67: =VLOOKUP($B67,'[3]ACT DEN1'!$G$2:$S$143,9,FALSE) -> 0 | AH67: =VLOOKUP($B67,'[3]ACT DEN1'!$G$2:$S$143,10,FALSE) -> 0 | AI67: =VLOOKUP($B67,'[3]ACT DEN1'!$G$2:$S$143,11,FALSE) -> 0 | AJ67: =VLOOKUP($B67,'[3]ACT DEN1'!$G$2:$S$143,12,FALSE) -> 0 | AL67: =SUM(Z67:AK67) -> 1 | AM67: =VLOOKUP($B67,'[3]ACT DEN1'!$AB$2:$AN$119,2,FALSE) -> 0 | AN67: =VLOOKUP($B67,'[3]ACT DEN1'!$AB$2:$AN$119,3,FALSE) -> 0 | AO67: =VLOOKUP($B67,'[3]ACT DEN1'!$AB$2:$AN$119,4,FALSE) -> 0 | AP67: =VLOOKUP($B67,'[3]ACT DEN1'!$AB$2:$AN$119,5,FALSE) -> 0 | AQ67: =VLOOKUP($B67,'[3]ACT DEN1'!$AB$2:$AN$119,6,FALSE) -> 0 | AR67: =VLOOKUP($B67,'[3]ACT DEN1'!$AB$2:$AN$119,7,FALSE) -> 0 | AS67: =VLOOKUP($B67,'[3]ACT DEN1'!$AB$2:$AN$119,8,FALSE) -> 0 | AT67: =VLOOKUP($B67,'[3]ACT DEN1'!$AB$2:$AN$119,9,FALSE) -> 0 | AU67: =VLOOKUP($B67,'[3]ACT DEN1'!$AB$2:$AN$119,10,FALSE) -> 0 | AV67: =VLOOKUP($B67,'[3]ACT DEN1'!$AB$2:$AN$119,11,FALSE) -> 0 | AW67: =VLOOKUP($B67,'[3]ACT DEN1'!$AB$2:$AN$119,12,FALSE) -> 0 | AY67: =SUM(AM67:AX67) -> 0
A68: 04202-CANELA | B68: 105488-P.S.R. ESPIRITU SANTO | E68: =VLOOKUP($B68,[1]NUM1!$G$2:$T$157,2,FALSE) -> 1 | F68: =VLOOKUP($B68,[1]NUM1!$G$2:$T$157,3,FALSE) -> 0 | G68: =VLOOKUP($B68,[1]NUM1!$G$2:$T$157,4,FALSE) -> 0 | H68: =VLOOKUP($B68,[1]NUM1!$G$2:$T$157,5,FALSE) -> 0 | I68: =VLOOKUP($B68,[1]NUM1!$G$2:$T$157,6,FALSE) -> 0 | J68: =VLOOKUP($B68,[1]NUM1!$G$2:$T$157,7,FALSE) -> 0 | K68: =VLOOKUP($B68,[1]NUM1!$G$2:$T$157,8,FALSE) -> 0 | L68: =VLOOKUP($B68,[1]NUM1!$G$2:$T$157,9,FALSE) -> 0 | M68: =VLOOKUP($B68,[1]NUM1!$G$2:$T$157,10,FALSE) -> 0 | N68: =VLOOKUP($B68,[1]NUM1!$G$2:$T$157,11,FALSE) -> 0 | O68: =VLOOKUP($B68,[1]NUM1!$G$2:$T$157,12,FALSE) -> 0 | P68: =VLOOKUP($B68,[1]NUM1!$G$2:$T$157,13,FALSE) -> 0 | Q68: =SUM(E68:P68) -> 1 | S68: 0 | T68: =+S68+(Z68+AA68+AB68)-(AM68+AN68+AO68) -> 0 | U68: =VLOOKUP($B68,[2]DEN1!$G$2:$I$157,2,FALSE) -> 1 | V68: =+U68+(AF68+AG68)-(AS68+AT68) -> 1 | W68: =+U68+(AF68+AG68+AH68+AI68)-(AS68+AT68+AU68+AV68) -> 1 | X68: =VLOOKUP($B68,[1]DEN1!$G$2:$I$159,2,FALSE) -> 1 | Z68: =VLOOKUP($B68,'[3]ACT DEN1'!$G$2:$S$143,2,FALSE) -> 0 | AA68: =VLOOKUP($B68,'[3]ACT DEN1'!$G$2:$S$143,3,FALSE) -> 0 | AB68: =VLOOKUP($B68,'[3]ACT DEN1'!$G$2:$S$143,4,FALSE) -> 0 | AC68: =VLOOKUP($B68,'[3]ACT DEN1'!$G$2:$S$143,5,FALSE) -> 0 | AD68: =VLOOKUP($B68,'[3]ACT DEN1'!$G$2:$S$143,6,FALSE) -> 0 | AE68: =VLOOKUP($B68,'[3]ACT DEN1'!$G$2:$S$143,7,FALSE) -> 1 | AF68: =VLOOKUP($B68,'[3]ACT DEN1'!$G$2:$S$143,8,FALSE) -> 0 | AG68: =VLOOKUP($B68,'[3]ACT DEN1'!$G$2:$S$143,9,FALSE) -> 0 | AH68: =VLOOKUP($B68,'[3]ACT DEN1'!$G$2:$S$143,10,FALSE) -> 0 | AI68: =VLOOKUP($B68,'[3]ACT DEN1'!$G$2:$S$143,11,FALSE) -> 0 | AJ68: =VLOOKUP($B68,'[3]ACT DEN1'!$G$2:$S$143,12,FALSE) -> 0 | AL68: =SUM(Z68:AK68) -> 1 | AM68: =VLOOKUP($B68,'[3]ACT DEN1'!$AB$2:$AN$119,2,FALSE) -> 0 | AN68: =VLOOKUP($B68,'[3]ACT DEN1'!$AB$2:$AN$119,3,FALSE) -> 0 | AO68: =VLOOKUP($B68,'[3]ACT DEN1'!$AB$2:$AN$119,4,FALSE) -> 0 | AP68: =VLOOKUP($B68,'[3]ACT DEN1'!$AB$2:$AN$119,5,FALSE) -> 0 | AQ68: =VLOOKUP($B68,'[3]ACT DEN1'!$AB$2:$AN$119,6,FALSE) -> 0 | AR68: =VLOOKUP($B68,'[3]ACT DEN1'!$AB$2:$AN$119,7,FALSE) -> 0 | AS68: =VLOOKUP($B68,'[3]ACT DEN1'!$AB$2:$AN$119,8,FALSE) -> 0 | AT68: =VLOOKUP($B68,'[3]ACT DEN1'!$AB$2:$AN$119,9,FALSE) -> 0 | AU68: =VLOOKUP($B68,'[3]ACT DEN1'!$AB$2:$AN$119,10,FALSE) -> 0 | AV68: =VLOOKUP($B68,'[3]ACT DEN1'!$AB$2:$AN$119,11,FALSE) -> 0 | AW68: =VLOOKUP($B68,'[3]ACT DEN1'!$AB$2:$AN$119,12,FALSE) -> 0 | AY68: =SUM(AM68:AX68) -> 0
A69: 04202-CANELA | B69: 105493-P.S.R. MINCHA SUR | E69: =VLOOKUP($B69,[1]NUM1!$G$2:$T$157,2,FALSE) -> 1 | F69: =VLOOKUP($B69,[1]NUM1!$G$2:$T$157,3,FALSE) -> 0 | G69: =VLOOKUP($B69,[1]NUM1!$G$2:$T$157,4,FALSE) -> 2 | H69: =VLOOKUP($B69,[1]NUM1!$G$2:$T$157,5,FALSE) -> 1 | I69: =VLOOKUP($B69,[1]NUM1!$G$2:$T$157,6,FALSE) -> 0 | J69: =VLOOKUP($B69,[1]NUM1!$G$2:$T$157,7,FALSE) -> 2 | K69: =VLOOKUP($B69,[1]NUM1!$G$2:$T$157,8,FALSE) -> 0 | L69: =VLOOKUP($B69,[1]NUM1!$G$2:$T$157,9,FALSE) -> 2 | M69: =VLOOKUP($B69,[1]NUM1!$G$2:$T$157,10,FALSE) -> 0 | N69: =VLOOKUP($B69,[1]NUM1!$G$2:$T$157,11,FALSE) -> 1 | O69: =VLOOKUP($B69,[1]NUM1!$G$2:$T$157,12,FALSE) -> 0 | P69: =VLOOKUP($B69,[1]NUM1!$G$2:$T$157,13,FALSE) -> 0 | Q69: =SUM(E69:P69) -> 9 | S69: 0 | T69: =+S69+(Z69+AA69+AB69)-(AM69+AN69+AO69) -> 0 | U69: =VLOOKUP($B69,[2]DEN1!$G$2:$I$157,2,FALSE) -> 1 | V69: =+U69+(AF69+AG69)-(AS69+AT69) -> 2 | W69: =+U69+(AF69+AG69+AH69+AI69)-(AS69+AT69+AU69+AV69) -> 2 | X69: =VLOOKUP($B69,[1]DEN1!$G$2:$I$159,2,FALSE) -> 2 | Z69: =VLOOKUP($B69,'[3]ACT DEN1'!$G$2:$S$143,2,FALSE) -> 0 | AA69: =VLOOKUP($B69,'[3]ACT DEN1'!$G$2:$S$143,3,FALSE) -> 0 | AB69: =VLOOKUP($B69,'[3]ACT DEN1'!$G$2:$S$143,4,FALSE) -> 0 | AC69: =VLOOKUP($B69,'[3]ACT DEN1'!$G$2:$S$143,5,FALSE) -> 0 | AD69: =VLOOKUP($B69,'[3]ACT DEN1'!$G$2:$S$143,6,FALSE) -> 0 | AE69: =VLOOKUP($B69,'[3]ACT DEN1'!$G$2:$S$143,7,FALSE) -> 0 | AF69: =VLOOKUP($B69,'[3]ACT DEN1'!$G$2:$S$143,8,FALSE) -> 0 | AG69: =VLOOKUP($B69,'[3]ACT DEN1'!$G$2:$S$143,9,FALSE) -> 1 | AH69: =VLOOKUP($B69,'[3]ACT DEN1'!$G$2:$S$143,10,FALSE) -> 0 | AI69: =VLOOKUP($B69,'[3]ACT DEN1'!$G$2:$S$143,11,FALSE) -> 0 | AJ69: =VLOOKUP($B69,'[3]ACT DEN1'!$G$2:$S$143,12,FALSE) -> 0 | AL69: =SUM(Z69:AK69) -> 1 | AY69: =SUM(AM69:AX69) -> 0
A70: 04202-CANELA | B70: 105497-P.S.R. JABONERIA | E70: =VLOOKUP($B70,[1]NUM1!$G$2:$T$157,2,FALSE) -> 6 | F70: =VLOOKUP($B70,[1]NUM1!$G$2:$T$157,3,FALSE) -> 3 | G70: =VLOOKUP($B70,[1]NUM1!$G$2:$T$157,4,FALSE) -> 4 | H70: =VLOOKUP($B70,[1]NUM1!$G$2:$T$157,5,FALSE) -> 0 | I70: =VLOOKUP($B70,[1]NUM1!$G$2:$T$157,6,FALSE) -> 0 | J70: =VLOOKUP($B70,[1]NUM1!$G$2:$T$157,7,FALSE) -> 0 | K70: =VLOOKUP($B70,[1]NUM1!$G$2:$T$157,8,FALSE) -> 0 | L70: =VLOOKUP($B70,[1]NUM1!$G$2:$T$157,9,FALSE) -> 0 | M70: =VLOOKUP($B70,[1]NUM1!$G$2:$T$157,10,FALSE) -> 0 | N70: =VLOOKUP($B70,[1]NUM1!$G$2:$T$157,11,FALSE) -> 0 | O70: =VLOOKUP($B70,[1]NUM1!$G$2:$T$157,12,FALSE) -> 0 | P70: =VLOOKUP($B70,[1]NUM1!$G$2:$T$157,13,FALSE) -> 0 | Q70: =SUM(E70:P70) -> 13 | S70: 1 | T70: =+S70+(Z70+AA70+AB70)-(AM70+AN70+AO70) -> 1 | U70: =VLOOKUP($B70,[2]DEN1!$G$2:$I$157,2,FALSE) -> 1 | V70: =+U70+(AF70+AG70)-(AS70+AT70) -> 1 | W70: =+U70+(AF70+AG70+AH70+AI70)-(AS70+AT70+AU70+AV70) -> 1 | X70: =VLOOKUP($B70,[1]DEN1!$G$2:$I$159,2,FALSE) -> 1 | Z70: =VLOOKUP($B70,'[3]ACT DEN1'!$G$2:$S$143,2,FALSE) -> 0 | AA70: =VLOOKUP($B70,'[3]ACT DEN1'!$G$2:$S$143,3,FALSE) -> 0 | AB70: =VLOOKUP($B70,'[3]ACT DEN1'!$G$2:$S$143,4,FALSE) -> 0 | AC70: =VLOOKUP($B70,'[3]ACT DEN1'!$G$2:$S$143,5,FALSE) -> 0 | AD70: =VLOOKUP($B70,'[3]ACT DEN1'!$G$2:$S$143,6,FALSE) -> 0 | AE70: =VLOOKUP($B70,'[3]ACT DEN1'!$G$2:$S$143,7,FALSE) -> 0 | AF70: =VLOOKUP($B70,'[3]ACT DEN1'!$G$2:$S$143,8,FALSE) -> 0 | AG70: =VLOOKUP($B70,'[3]ACT DEN1'!$G$2:$S$143,9,FALSE) -> 0 | AH70: =VLOOKUP($B70,'[3]ACT DEN1'!$G$2:$S$143,10,FALSE) -> 0 | AI70: =VLOOKUP($B70,'[3]ACT DEN1'!$G$2:$S$143,11,FALSE) -> 0 | AJ70: =VLOOKUP($B70,'[3]ACT DEN1'!$G$2:$S$143,12,FALSE) -> 0 | AL70: =SUM(Z70:AK70) -> 0 | AY70: =SUM(AM70:AX70) -> 0
A71: 04202-CANELA | B71: 105498-P.S.R. QUEBRADA DE LINARES | E71: =VLOOKUP($B71,[1]NUM1!$G$2:$T$157,2,FALSE) -> 8 | F71: =VLOOKUP($B71,[1]NUM1!$G$2:$T$157,3,FALSE) -> 5 | G71: =VLOOKUP($B71,[1]NUM1!$G$2:$T$157,4,FALSE) -> 0 | H71: =VLOOKUP($B71,[1]NUM1!$G$2:$T$157,5,FALSE) -> 0 | I71: =VLOOKUP($B71,[1]NUM1!$G$2:$T$157,6,FALSE) -> 1 | J71: =VLOOKUP($B71,[1]NUM1!$G$2:$T$157,7,FALSE) -> 0 | K71: =VLOOKUP($B71,[1]NUM1!$G$2:$T$157,8,FALSE) -> 0 | L71: =VLOOKUP($B71,[1]NUM1!$G$2:$T$157,9,FALSE) -> 0 | M71: =VLOOKUP($B71,[1]NUM1!$G$2:$T$157,10,FALSE) -> 0 | N71: =VLOOKUP($B71,[1]NUM1!$G$2:$T$157,11,FALSE) -> 0 | O71: =VLOOKUP($B71,[1]NUM1!$G$2:$T$157,12,FALSE) -> 0 | P71: =VLOOKUP($B71,[1]NUM1!$G$2:$T$157,13,FALSE) -> 0 | Q71: =SUM(E71:P71) -> 14 | S71: 0 | T71: =+S71+(Z71+AA71+AB71)-(AM71+AN71+AO71) -> 0 | U71: =VLOOKUP($B71,[2]DEN1!$G$2:$I$157,2,FALSE) -> 0 | V71: =+U71+(AF71+AG71)-(AS71+AT71) -> 0 | W71: =+U71+(AF71+AG71+AH71+AI71)-(AS71+AT71+AU71+AV71) -> 0 | X71: =VLOOKUP($B71,[1]DEN1!$G$2:$I$159,2,FALSE) -> 0 | Z71: =VLOOKUP($B71,'[3]ACT DEN1'!$G$2:$S$143,2,FALSE) -> 0 | AA71: =VLOOKUP($B71,'[3]ACT DEN1'!$G$2:$S$143,3,FALSE) -> 0 | AB71: =VLOOKUP($B71,'[3]ACT DEN1'!$G$2:$S$143,4,FALSE) -> 0 | AC71: =VLOOKUP($B71,'[3]ACT DEN1'!$G$2:$S$143,5,FALSE) -> 0 | AD71: =VLOOKUP($B71,'[3]ACT DEN1'!$G$2:$S$143,6,FALSE) -> 0 | AE71: =VLOOKUP($B71,'[3]ACT DEN1'!$G$2:$S$143,7,FALSE) -> 0 | AF71: =VLOOKUP($B71,'[3]ACT DEN1'!$G$2:$S$143,8,FALSE) -> 0 | AG71: =VLOOKUP($B71,'[3]ACT DEN1'!$G$2:$S$143,9,FALSE) -> 0 | AH71: =VLOOKUP($B71,'[3]ACT DEN1'!$G$2:$S$143,10,FALSE) -> 0 | AI71: =VLOOKUP($B71,'[3]ACT DEN1'!$G$2:$S$143,11,FALSE) -> 0 | AJ71: =VLOOKUP($B71,'[3]ACT DEN1'!$G$2:$S$143,12,FALSE) -> 0 | AL71: =SUM(Z71:AK71) -> 0 | AM71: =VLOOKUP($B71,'[3]ACT DEN1'!$AB$2:$AN$119,2,FALSE) -> 0 | AN71: =VLOOKUP($B71,'[3]ACT DEN1'!$AB$2:$AN$119,3,FALSE) -> 0 | AO71: =VLOOKUP($B71,'[3]ACT DEN1'!$AB$2:$AN$119,4,FALSE) -> 0 | AP71: =VLOOKUP($B71,'[3]ACT DEN1'!$AB$2:$AN$119,5,FALSE) -> 0 | AQ71: =VLOOKUP($B71,'[3]ACT DEN1'!$AB$2:$AN$119,6,FALSE) -> 0 | AR71: =VLOOKUP($B71,'[3]ACT DEN1'!$AB$2:$AN$119,7,FALSE) -> 0 | AS71: =VLOOKUP($B71,'[3]ACT DEN1'!$AB$2:$AN$119,8,FALSE) -> 0 | AT71: =VLOOKUP($B71,'[3]ACT DEN1'!$AB$2:$AN$119,9,FALSE) -> 0 | AU71: =VLOOKUP($B71,'[3]ACT DEN1'!$AB$2:$AN$119,10,FALSE) -> 0 | AV71: =VLOOKUP($B71,'[3]ACT DEN1'!$AB$2:$AN$119,11,FALSE) -> 0 | AW71: =VLOOKUP($B71,'[3]ACT DEN1'!$AB$2:$AN$119,12,FALSE) -> 0 | AY71: =SUM(AM71:AX71) -> 0
A72: TOTAL CANELA MUNICIPAL | C72: =+D72/Metas!G106 -> 0.92923057 | D72: =+Q72/R72 -> 0.19513842 | E72: =SUM(E62:E71) -> 57 | F72: =SUM(F62:F71) -> 22 | G72: =SUM(G62:G71) -> 58 | H72: =SUM(H62:H71) -> 23 | I72: =SUM(I62:I71) -> 17 | J72: =SUM(J62:J71) -> 19 | K72: =SUM(K62:K71) -> 10 | L72: =SUM(L62:L71) -> 31 | ... Q72: =SUM(Q62:Q71) -> 289 | R72: =+Y72-X72 -> 1481 | S72: =SUM(S62:S71) -> 41 | T72: =SUM(T62:T71) -> 44 | U72: =SUM(U62:U71) -> 47 | V72: =SUM(V62:V71) -> 45 | W72: =SUM(W62:W71) -> 50 | X72: =SUM(X62:X71) -> 47 | Y72: 1528 | Z72: =SUM(Z62:Z71) -> 0 | AA72: =SUM(AA62:AA71) -> 1 | AB72: =SUM(AB62:AB71) -> 2 | AC72: =SUM(AC62:AC71) -> 1 | AD72: =SUM(AD62:AD71) -> 1 | AE72: =SUM(AE62:AE71) -> 2 | AF72: =SUM(AF62:AF71) -> 0 | AG72: =SUM(AG62:AG71) -> 3 | ... AK72: =SUM(AK62:AK71) -> 0 | AL72: =SUM(Z72:AK72) -> 16 | AM72: =SUM(AM62:AM71) -> 0 | AN72: =SUM(AN62:AN71) -> 0 | AO72: =SUM(AO62:AO71) -> 0 | AP72: =SUM(AP62:AP71) -> 0 | AQ72: =SUM(AQ62:AQ71) -> 0 | AR72: =SUM(AR62:AR71) -> 0 | AS72: =SUM(AS62:AS71) -> 0 | AT72: =SUM(AT62:AT71) -> 5 | ... AX72: =SUM(AX62:AX71) -> 0 | AY72: =SUM(AM72:AX72) -> 5
A73: 04203-LOS VILOS | B73: 105478-P.S.R. CAIMANES | E73: =VLOOKUP($B73,[1]NUM1!$G$2:$T$157,2,FALSE) -> 1 | F73: =VLOOKUP($B73,[1]NUM1!$G$2:$T$157,3,FALSE) -> 3 | G73: =VLOOKUP($B73,[1]NUM1!$G$2:$T$157,4,FALSE) -> 18 | H73: =VLOOKUP($B73,[1]NUM1!$G$2:$T$157,5,FALSE) -> 2 | I73: =VLOOKUP($B73,[1]NUM1!$G$2:$T$157,6,FALSE) -> 2 | J73: =VLOOKUP($B73,[1]NUM1!$G$2:$T$157,7,FALSE) -> 13 | K73: =VLOOKUP($B73,[1]NUM1!$G$2:$T$157,8,FALSE) -> 3 | L73: =VLOOKUP($B73,[1]NUM1!$G$2:$T$157,9,FALSE) -> 2 | M73: =VLOOKUP($B73,[1]NUM1!$G$2:$T$157,10,FALSE) -> 6 | N73: =VLOOKUP($B73,[1]NUM1!$G$2:$T$157,11,FALSE) -> 8 | O73: =VLOOKUP($B73,[1]NUM1!$G$2:$T$157,12,FALSE) -> 38 | P73: =VLOOKUP($B73,[1]NUM1!$G$2:$T$157,13,FALSE) -> 0 | Q73: =SUM(E73:P73) -> 96 | S73: 9 | T73: =+S73+(Z73+AA73+AB73)-(AM73+AN73+AO73) -> 9 | U73: =VLOOKUP($B73,[2]DEN1!$G$2:$I$157,2,FALSE) -> 9 | V73: =+U73+(AF73+AG73)-(AS73+AT73) -> 9 | W73: =+U73+(AF73+AG73+AH73+AI73)-(AS73+AT73+AU73+AV73) -> 8 | X73: =VLOOKUP($B73,[1]DEN1!$G$2:$I$159,2,FALSE) -> 9 | Z73: =VLOOKUP($B73,'[3]ACT DEN1'!$G$2:$S$143,2,FALSE) -> 0 | AA73: =VLOOKUP($B73,'[3]ACT DEN1'!$G$2:$S$143,3,FALSE) -> 0 | AB73: =VLOOKUP($B73,'[3]ACT DEN1'!$G$2:$S$143,4,FALSE) -> 0 | AC73: =VLOOKUP($B73,'[3]ACT DEN1'!$G$2:$S$143,5,FALSE) -> 0 | AD73: =VLOOKUP($B73,'[3]ACT DEN1'!$G$2:$S$143,6,FALSE) -> 0 | AE73: =VLOOKUP($B73,'[3]ACT DEN1'!$G$2:$S$143,7,FALSE) -> 1 | AF73: =VLOOKUP($B73,'[3]ACT DEN1'!$G$2:$S$143,8,FALSE) -> 0 | AG73: =VLOOKUP($B73,'[3]ACT DEN1'!$G$2:$S$143,9,FALSE) -> 0 | AH73: =VLOOKUP($B73,'[3]ACT DEN1'!$G$2:$S$143,10,FALSE) -> 0 | AI73: =VLOOKUP($B73,'[3]ACT DEN1'!$G$2:$S$143,11,FALSE) -> 0 | AJ73: =VLOOKUP($B73,'[3]ACT DEN1'!$G$2:$S$143,12,FALSE) -> 0 | AL73: =SUM(Z73:AK73) -> 1 | AM73: =VLOOKUP($B73,'[3]ACT DEN1'!$AB$2:$AN$119,2,FALSE) -> 0 | AN73: =VLOOKUP($B73,'[3]ACT DEN1'!$AB$2:$AN$119,3,FALSE) -> 0 | AO73: =VLOOKUP($B73,'[3]ACT DEN1'!$AB$2:$AN$119,4,FALSE) -> 0 | AP73: =VLOOKUP($B73,'[3]ACT DEN1'!$AB$2:$AN$119,5,FALSE) -> 0 | AQ73: =VLOOKUP($B73,'[3]ACT DEN1'!$AB$2:$AN$119,6,FALSE) -> 0 | AR73: =VLOOKUP($B73,'[3]ACT DEN1'!$AB$2:$AN$119,7,FALSE) -> 0 | AS73: =VLOOKUP($B73,'[3]ACT DEN1'!$AB$2:$AN$119,8,FALSE) -> 0 | AT73: =VLOOKUP($B73,'[3]ACT DEN1'!$AB$2:$AN$119,9,FALSE) -> 0 | AU73: =VLOOKUP($B73,'[3]ACT DEN1'!$AB$2:$AN$119,10,FALSE) -> 1 | AV73: =VLOOKUP($B73,'[3]ACT DEN1'!$AB$2:$AN$119,11,FALSE) -> 0 | AW73: =VLOOKUP($B73,'[3]ACT DEN1'!$AB$2:$AN$119,12,FALSE) -> 0 | AY73: =SUM(AM73:AX73) -> 1
A74: 04203-LOS VILOS | B74: 105479-P.S.R. GUANGUALI | E74: =VLOOKUP($B74,[1]NUM1!$G$2:$T$157,2,FALSE) -> 0 | F74: =VLOOKUP($B74,[1]NUM1!$G$2:$T$157,3,FALSE) -> 0 | G74: =VLOOKUP($B74,[1]NUM1!$G$2:$T$157,4,FALSE) -> 2 | H74: =VLOOKUP($B74,[1]NUM1!$G$2:$T$157,5,FALSE) -> 3 | I74: =VLOOKUP($B74,[1]NUM1!$G$2:$T$157,6,FALSE) -> 4 | J74: =VLOOKUP($B74,[1]NUM1!$G$2:$T$157,7,FALSE) -> 5 | K74: =VLOOKUP($B74,[1]NUM1!$G$2:$T$157,8,FALSE) -> 2 | L74: =VLOOKUP($B74,[1]NUM1!$G$2:$T$157,9,FALSE) -> 0 | M74: =VLOOKUP($B74,[1]NUM1!$G$2:$T$157,10,FALSE) -> 2 | N74: =VLOOKUP($B74,[1]NUM1!$G$2:$T$157,11,FALSE) -> 4 | O74: =VLOOKUP($B74,[1]NUM1!$G$2:$T$157,12,FALSE) -> 4 | P74: =VLOOKUP($B74,[1]NUM1!$G$2:$T$157,13,FALSE) -> 0 | Q74: =SUM(E74:P74) -> 26 | S74: 2 | T74: =+S74+(Z74+AA74+AB74)-(AM74+AN74+AO74) -> 2 | U74: =VLOOKUP($B74,[2]DEN1!$G$2:$I$157,2,FALSE) -> 1 | V74: =+U74+(AF74+AG74)-(AS74+AT74) -> 1 | W74: =+U74+(AF74+AG74+AH74+AI74)-(AS74+AT74+AU74+AV74) -> 1 | X74: =VLOOKUP($B74,[1]DEN1!$G$2:$I$159,2,FALSE) -> 2 | Z74: =VLOOKUP($B74,'[3]ACT DEN1'!$G$2:$S$143,2,FALSE) -> 0 | AA74: =VLOOKUP($B74,'[3]ACT DEN1'!$G$2:$S$143,3,FALSE) -> 0 | AB74: =VLOOKUP($B74,'[3]ACT DEN1'!$G$2:$S$143,4,FALSE) -> 0 | AC74: =VLOOKUP($B74,'[3]ACT DEN1'!$G$2:$S$143,5,FALSE) -> 0 | AD74: =VLOOKUP($B74,'[3]ACT DEN1'!$G$2:$S$143,6,FALSE) -> 0 | AE74: =VLOOKUP($B74,'[3]ACT DEN1'!$G$2:$S$143,7,FALSE) -> 0 | AF74: =VLOOKUP($B74,'[3]ACT DEN1'!$G$2:$S$143,8,FALSE) -> 0 | AG74: =VLOOKUP($B74,'[3]ACT DEN1'!$G$2:$S$143,9,FALSE) -> 0 | AH74: =VLOOKUP($B74,'[3]ACT DEN1'!$G$2:$S$143,10,FALSE) -> 0 | AI74: =VLOOKUP($B74,'[3]ACT DEN1'!$G$2:$S$143,11,FALSE) -> 0 | AJ74: =VLOOKUP($B74,'[3]ACT DEN1'!$G$2:$S$143,12,FALSE) -> 0 | AL74: =SUM(Z74:AK74) -> 0 | AM74: =VLOOKUP($B74,'[3]ACT DEN1'!$AB$2:$AN$119,2,FALSE) -> 0 | AN74: =VLOOKUP($B74,'[3]ACT DEN1'!$AB$2:$AN$119,3,FALSE) -> 0 | AO74: =VLOOKUP($B74,'[3]ACT DEN1'!$AB$2:$AN$119,4,FALSE) -> 0 | AP74: =VLOOKUP($B74,'[3]ACT DEN1'!$AB$2:$AN$119,5,FALSE) -> 0 | AQ74: =VLOOKUP($B74,'[3]ACT DEN1'!$AB$2:$AN$119,6,FALSE) -> 0 | AR74: =VLOOKUP($B74,'[3]ACT DEN1'!$AB$2:$AN$119,7,FALSE) -> 0 | AS74: =VLOOKUP($B74,'[3]ACT DEN1'!$AB$2:$AN$119,8,FALSE) -> 0 | AT74: =VLOOKUP($B74,'[3]ACT DEN1'!$AB$2:$AN$119,9,FALSE) -> 0 | AU74: =VLOOKUP($B74,'[3]ACT DEN1'!$AB$2:$AN$119,10,FALSE) -> 0 | AV74: =VLOOKUP($B74,'[3]ACT DEN1'!$AB$2:$AN$119,11,FALSE) -> 0 | AW74: =VLOOKUP($B74,'[3]ACT DEN1'!$AB$2:$AN$119,12,FALSE) -> 0 | AY74: =SUM(AM74:AX74) -> 0
A75: 04203-LOS VILOS | B75: 105480-P.S.R. QUILIMARI | E75: =VLOOKUP($B75,[1]NUM1!$G$2:$T$157,2,FALSE) -> 1 | F75: =VLOOKUP($B75,[1]NUM1!$G$2:$T$157,3,FALSE) -> 0 | G75: =VLOOKUP($B75,[1]NUM1!$G$2:$T$157,4,FALSE) -> 10 | H75: =VLOOKUP($B75,[1]NUM1!$G$2:$T$157,5,FALSE) -> 2 | I75: =VLOOKUP($B75,[1]NUM1!$G$2:$T$157,6,FALSE) -> 1 | J75: =VLOOKUP($B75,[1]NUM1!$G$2:$T$157,7,FALSE) -> 6 | K75: =VLOOKUP($B75,[1]NUM1!$G$2:$T$157,8,FALSE) -> 0 | L75: =VLOOKUP($B75,[1]NUM1!$G$2:$T$157,9,FALSE) -> 1 | M75: =VLOOKUP($B75,[1]NUM1!$G$2:$T$157,10,FALSE) -> 3 | N75: =VLOOKUP($B75,[1]NUM1!$G$2:$T$157,11,FALSE) -> 3 | O75: =VLOOKUP($B75,[1]NUM1!$G$2:$T$157,12,FALSE) -> 0 | P75: =VLOOKUP($B75,[1]NUM1!$G$2:$T$157,13,FALSE) -> 0 | Q75: =SUM(E75:P75) -> 27 | S75: 3 | T75: =+S75+(Z75+AA75+AB75)-(AM75+AN75+AO75) -> 3 | U75: =VLOOKUP($B75,[2]DEN1!$G$2:$I$157,2,FALSE) -> 4 | V75: =+U75+(AF75+AG75)-(AS75+AT75) -> 4 | W75: =+U75+(AF75+AG75+AH75+AI75)-(AS75+AT75+AU75+AV75) -> 4 | X75: =VLOOKUP($B75,[1]DEN1!$G$2:$I$159,2,FALSE) -> 6 | Z75: =VLOOKUP($B75,'[3]ACT DEN1'!$G$2:$S$143,2,FALSE) -> 0 | AA75: =VLOOKUP($B75,'[3]ACT DEN1'!$G$2:$S$143,3,FALSE) -> 0 | AB75: =VLOOKUP($B75,'[3]ACT DEN1'!$G$2:$S$143,4,FALSE) -> 0 | AC75: =VLOOKUP($B75,'[3]ACT DEN1'!$G$2:$S$143,5,FALSE) -> 0 | AD75: =VLOOKUP($B75,'[3]ACT DEN1'!$G$2:$S$143,6,FALSE) -> 0 | AE75: =VLOOKUP($B75,'[3]ACT DEN1'!$G$2:$S$143,7,FALSE) -> 0 | AF75: =VLOOKUP($B75,'[3]ACT DEN1'!$G$2:$S$143,8,FALSE) -> 0 | AG75: =VLOOKUP($B75,'[3]ACT DEN1'!$G$2:$S$143,9,FALSE) -> 0 | AH75: =VLOOKUP($B75,'[3]ACT DEN1'!$G$2:$S$143,10,FALSE) -> 0 | AI75: =VLOOKUP($B75,'[3]ACT DEN1'!$G$2:$S$143,11,FALSE) -> 0 | AJ75: =VLOOKUP($B75,'[3]ACT DEN1'!$G$2:$S$143,12,FALSE) -> 0 | AL75: =SUM(Z75:AK75) -> 0 | AM75: =VLOOKUP($B75,'[3]ACT DEN1'!$AB$2:$AN$119,2,FALSE) -> 0 | AN75: =VLOOKUP($B75,'[3]ACT DEN1'!$AB$2:$AN$119,3,FALSE) -> 0 | AO75: =VLOOKUP($B75,'[3]ACT DEN1'!$AB$2:$AN$119,4,FALSE) -> 0 | AP75: =VLOOKUP($B75,'[3]ACT DEN1'!$AB$2:$AN$119,5,FALSE) -> 0 | AQ75: =VLOOKUP($B75,'[3]ACT DEN1'!$AB$2:$AN$119,6,FALSE) -> 0 | AR75: =VLOOKUP($B75,'[3]ACT DEN1'!$AB$2:$AN$119,7,FALSE) -> 0 | AS75: =VLOOKUP($B75,'[3]ACT DEN1'!$AB$2:$AN$119,8,FALSE) -> 0 | AT75: =VLOOKUP($B75,'[3]ACT DEN1'!$AB$2:$AN$119,9,FALSE) -> 0 | AU75: =VLOOKUP($B75,'[3]ACT DEN1'!$AB$2:$AN$119,10,FALSE) -> 0 | AV75: =VLOOKUP($B75,'[3]ACT DEN1'!$AB$2:$AN$119,11,FALSE) -> 0 | AW75: =VLOOKUP($B75,'[3]ACT DEN1'!$AB$2:$AN$119,12,FALSE) -> 0 | AY75: =SUM(AM75:AX75) -> 0
A76: 04203-LOS VILOS | B76: 105481-P.S.R. TILAMA | E76: =VLOOKUP($B76,[1]NUM1!$G$2:$T$157,2,FALSE) -> 0 | F76: =VLOOKUP($B76,[1]NUM1!$G$2:$T$157,3,FALSE) -> 1 | G76: =VLOOKUP($B76,[1]NUM1!$G$2:$T$157,4,FALSE) -> 2 | H76: =VLOOKUP($B76,[1]NUM1!$G$2:$T$157,5,FALSE) -> 0 | I76: =VLOOKUP($B76,[1]NUM1!$G$2:$T$157,6,FALSE) -> 0 | J76: =VLOOKUP($B76,[1]NUM1!$G$2:$T$157,7,FALSE) -> 2 | K76: =VLOOKUP($B76,[1]NUM1!$G$2:$T$157,8,FALSE) -> 2 | L76: =VLOOKUP($B76,[1]NUM1!$G$2:$T$157,9,FALSE) -> 2 | M76: =VLOOKUP($B76,[1]NUM1!$G$2:$T$157,10,FALSE) -> 1 | N76: =VLOOKUP($B76,[1]NUM1!$G$2:$T$157,11,FALSE) -> 0 | O76: =VLOOKUP($B76,[1]NUM1!$G$2:$T$157,12,FALSE) -> 0 | P76: =VLOOKUP($B76,[1]NUM1!$G$2:$T$157,13,FALSE) -> 0 | Q76: =SUM(E76:P76) -> 10 | S76: 2 | T76: =+S76+(Z76+AA76+AB76)-(AM76+AN76+AO76) -> 2 | U76: =VLOOKUP($B76,[2]DEN1!$G$2:$I$157,2,FALSE) -> 3 | V76: =+U76+(AF76+AG76)-(AS76+AT76) -> 3 | W76: =+U76+(AF76+AG76+AH76+AI76)-(AS76+AT76+AU76+AV76) -> 3 | X76: =VLOOKUP($B76,[1]DEN1!$G$2:$I$159,2,FALSE) -> 2 | Z76: =VLOOKUP($B76,'[3]ACT DEN1'!$G$2:$S$143,2,FALSE) -> 0 | AA76: =VLOOKUP($B76,'[3]ACT DEN1'!$G$2:$S$143,3,FALSE) -> 0 | AB76: =VLOOKUP($B76,'[3]ACT DEN1'!$G$2:$S$143,4,FALSE) -> 0 | AC76: =VLOOKUP($B76,'[3]ACT DEN1'!$G$2:$S$143,5,FALSE) -> 0 | AD76: =VLOOKUP($B76,'[3]ACT DEN1'!$G$2:$S$143,6,FALSE) -> 1 | AE76: =VLOOKUP($B76,'[3]ACT DEN1'!$G$2:$S$143,7,FALSE) -> 0 | AF76: =VLOOKUP($B76,'[3]ACT DEN1'!$G$2:$S$143,8,FALSE) -> 0 | AG76: =VLOOKUP($B76,'[3]ACT DEN1'!$G$2:$S$143,9,FALSE) -> 0 | AH76: =VLOOKUP($B76,'[3]ACT DEN1'!$G$2:$S$143,10,FALSE) -> 0 | AI76: =VLOOKUP($B76,'[3]ACT DEN1'!$G$2:$S$143,11,FALSE) -> 0 | AJ76: =VLOOKUP($B76,'[3]ACT DEN1'!$G$2:$S$143,12,FALSE) -> 0 | AL76: =SUM(Z76:AK76) -> 1 | AY76: =SUM(AM76:AX76) -> 0
A77: 04203-LOS VILOS | B77: 105511-P.S.R. LOS CONDORES | E77: =VLOOKUP($B77,[1]NUM1!$G$2:$T$157,2,FALSE) -> 3 | F77: =VLOOKUP($B77,[1]NUM1!$G$2:$T$157,3,FALSE) -> 0 | G77: =VLOOKUP($B77,[1]NUM1!$G$2:$T$157,4,FALSE) -> 1 | H77: =VLOOKUP($B77,[1]NUM1!$G$2:$T$157,5,FALSE) -> 2 | I77: =VLOOKUP($B77,[1]NUM1!$G$2:$T$157,6,FALSE) -> 3 | J77: =VLOOKUP($B77,[1]NUM1!$G$2:$T$157,7,FALSE) -> 3 | K77: =VLOOKUP($B77,[1]NUM1!$G$2:$T$157,8,FALSE) -> 0 | L77: =VLOOKUP($B77,[1]NUM1!$G$2:$T$157,9,FALSE) -> 0 | M77: =VLOOKUP($B77,[1]NUM1!$G$2:$T$157,10,FALSE) -> 1 | N77: =VLOOKUP($B77,[1]NUM1!$G$2:$T$157,11,FALSE) -> 0 | O77: =VLOOKUP($B77,[1]NUM1!$G$2:$T$157,12,FALSE) -> 3 | P77: =VLOOKUP($B77,[1]NUM1!$G$2:$T$157,13,FALSE) -> 14 | Q77: =SUM(E77:P77) -> 30 | S77: 0 | T77: =+S77+(Z77+AA77+AB77)-(AM77+AN77+AO77) -> 0 | U77: =VLOOKUP($B77,[2]DEN1!$G$2:$I$157,2,FALSE) -> 0 | V77: =+U77+(AF77+AG77)-(AS77+AT77) -> 0 | W77: =+U77+(AF77+AG77+AH77+AI77)-(AS77+AT77+AU77+AV77) -> 0 | X77: =VLOOKUP($B77,[1]DEN1!$G$2:$I$159,2,FALSE) -> 0 | Z77: =VLOOKUP($B77,'[3]ACT DEN1'!$G$2:$S$143,2,FALSE) -> 0 | AA77: =VLOOKUP($B77,'[3]ACT DEN1'!$G$2:$S$143,3,FALSE) -> 0 | AB77: =VLOOKUP($B77,'[3]ACT DEN1'!$G$2:$S$143,4,FALSE) -> 0 | AC77: =VLOOKUP($B77,'[3]ACT DEN1'!$G$2:$S$143,5,FALSE) -> 0 | AD77: =VLOOKUP($B77,'[3]ACT DEN1'!$G$2:$S$143,6,FALSE) -> 0 | AE77: =VLOOKUP($B77,'[3]ACT DEN1'!$G$2:$S$143,7,FALSE) -> 0 | AF77: =VLOOKUP($B77,'[3]ACT DEN1'!$G$2:$S$143,8,FALSE) -> 0 | AG77: =VLOOKUP($B77,'[3]ACT DEN1'!$G$2:$S$143,9,FALSE) -> 0 | AH77: =VLOOKUP($B77,'[3]ACT DEN1'!$G$2:$S$143,10,FALSE) -> 0 | AI77: =VLOOKUP($B77,'[3]ACT DEN1'!$G$2:$S$143,11,FALSE) -> 0 | AJ77: =VLOOKUP($B77,'[3]ACT DEN1'!$G$2:$S$143,12,FALSE) -> 0 | AL77: =SUM(Z77:AK77) -> 0 | AM77: =VLOOKUP($B77,'[3]ACT DEN1'!$AB$2:$AN$119,2,FALSE) -> 0 | AN77: =VLOOKUP($B77,'[3]ACT DEN1'!$AB$2:$AN$119,3,FALSE) -> 0 | AO77: =VLOOKUP($B77,'[3]ACT DEN1'!$AB$2:$AN$119,4,FALSE) -> 0 | AP77: =VLOOKUP($B77,'[3]ACT DEN1'!$AB$2:$AN$119,5,FALSE) -> 0 | AQ77: =VLOOKUP($B77,'[3]ACT DEN1'!$AB$2:$AN$119,6,FALSE) -> 0 | AR77: =VLOOKUP($B77,'[3]ACT DEN1'!$AB$2:$AN$119,7,FALSE) -> 0 | AS77: =VLOOKUP($B77,'[3]ACT DEN1'!$AB$2:$AN$119,8,FALSE) -> 0 | AT77: =VLOOKUP($B77,'[3]ACT DEN1'!$AB$2:$AN$119,9,FALSE) -> 0 | AU77: =VLOOKUP($B77,'[3]ACT DEN1'!$AB$2:$AN$119,10,FALSE) -> 0 | AV77: =VLOOKUP($B77,'[3]ACT DEN1'!$AB$2:$AN$119,11,FALSE) -> 0 | AW77: =VLOOKUP($B77,'[3]ACT DEN1'!$AB$2:$AN$119,12,FALSE) -> 0 | AY77: =SUM(AM77:AX77) -> 0
A78: TOTAL LOS VILOS MUNICIPAL | C78: =+D78/Metas!G111 -> 1.0447761 | D78: =+Q78/R78 -> 0.1880597 | E78: =SUM(E73:E77) -> 5 | F78: =SUM(F73:F77) -> 4 | G78: =SUM(G73:G77) -> 33 | H78: =SUM(H73:H77) -> 9 | I78: =SUM(I73:I77) -> 10 | J78: =SUM(J73:J77) -> 29 | K78: =SUM(K73:K77) -> 7 | L78: =SUM(L73:L77) -> 5 | ... Q78: =SUM(Q73:Q77) -> 189 | R78: =+Y78-X78 -> 1005 | S78: =SUM(S73:S77) -> 16 | T78: =SUM(T73:T77) -> 16 | U78: =SUM(U73:U77) -> 17 | V78: =SUM(V73:V77) -> 17 | W78: =SUM(W73:W77) -> 16 | X78: =SUM(X73:X77) -> 19 | Y78: 1024 | Z78: =SUM(Z73:Z77) -> 0 | AA78: =SUM(AA73:AA77) -> 0 | AB78: =SUM(AB73:AB77) -> 0 | AC78: =SUM(AC73:AC77) -> 0 | AD78: =SUM(AD73:AD77) -> 1 | AE78: =SUM(AE73:AE77) -> 1 | AF78: =SUM(AF73:AF77) -> 0 | AG78: =SUM(AG73:AG77) -> 0 | ... AK78: =SUM(AK73:AK77) -> 0 | AL78: =SUM(Z78:AK78) -> 2 | AM78: =SUM(AM73:AM77) -> 0 | AN78: =SUM(AN73:AN77) -> 0 | AO78: =SUM(AO73:AO77) -> 0 | AP78: =SUM(AP73:AP77) -> 0 | AQ78: =SUM(AQ73:AQ77) -> 0 | AR78: =SUM(AR73:AR77) -> 0 | AS78: =SUM(AS73:AS77) -> 0 | AT78: =SUM(AT73:AT77) -> 0 | ... AX78: =SUM(AX73:AX77) -> 0 | AY78: =SUM(AM78:AX78) -> 1
A79: 04204-SALAMANCA | B79: 105452-P.S.R. CUNCUMEN | E79: =VLOOKUP($B79,[1]NUM1!$G$2:$T$157,2,FALSE) -> 13 | F79: =VLOOKUP($B79,[1]NUM1!$G$2:$T$157,3,FALSE) -> 31 | G79: =VLOOKUP($B79,[1]NUM1!$G$2:$T$157,4,FALSE) -> 15 | H79: =VLOOKUP($B79,[1]NUM1!$G$2:$T$157,5,FALSE) -> 40 | I79: =VLOOKUP($B79,[1]NUM1!$G$2:$T$157,6,FALSE) -> 19 | J79: =VLOOKUP($B79,[1]NUM1!$G$2:$T$157,7,FALSE) -> 14 | K79: =VLOOKUP($B79,[1]NUM1!$G$2:$T$157,8,FALSE) -> 21 | L79: =VLOOKUP($B79,[1]NUM1!$G$2:$T$157,9,FALSE) -> 13 | M79: =VLOOKUP($B79,[1]NUM1!$G$2:$T$157,10,FALSE) -> 16 | N79: =VLOOKUP($B79,[1]NUM1!$G$2:$T$157,11,FALSE) -> 19 | O79: =VLOOKUP($B79,[1]NUM1!$G$2:$T$157,12,FALSE) -> 14 | P79: =VLOOKUP($B79,[1]NUM1!$G$2:$T$157,13,FALSE) -> 12 | Q79: =SUM(E79:P79) -> 227 | S79: 23 | T79: =+S79+(Z79+AA79+AB79)-(AM79+AN79+AO79) -> 26 | U79: =VLOOKUP($B79,[2]DEN1!$G$2:$I$157,2,FALSE) -> 23 | V79: =+U79+(AF79+AG79)-(AS79+AT79) -> 27 | W79: =+U79+(AF79+AG79+AH79+AI79)-(AS79+AT79+AU79+AV79) -> 30 | X79: =VLOOKUP($B79,[1]DEN1!$G$2:$I$159,2,FALSE) -> 27 | Z79: =VLOOKUP($B79,'[3]ACT DEN1'!$G$2:$S$143,2,FALSE) -> 1 | AA79: =VLOOKUP($B79,'[3]ACT DEN1'!$G$2:$S$143,3,FALSE) -> 1 | AB79: =VLOOKUP($B79,'[3]ACT DEN1'!$G$2:$S$143,4,FALSE) -> 1 | AC79: =VLOOKUP($B79,'[3]ACT DEN1'!$G$2:$S$143,5,FALSE) -> 1 | AD79: =VLOOKUP($B79,'[3]ACT DEN1'!$G$2:$S$143,6,FALSE) -> 2 | AE79: =VLOOKUP($B79,'[3]ACT DEN1'!$G$2:$S$143,7,FALSE) -> 1 | AF79: =VLOOKUP($B79,'[3]ACT DEN1'!$G$2:$S$143,8,FALSE) -> 2 | AG79: =VLOOKUP($B79,'[3]ACT DEN1'!$G$2:$S$143,9,FALSE) -> 2 | AH79: =VLOOKUP($B79,'[3]ACT DEN1'!$G$2:$S$143,10,FALSE) -> 2 | AI79: =VLOOKUP($B79,'[3]ACT DEN1'!$G$2:$S$143,11,FALSE) -> 1 | AJ79: =VLOOKUP($B79,'[3]ACT DEN1'!$G$2:$S$143,12,FALSE) -> 1 | AL79: =SUM(Z79:AK79) -> 15 | AM79: =VLOOKUP($B79,'[3]ACT DEN1'!$AB$2:$AN$119,2,FALSE) -> 0 | AN79: =VLOOKUP($B79,'[3]ACT DEN1'!$AB$2:$AN$119,3,FALSE) -> 0 | AO79: =VLOOKUP($B79,'[3]ACT DEN1'!$AB$2:$AN$119,4,FALSE) -> 0 | AP79: =VLOOKUP($B79,'[3]ACT DEN1'!$AB$2:$AN$119,5,FALSE) -> 0 | AQ79: =VLOOKUP($B79,'[3]ACT DEN1'!$AB$2:$AN$119,6,FALSE) -> 0 | AR79: =VLOOKUP($B79,'[3]ACT DEN1'!$AB$2:$AN$119,7,FALSE) -> 0 | AS79: =VLOOKUP($B79,'[3]ACT DEN1'!$AB$2:$AN$119,8,FALSE) -> 0 | AT79: =VLOOKUP($B79,'[3]ACT DEN1'!$AB$2:$AN$119,9,FALSE) -> 0 | AU79: =VLOOKUP($B79,'[3]ACT DEN1'!$AB$2:$AN$119,10,FALSE) -> 0 | AV79: =VLOOKUP($B79,'[3]ACT DEN1'!$AB$2:$AN$119,11,FALSE) -> 0 | AW79: =VLOOKUP($B79,'[3]ACT DEN1'!$AB$2:$AN$119,12,FALSE) -> 0 | AY79: =SUM(AM79:AX79) -> 0
A80: 04204-SALAMANCA | B80: 105453-P.S.R. TRANQUILLA | E80: =VLOOKUP($B80,[1]NUM1!$G$2:$T$157,2,FALSE) -> 1 | F80: =VLOOKUP($B80,[1]NUM1!$G$2:$T$157,3,FALSE) -> 1 | G80: =VLOOKUP($B80,[1]NUM1!$G$2:$T$157,4,FALSE) -> 5 | H80: =VLOOKUP($B80,[1]NUM1!$G$2:$T$157,5,FALSE) -> 2 | I80: =VLOOKUP($B80,[1]NUM1!$G$2:$T$157,6,FALSE) -> 4 | J80: =VLOOKUP($B80,[1]NUM1!$G$2:$T$157,7,FALSE) -> 3 | K80: =VLOOKUP($B80,[1]NUM1!$G$2:$T$157,8,FALSE) -> 4 | L80: =VLOOKUP($B80,[1]NUM1!$G$2:$T$157,9,FALSE) -> 3 | M80: =VLOOKUP($B80,[1]NUM1!$G$2:$T$157,10,FALSE) -> 3 | N80: =VLOOKUP($B80,[1]NUM1!$G$2:$T$157,11,FALSE) -> 2 | O80: =VLOOKUP($B80,[1]NUM1!$G$2:$T$157,12,FALSE) -> 4 | P80: =VLOOKUP($B80,[1]NUM1!$G$2:$T$157,13,FALSE) -> 3 | Q80: =SUM(E80:P80) -> 35 | S80: 6 | T80: =+S80+(Z80+AA80+AB80)-(AM80+AN80+AO80) -> 6 | U80: =VLOOKUP($B80,[2]DEN1!$G$2:$I$157,2,FALSE) -> 6 | V80: =+U80+(AF80+AG80)-(AS80+AT80) -> 6 | W80: =+U80+(AF80+AG80+AH80+AI80)-(AS80+AT80+AU80+AV80) -> 6 | X80: =VLOOKUP($B80,[1]DEN1!$G$2:$I$159,2,FALSE) -> 6 | Z80: =VLOOKUP($B80,'[3]ACT DEN1'!$G$2:$S$143,2,FALSE) -> 0 | AA80: =VLOOKUP($B80,'[3]ACT DEN1'!$G$2:$S$143,3,FALSE) -> 0 | AB80: =VLOOKUP($B80,'[3]ACT DEN1'!$G$2:$S$143,4,FALSE) -> 0 | AC80: =VLOOKUP($B80,'[3]ACT DEN1'!$G$2:$S$143,5,FALSE) -> 0 | AD80: =VLOOKUP($B80,'[3]ACT DEN1'!$G$2:$S$143,6,FALSE) -> 1 | AE80: =VLOOKUP($B80,'[3]ACT DEN1'!$G$2:$S$143,7,FALSE) -> 0 | AF80: =VLOOKUP($B80,'[3]ACT DEN1'!$G$2:$S$143,8,FALSE) -> 0 | AG80: =VLOOKUP($B80,'[3]ACT DEN1'!$G$2:$S$143,9,FALSE) -> 0 | AH80: =VLOOKUP($B80,'[3]ACT DEN1'!$G$2:$S$143,10,FALSE) -> 0 | AI80: =VLOOKUP($B80,'[3]ACT DEN1'!$G$2:$S$143,11,FALSE) -> 0 | AJ80: =VLOOKUP($B80,'[3]ACT DEN1'!$G$2:$S$143,12,FALSE) -> 0 | AL80: =SUM(Z80:AK80) -> 1 | AM80: =VLOOKUP($B80,'[3]ACT DEN1'!$AB$2:$AN$119,2,FALSE) -> 0 | AN80: =VLOOKUP($B80,'[3]ACT DEN1'!$AB$2:$AN$119,3,FALSE) -> 0 | AO80: =VLOOKUP($B80,'[3]ACT DEN1'!$AB$2:$AN$119,4,FALSE) -> 0 | AP80: =VLOOKUP($B80,'[3]ACT DEN1'!$AB$2:$AN$119,5,FALSE) -> 0 | AQ80: =VLOOKUP($B80,'[3]ACT DEN1'!$AB$2:$AN$119,6,FALSE) -> 0 | AR80: =VLOOKUP($B80,'[3]ACT DEN1'!$AB$2:$AN$119,7,FALSE) -> 0 | AS80: =VLOOKUP($B80,'[3]ACT DEN1'!$AB$2:$AN$119,8,FALSE) -> 0 | AT80: =VLOOKUP($B80,'[3]ACT DEN1'!$AB$2:$AN$119,9,FALSE) -> 0 | AU80: =VLOOKUP($B80,'[3]ACT DEN1'!$AB$2:$AN$119,10,FALSE) -> 0 | AV80: =VLOOKUP($B80,'[3]ACT DEN1'!$AB$2:$AN$119,11,FALSE) -> 0 | AW80: =VLOOKUP($B80,'[3]ACT DEN1'!$AB$2:$AN$119,12,FALSE) -> 0 | AY80: =SUM(AM80:AX80) -> 0
A81: 04204-SALAMANCA | B81: 105454-P.S.R. CUNLAGUA | E81: =VLOOKUP($B81,[1]NUM1!$G$2:$T$157,2,FALSE) -> 0 | F81: =VLOOKUP($B81,[1]NUM1!$G$2:$T$157,3,FALSE) -> 1 | G81: =VLOOKUP($B81,[1]NUM1!$G$2:$T$157,4,FALSE) -> 0 | H81: =VLOOKUP($B81,[1]NUM1!$G$2:$T$157,5,FALSE) -> 1 | I81: =VLOOKUP($B81,[1]NUM1!$G$2:$T$157,6,FALSE) -> 2 | J81: =VLOOKUP($B81,[1]NUM1!$G$2:$T$157,7,FALSE) -> 0 | K81: =VLOOKUP($B81,[1]NUM1!$G$2:$T$157,8,FALSE) -> 1 | L81: =VLOOKUP($B81,[1]NUM1!$G$2:$T$157,9,FALSE) -> 1 | M81: =VLOOKUP($B81,[1]NUM1!$G$2:$T$157,10,FALSE) -> 1 | N81: =VLOOKUP($B81,[1]NUM1!$G$2:$T$157,11,FALSE) -> 1 | O81: =VLOOKUP($B81,[1]NUM1!$G$2:$T$157,12,FALSE) -> 1 | P81: =VLOOKUP($B81,[1]NUM1!$G$2:$T$157,13,FALSE) -> 1 | Q81: =SUM(E81:P81) -> 10 | S81: 1 | T81: =+S81+(Z81+AA81+AB81)-(AM81+AN81+AO81) -> 1 | U81: =VLOOKUP($B81,[2]DEN1!$G$2:$I$157,2,FALSE) -> 1 | V81: =+U81+(AF81+AG81)-(AS81+AT81) -> 1 | W81: =+U81+(AF81+AG81+AH81+AI81)-(AS81+AT81+AU81+AV81) -> 1 | X81: =VLOOKUP($B81,[1]DEN1!$G$2:$I$159,2,FALSE) -> 1 | Z81: =VLOOKUP($B81,'[3]ACT DEN1'!$G$2:$S$143,2,FALSE) -> 0 | AA81: =VLOOKUP($B81,'[3]ACT DEN1'!$G$2:$S$143,3,FALSE) -> 0 | AB81: =VLOOKUP($B81,'[3]ACT DEN1'!$G$2:$S$143,4,FALSE) -> 0 | AC81: =VLOOKUP($B81,'[3]ACT DEN1'!$G$2:$S$143,5,FALSE) -> 0 | AD81: =VLOOKUP($B81,'[3]ACT DEN1'!$G$2:$S$143,6,FALSE) -> 0 | AE81: =VLOOKUP($B81,'[3]ACT DEN1'!$G$2:$S$143,7,FALSE) -> 0 | AF81: =VLOOKUP($B81,'[3]ACT DEN1'!$G$2:$S$143,8,FALSE) -> 0 | AG81: =VLOOKUP($B81,'[3]ACT DEN1'!$G$2:$S$143,9,FALSE) -> 0 | AH81: =VLOOKUP($B81,'[3]ACT DEN1'!$G$2:$S$143,10,FALSE) -> 0 | AI81: =VLOOKUP($B81,'[3]ACT DEN1'!$G$2:$S$143,11,FALSE) -> 0 | AJ81: =VLOOKUP($B81,'[3]ACT DEN1'!$G$2:$S$143,12,FALSE) -> 0 | AL81: =SUM(Z81:AK81) -> 0 | AM81: =VLOOKUP($B81,'[3]ACT DEN1'!$AB$2:$AN$119,2,FALSE) -> 0 | AN81: =VLOOKUP($B81,'[3]ACT DEN1'!$AB$2:$AN$119,3,FALSE) -> 0 | AO81: =VLOOKUP($B81,'[3]ACT DEN1'!$AB$2:$AN$119,4,FALSE) -> 0 | AP81: =VLOOKUP($B81,'[3]ACT DEN1'!$AB$2:$AN$119,5,FALSE) -> 0 | AQ81: =VLOOKUP($B81,'[3]ACT DEN1'!$AB$2:$AN$119,6,FALSE) -> 0 | AR81: =VLOOKUP($B81,'[3]ACT DEN1'!$AB$2:$AN$119,7,FALSE) -> 0 | AS81: =VLOOKUP($B81,'[3]ACT DEN1'!$AB$2:$AN$119,8,FALSE) -> 0 | AT81: =VLOOKUP($B81,'[3]ACT DEN1'!$AB$2:$AN$119,9,FALSE) -> 0 | AU81: =VLOOKUP($B81,'[3]ACT DEN1'!$AB$2:$AN$119,10,FALSE) -> 0 | AV81: =VLOOKUP($B81,'[3]ACT DEN1'!$AB$2:$AN$119,11,FALSE) -> 0 | AW81: =VLOOKUP($B81,'[3]ACT DEN1'!$AB$2:$AN$119,12,FALSE) -> 0 | AY81: =SUM(AM81:AX81) -> 0
A82: 04204-SALAMANCA | B82: 105455-P.S.R. CHILLEPIN | E82: =VLOOKUP($B82,[1]NUM1!$G$2:$T$157,2,FALSE) -> 3 | F82: =VLOOKUP($B82,[1]NUM1!$G$2:$T$157,3,FALSE) -> 1 | G82: =VLOOKUP($B82,[1]NUM1!$G$2:$T$157,4,FALSE) -> 1 | H82: =VLOOKUP($B82,[1]NUM1!$G$2:$T$157,5,FALSE) -> 2 | I82: =VLOOKUP($B82,[1]NUM1!$G$2:$T$157,6,FALSE) -> 4 | J82: =VLOOKUP($B82,[1]NUM1!$G$2:$T$157,7,FALSE) -> 3 | K82: =VLOOKUP($B82,[1]NUM1!$G$2:$T$157,8,FALSE) -> 1 | L82: =VLOOKUP($B82,[1]NUM1!$G$2:$T$157,9,FALSE) -> 2 | M82: =VLOOKUP($B82,[1]NUM1!$G$2:$T$157,10,FALSE) -> 3 | N82: =VLOOKUP($B82,[1]NUM1!$G$2:$T$157,11,FALSE) -> 2 | O82: =VLOOKUP($B82,[1]NUM1!$G$2:$T$157,12,FALSE) -> 3 | P82: =VLOOKUP($B82,[1]NUM1!$G$2:$T$157,13,FALSE) -> 3 | Q82: =SUM(E82:P82) -> 28 | S82: 3 | T82: =+S82+(Z82+AA82+AB82)-(AM82+AN82+AO82) -> 3 | U82: =VLOOKUP($B82,[2]DEN1!$G$2:$I$157,2,FALSE) -> 3 | V82: =+U82+(AF82+AG82)-(AS82+AT82) -> 4 | W82: =+U82+(AF82+AG82+AH82+AI82)-(AS82+AT82+AU82+AV82) -> 4 | X82: =VLOOKUP($B82,[1]DEN1!$G$2:$I$159,2,FALSE) -> 3 | Z82: =VLOOKUP($B82,'[3]ACT DEN1'!$G$2:$S$143,2,FALSE) -> 0 | AA82: =VLOOKUP($B82,'[3]ACT DEN1'!$G$2:$S$143,3,FALSE) -> 0 | AB82: =VLOOKUP($B82,'[3]ACT DEN1'!$G$2:$S$143,4,FALSE) -> 0 | AC82: =VLOOKUP($B82,'[3]ACT DEN1'!$G$2:$S$143,5,FALSE) -> 0 | AD82: =VLOOKUP($B82,'[3]ACT DEN1'!$G$2:$S$143,6,FALSE) -> 0 | AE82: =VLOOKUP($B82,'[3]ACT DEN1'!$G$2:$S$143,7,FALSE) -> 0 | AF82: =VLOOKUP($B82,'[3]ACT DEN1'!$G$2:$S$143,8,FALSE) -> 0 | AG82: =VLOOKUP($B82,'[3]ACT DEN1'!$G$2:$S$143,9,FALSE) -> 1 | AH82: =VLOOKUP($B82,'[3]ACT DEN1'!$G$2:$S$143,10,FALSE) -> 0 | AI82: =VLOOKUP($B82,'[3]ACT DEN1'!$G$2:$S$143,11,FALSE) -> 0 | AJ82: =VLOOKUP($B82,'[3]ACT DEN1'!$G$2:$S$143,12,FALSE) -> 0 | AL82: =SUM(Z82:AK82) -> 1 | AM82: =VLOOKUP($B82,'[3]ACT DEN1'!$AB$2:$AN$119,2,FALSE) -> 0 | AN82: =VLOOKUP($B82,'[3]ACT DEN1'!$AB$2:$AN$119,3,FALSE) -> 0 | AO82: =VLOOKUP($B82,'[3]ACT DEN1'!$AB$2:$AN$119,4,FALSE) -> 0 | AP82: =VLOOKUP($B82,'[3]ACT DEN1'!$AB$2:$AN$119,5,FALSE) -> 0 | AQ82: =VLOOKUP($B82,'[3]ACT DEN1'!$AB$2:$AN$119,6,FALSE) -> 0 | AR82: =VLOOKUP($B82,'[3]ACT DEN1'!$AB$2:$AN$119,7,FALSE) -> 0 | AS82: =VLOOKUP($B82,'[3]ACT DEN1'!$AB$2:$AN$119,8,FALSE) -> 0 | AT82: =VLOOKUP($B82,'[3]ACT DEN1'!$AB$2:$AN$119,9,FALSE) -> 0 | AU82: =VLOOKUP($B82,'[3]ACT DEN1'!$AB$2:$AN$119,10,FALSE) -> 0 | AV82: =VLOOKUP($B82,'[3]ACT DEN1'!$AB$2:$AN$119,11,FALSE) -> 0 | AW82: =VLOOKUP($B82,'[3]ACT DEN1'!$AB$2:$AN$119,12,FALSE) -> 0 | AY82: =SUM(AM82:AX82) -> 0
A83: 04204-SALAMANCA | B83: 105456-P.S.R. LLIMPO | E83: =VLOOKUP($B83,[1]NUM1!$G$2:$T$157,2,FALSE) -> 3 | F83: =VLOOKUP($B83,[1]NUM1!$G$2:$T$157,3,FALSE) -> 1 | G83: =VLOOKUP($B83,[1]NUM1!$G$2:$T$157,4,FALSE) -> 3 | H83: =VLOOKUP($B83,[1]NUM1!$G$2:$T$157,5,FALSE) -> 3 | I83: =VLOOKUP($B83,[1]NUM1!$G$2:$T$157,6,FALSE) -> 3 | J83: =VLOOKUP($B83,[1]NUM1!$G$2:$T$157,7,FALSE) -> 2 | K83: =VLOOKUP($B83,[1]NUM1!$G$2:$T$157,8,FALSE) -> 5 | L83: =VLOOKUP($B83,[1]NUM1!$G$2:$T$157,9,FALSE) -> 3 | M83: =VLOOKUP($B83,[1]NUM1!$G$2:$T$157,10,FALSE) -> 2 | N83: =VLOOKUP($B83,[1]NUM1!$G$2:$T$157,11,FALSE) -> 6 | O83: =VLOOKUP($B83,[1]NUM1!$G$2:$T$157,12,FALSE) -> 2 | P83: =VLOOKUP($B83,[1]NUM1!$G$2:$T$157,13,FALSE) -> 5 | Q83: =SUM(E83:P83) -> 38 | S83: 6 | T83: =+S83+(Z83+AA83+AB83)-(AM83+AN83+AO83) -> 6 | U83: =VLOOKUP($B83,[2]DEN1!$G$2:$I$157,2,FALSE) -> 5 | V83: =+U83+(AF83+AG83)-(AS83+AT83) -> 5 | W83: =+U83+(AF83+AG83+AH83+AI83)-(AS83+AT83+AU83+AV83) -> 5 | X83: =VLOOKUP($B83,[1]DEN1!$G$2:$I$159,2,FALSE) -> 4 | Z83: =VLOOKUP($B83,'[3]ACT DEN1'!$G$2:$S$143,2,FALSE) -> 0 | AA83: =VLOOKUP($B83,'[3]ACT DEN1'!$G$2:$S$143,3,FALSE) -> 0 | AB83: =VLOOKUP($B83,'[3]ACT DEN1'!$G$2:$S$143,4,FALSE) -> 0 | AC83: =VLOOKUP($B83,'[3]ACT DEN1'!$G$2:$S$143,5,FALSE) -> 0 | AD83: =VLOOKUP($B83,'[3]ACT DEN1'!$G$2:$S$143,6,FALSE) -> 0 | AE83: =VLOOKUP($B83,'[3]ACT DEN1'!$G$2:$S$143,7,FALSE) -> 0 | AF83: =VLOOKUP($B83,'[3]ACT DEN1'!$G$2:$S$143,8,FALSE) -> 0 | AG83: =VLOOKUP($B83,'[3]ACT DEN1'!$G$2:$S$143,9,FALSE) -> 0 | AH83: =VLOOKUP($B83,'[3]ACT DEN1'!$G$2:$S$143,10,FALSE) -> 0 | AI83: =VLOOKUP($B83,'[3]ACT DEN1'!$G$2:$S$143,11,FALSE) -> 0 | AJ83: =VLOOKUP($B83,'[3]ACT DEN1'!$G$2:$S$143,12,FALSE) -> 0 | AL83: =SUM(Z83:AK83) -> 0 | AM83: =VLOOKUP($B83,'[3]ACT DEN1'!$AB$2:$AN$119,2,FALSE) -> 0 | AN83: =VLOOKUP($B83,'[3]ACT DEN1'!$AB$2:$AN$119,3,FALSE) -> 0 | AO83: =VLOOKUP($B83,'[3]ACT DEN1'!$AB$2:$AN$119,4,FALSE) -> 0 | AP83: =VLOOKUP($B83,'[3]ACT DEN1'!$AB$2:$AN$119,5,FALSE) -> 0 | AQ83: =VLOOKUP($B83,'[3]ACT DEN1'!$AB$2:$AN$119,6,FALSE) -> 0 | AR83: =VLOOKUP($B83,'[3]ACT DEN1'!$AB$2:$AN$119,7,FALSE) -> 0 | AS83: =VLOOKUP($B83,'[3]ACT DEN1'!$AB$2:$AN$119,8,FALSE) -> 0 | AT83: =VLOOKUP($B83,'[3]ACT DEN1'!$AB$2:$AN$119,9,FALSE) -> 0 | AU83: =VLOOKUP($B83,'[3]ACT DEN1'!$AB$2:$AN$119,10,FALSE) -> 0 | AV83: =VLOOKUP($B83,'[3]ACT DEN1'!$AB$2:$AN$119,11,FALSE) -> 0 | AW83: =VLOOKUP($B83,'[3]ACT DEN1'!$AB$2:$AN$119,12,FALSE) -> 0 | AY83: =SUM(AM83:AX83) -> 0
A84: 04204-SALAMANCA | B84: 105457-P.S.R. SAN AGUSTIN | E84: =VLOOKUP($B84,[1]NUM1!$G$2:$T$157,2,FALSE) -> 0 | F84: =VLOOKUP($B84,[1]NUM1!$G$2:$T$157,3,FALSE) -> 2 | G84: =VLOOKUP($B84,[1]NUM1!$G$2:$T$157,4,FALSE) -> 1 | H84: =VLOOKUP($B84,[1]NUM1!$G$2:$T$157,5,FALSE) -> 0 | I84: =VLOOKUP($B84,[1]NUM1!$G$2:$T$157,6,FALSE) -> 0 | J84: =VLOOKUP($B84,[1]NUM1!$G$2:$T$157,7,FALSE) -> 2 | K84: =VLOOKUP($B84,[1]NUM1!$G$2:$T$157,8,FALSE) -> 0 | L84: =VLOOKUP($B84,[1]NUM1!$G$2:$T$157,9,FALSE) -> 6 | M84: =VLOOKUP($B84,[1]NUM1!$G$2:$T$157,10,FALSE) -> 0 | N84: =VLOOKUP($B84,[1]NUM1!$G$2:$T$157,11,FALSE) -> 10 | O84: =VLOOKUP($B84,[1]NUM1!$G$2:$T$157,12,FALSE) -> 1 | P84: =VLOOKUP($B84,[1]NUM1!$G$2:$T$157,13,FALSE) -> 3 | Q84: =SUM(E84:P84) -> 25 | S84: 1 | T84: =+S84+(Z84+AA84+AB84)-(AM84+AN84+AO84) -> 0 | U84: =VLOOKUP($B84,[2]DEN1!$G$2:$I$157,2,FALSE) -> 0 | V84: =+U84+(AF84+AG84)-(AS84+AT84) -> 0 | W84: =+U84+(AF84+AG84+AH84+AI84)-(AS84+AT84+AU84+AV84) -> 0 | X84: =VLOOKUP($B84,[1]DEN1!$G$2:$I$159,2,FALSE) -> 0 | Z84: =VLOOKUP($B84,'[3]ACT DEN1'!$G$2:$S$143,2,FALSE) -> 0 | AA84: =VLOOKUP($B84,'[3]ACT DEN1'!$G$2:$S$143,3,FALSE) -> 0 | AB84: =VLOOKUP($B84,'[3]ACT DEN1'!$G$2:$S$143,4,FALSE) -> 0 | AC84: =VLOOKUP($B84,'[3]ACT DEN1'!$G$2:$S$143,5,FALSE) -> 0 | AD84: =VLOOKUP($B84,'[3]ACT DEN1'!$G$2:$S$143,6,FALSE) -> 0 | AE84: =VLOOKUP($B84,'[3]ACT DEN1'!$G$2:$S$143,7,FALSE) -> 0 | AF84: =VLOOKUP($B84,'[3]ACT DEN1'!$G$2:$S$143,8,FALSE) -> 0 | AG84: =VLOOKUP($B84,'[3]ACT DEN1'!$G$2:$S$143,9,FALSE) -> 0 | AH84: =VLOOKUP($B84,'[3]ACT DEN1'!$G$2:$S$143,10,FALSE) -> 0 | AI84: =VLOOKUP($B84,'[3]ACT DEN1'!$G$2:$S$143,11,FALSE) -> 0 | AJ84: =VLOOKUP($B84,'[3]ACT DEN1'!$G$2:$S$143,12,FALSE) -> 0 | AL84: =SUM(Z84:AK84) -> 0 | AM84: =VLOOKUP($B84,'[3]ACT DEN1'!$AB$2:$AN$119,2,FALSE) -> 1 | AN84: =VLOOKUP($B84,'[3]ACT DEN1'!$AB$2:$AN$119,3,FALSE) -> 0 | AO84: =VLOOKUP($B84,'[3]ACT DEN1'!$AB$2:$AN$119,4,FALSE) -> 0 | AP84: =VLOOKUP($B84,'[3]ACT DEN1'!$AB$2:$AN$119,5,FALSE) -> 0 | AQ84: =VLOOKUP($B84,'[3]ACT DEN1'!$AB$2:$AN$119,6,FALSE) -> 0 | AR84: =VLOOKUP($B84,'[3]ACT DEN1'!$AB$2:$AN$119,7,FALSE) -> 0 | AS84: =VLOOKUP($B84,'[3]ACT DEN1'!$AB$2:$AN$119,8,FALSE) -> 0 | AT84: =VLOOKUP($B84,'[3]ACT DEN1'!$AB$2:$AN$119,9,FALSE) -> 0 | AU84: =VLOOKUP($B84,'[3]ACT DEN1'!$AB$2:$AN$119,10,FALSE) -> 0 | AV84: =VLOOKUP($B84,'[3]ACT DEN1'!$AB$2:$AN$119,11,FALSE) -> 0 | AW84: =VLOOKUP($B84,'[3]ACT DEN1'!$AB$2:$AN$119,12,FALSE) -> 0 | AY84: =SUM(AM84:AX84) -> 1
A85: 04204-SALAMANCA | B85: 105458-P.S.R. TAHUINCO | E85: =VLOOKUP($B85,[1]NUM1!$G$2:$T$157,2,FALSE) -> 0 | F85: =VLOOKUP($B85,[1]NUM1!$G$2:$T$157,3,FALSE) -> 0 | G85: =VLOOKUP($B85,[1]NUM1!$G$2:$T$157,4,FALSE) -> 1 | H85: =VLOOKUP($B85,[1]NUM1!$G$2:$T$157,5,FALSE) -> 0 | I85: =VLOOKUP($B85,[1]NUM1!$G$2:$T$157,6,FALSE) -> 2 | J85: =VLOOKUP($B85,[1]NUM1!$G$2:$T$157,7,FALSE) -> 0 | K85: =VLOOKUP($B85,[1]NUM1!$G$2:$T$157,8,FALSE) -> 0 | L85: =VLOOKUP($B85,[1]NUM1!$G$2:$T$157,9,FALSE) -> 0 | M85: =VLOOKUP($B85,[1]NUM1!$G$2:$T$157,10,FALSE) -> 0 | N85: =VLOOKUP($B85,[1]NUM1!$G$2:$T$157,11,FALSE) -> 0 | O85: =VLOOKUP($B85,[1]NUM1!$G$2:$T$157,12,FALSE) -> 2 | P85: =VLOOKUP($B85,[1]NUM1!$G$2:$T$157,13,FALSE) -> 2 | Q85: =SUM(E85:P85) -> 7 | S85: 2 | T85: =+S85+(Z85+AA85+AB85)-(AM85+AN85+AO85) -> 2 | U85: =VLOOKUP($B85,[2]DEN1!$G$2:$I$157,2,FALSE) -> 2 | V85: =+U85+(AF85+AG85)-(AS85+AT85) -> 2 | W85: =+U85+(AF85+AG85+AH85+AI85)-(AS85+AT85+AU85+AV85) -> 2 | X85: =VLOOKUP($B85,[1]DEN1!$G$2:$I$159,2,FALSE) -> 3 | Z85: =VLOOKUP($B85,'[3]ACT DEN1'!$G$2:$S$143,2,FALSE) -> 0 | AA85: =VLOOKUP($B85,'[3]ACT DEN1'!$G$2:$S$143,3,FALSE) -> 0 | AB85: =VLOOKUP($B85,'[3]ACT DEN1'!$G$2:$S$143,4,FALSE) -> 0 | AC85: =VLOOKUP($B85,'[3]ACT DEN1'!$G$2:$S$143,5,FALSE) -> 0 | AD85: =VLOOKUP($B85,'[3]ACT DEN1'!$G$2:$S$143,6,FALSE) -> 0 | AE85: =VLOOKUP($B85,'[3]ACT DEN1'!$G$2:$S$143,7,FALSE) -> 0 | AF85: =VLOOKUP($B85,'[3]ACT DEN1'!$G$2:$S$143,8,FALSE) -> 0 | AG85: =VLOOKUP($B85,'[3]ACT DEN1'!$G$2:$S$143,9,FALSE) -> 0 | AH85: =VLOOKUP($B85,'[3]ACT DEN1'!$G$2:$S$143,10,FALSE) -> 0 | AI85: =VLOOKUP($B85,'[3]ACT DEN1'!$G$2:$S$143,11,FALSE) -> 0 | AJ85: =VLOOKUP($B85,'[3]ACT DEN1'!$G$2:$S$143,12,FALSE) -> 0 | AL85: =SUM(Z85:AK85) -> 0 | AM85: =VLOOKUP($B85,'[3]ACT DEN1'!$AB$2:$AN$119,2,FALSE) -> 0 | AN85: =VLOOKUP($B85,'[3]ACT DEN1'!$AB$2:$AN$119,3,FALSE) -> 0 | AO85: =VLOOKUP($B85,'[3]ACT DEN1'!$AB$2:$AN$119,4,FALSE) -> 0 | AP85: =VLOOKUP($B85,'[3]ACT DEN1'!$AB$2:$AN$119,5,FALSE) -> 0 | AQ85: =VLOOKUP($B85,'[3]ACT DEN1'!$AB$2:$AN$119,6,FALSE) -> 0 | AR85: =VLOOKUP($B85,'[3]ACT DEN1'!$AB$2:$AN$119,7,FALSE) -> 0 | AS85: =VLOOKUP($B85,'[3]ACT DEN1'!$AB$2:$AN$119,8,FALSE) -> 0 | AT85: =VLOOKUP($B85,'[3]ACT DEN1'!$AB$2:$AN$119,9,FALSE) -> 0 | AU85: =VLOOKUP($B85,'[3]ACT DEN1'!$AB$2:$AN$119,10,FALSE) -> 0 | AV85: =VLOOKUP($B85,'[3]ACT DEN1'!$AB$2:$AN$119,11,FALSE) -> 0 | AW85: =VLOOKUP($B85,'[3]ACT DEN1'!$AB$2:$AN$119,12,FALSE) -> 1 | AY85: =SUM(AM85:AX85) -> 1
A86: 04204-SALAMANCA | B86: 105491-P.S.R. QUELEN BAJO | E86: =VLOOKUP($B86,[1]NUM1!$G$2:$T$157,2,FALSE) -> 1 | F86: =VLOOKUP($B86,[1]NUM1!$G$2:$T$157,3,FALSE) -> 0 | G86: =VLOOKUP($B86,[1]NUM1!$G$2:$T$157,4,FALSE) -> 2 | H86: =VLOOKUP($B86,[1]NUM1!$G$2:$T$157,5,FALSE) -> 3 | I86: =VLOOKUP($B86,[1]NUM1!$G$2:$T$157,6,FALSE) -> 3 | J86: =VLOOKUP($B86,[1]NUM1!$G$2:$T$157,7,FALSE) -> 5 | K86: =VLOOKUP($B86,[1]NUM1!$G$2:$T$157,8,FALSE) -> 2 | L86: =VLOOKUP($B86,[1]NUM1!$G$2:$T$157,9,FALSE) -> 4 | M86: =VLOOKUP($B86,[1]NUM1!$G$2:$T$157,10,FALSE) -> 4 | N86: =VLOOKUP($B86,[1]NUM1!$G$2:$T$157,11,FALSE) -> 2 | O86: =VLOOKUP($B86,[1]NUM1!$G$2:$T$157,12,FALSE) -> 1 | P86: =VLOOKUP($B86,[1]NUM1!$G$2:$T$157,13,FALSE) -> 0 | Q86: =SUM(E86:P86) -> 27 | S86: 3 | T86: =+S86+(Z86+AA86+AB86)-(AM86+AN86+AO86) -> 3 | U86: =VLOOKUP($B86,[2]DEN1!$G$2:$I$157,2,FALSE) -> 4 | V86: =+U86+(AF86+AG86)-(AS86+AT86) -> 4 | W86: =+U86+(AF86+AG86+AH86+AI86)-(AS86+AT86+AU86+AV86) -> 5 | X86: =VLOOKUP($B86,[1]DEN1!$G$2:$I$159,2,FALSE) -> 3 | Z86: =VLOOKUP($B86,'[3]ACT DEN1'!$G$2:$S$143,2,FALSE) -> 0 | AA86: =VLOOKUP($B86,'[3]ACT DEN1'!$G$2:$S$143,3,FALSE) -> 0 | AB86: =VLOOKUP($B86,'[3]ACT DEN1'!$G$2:$S$143,4,FALSE) -> 0 | AC86: =VLOOKUP($B86,'[3]ACT DEN1'!$G$2:$S$143,5,FALSE) -> 0 | AD86: =VLOOKUP($B86,'[3]ACT DEN1'!$G$2:$S$143,6,FALSE) -> 0 | AE86: =VLOOKUP($B86,'[3]ACT DEN1'!$G$2:$S$143,7,FALSE) -> 0 | AF86: =VLOOKUP($B86,'[3]ACT DEN1'!$G$2:$S$143,8,FALSE) -> 0 | AG86: =VLOOKUP($B86,'[3]ACT DEN1'!$G$2:$S$143,9,FALSE) -> 0 | AH86: =VLOOKUP($B86,'[3]ACT DEN1'!$G$2:$S$143,10,FALSE) -> 0 | AI86: =VLOOKUP($B86,'[3]ACT DEN1'!$G$2:$S$143,11,FALSE) -> 1 | AJ86: =VLOOKUP($B86,'[3]ACT DEN1'!$G$2:$S$143,12,FALSE) -> 0 | AL86: =SUM(Z86:AK86) -> 1 | AM86: =VLOOKUP($B86,'[3]ACT DEN1'!$AB$2:$AN$119,2,FALSE) -> 0 | AN86: =VLOOKUP($B86,'[3]ACT DEN1'!$AB$2:$AN$119,3,FALSE) -> 0 | AO86: =VLOOKUP($B86,'[3]ACT DEN1'!$AB$2:$AN$119,4,FALSE) -> 0 | AP86: =VLOOKUP($B86,'[3]ACT DEN1'!$AB$2:$AN$119,5,FALSE) -> 0 | AQ86: =VLOOKUP($B86,'[3]ACT DEN1'!$AB$2:$AN$119,6,FALSE) -> 0 | AR86: =VLOOKUP($B86,'[3]ACT DEN1'!$AB$2:$AN$119,7,FALSE) -> 0 | AS86: =VLOOKUP($B86,'[3]ACT DEN1'!$AB$2:$AN$119,8,FALSE) -> 0 | AT86: =VLOOKUP($B86,'[3]ACT DEN1'!$AB$2:$AN$119,9,FALSE) -> 0 | AU86: =VLOOKUP($B86,'[3]ACT DEN1'!$AB$2:$AN$119,10,FALSE) -> 0 | AV86: =VLOOKUP($B86,'[3]ACT DEN1'!$AB$2:$AN$119,11,FALSE) -> 0 | AW86: =VLOOKUP($B86,'[3]ACT DEN1'!$AB$2:$AN$119,12,FALSE) -> 0 | AY86: =SUM(AM86:AX86) -> 0
A87: 04204-SALAMANCA | B87: 105492-P.S.R. CAMISA | E87: =VLOOKUP($B87,[1]NUM1!$G$2:$T$157,2,FALSE) -> 1 | F87: =VLOOKUP($B87,[1]NUM1!$G$2:$T$157,3,FALSE) -> 0 | G87: =VLOOKUP($B87,[1]NUM1!$G$2:$T$157,4,FALSE) -> 1 | H87: =VLOOKUP($B87,[1]NUM1!$G$2:$T$157,5,FALSE) -> 4 | I87: =VLOOKUP($B87,[1]NUM1!$G$2:$T$157,6,FALSE) -> 1 | J87: =VLOOKUP($B87,[1]NUM1!$G$2:$T$157,7,FALSE) -> 0 | K87: =VLOOKUP($B87,[1]NUM1!$G$2:$T$157,8,FALSE) -> 1 | L87: =VLOOKUP($B87,[1]NUM1!$G$2:$T$157,9,FALSE) -> 4 | M87: =VLOOKUP($B87,[1]NUM1!$G$2:$T$157,10,FALSE) -> 1 | N87: =VLOOKUP($B87,[1]NUM1!$G$2:$T$157,11,FALSE) -> 2 | O87: =VLOOKUP($B87,[1]NUM1!$G$2:$T$157,12,FALSE) -> 2 | P87: =VLOOKUP($B87,[1]NUM1!$G$2:$T$157,13,FALSE) -> 1 | Q87: =SUM(E87:P87) -> 18 | S87: 4 | T87: =+S87+(Z87+AA87+AB87)-(AM87+AN87+AO87) -> 4 | U87: =VLOOKUP($B87,[2]DEN1!$G$2:$I$157,2,FALSE) -> 3 | V87: =+U87+(AF87+AG87)-(AS87+AT87) -> 3 | W87: =+U87+(AF87+AG87+AH87+AI87)-(AS87+AT87+AU87+AV87) -> 3 | X87: =VLOOKUP($B87,[1]DEN1!$G$2:$I$159,2,FALSE) -> 3 | Z87: =VLOOKUP($B87,'[3]ACT DEN1'!$G$2:$S$143,2,FALSE) -> 0 | AA87: =VLOOKUP($B87,'[3]ACT DEN1'!$G$2:$S$143,3,FALSE) -> 0 | AB87: =VLOOKUP($B87,'[3]ACT DEN1'!$G$2:$S$143,4,FALSE) -> 0 | AC87: =VLOOKUP($B87,'[3]ACT DEN1'!$G$2:$S$143,5,FALSE) -> 0 | AD87: =VLOOKUP($B87,'[3]ACT DEN1'!$G$2:$S$143,6,FALSE) -> 0 | AE87: =VLOOKUP($B87,'[3]ACT DEN1'!$G$2:$S$143,7,FALSE) -> 0 | AF87: =VLOOKUP($B87,'[3]ACT DEN1'!$G$2:$S$143,8,FALSE) -> 0 | AG87: =VLOOKUP($B87,'[3]ACT DEN1'!$G$2:$S$143,9,FALSE) -> 0 | AH87: =VLOOKUP($B87,'[3]ACT DEN1'!$G$2:$S$143,10,FALSE) -> 0 | AI87: =VLOOKUP($B87,'[3]ACT DEN1'!$G$2:$S$143,11,FALSE) -> 0 | AJ87: =VLOOKUP($B87,'[3]ACT DEN1'!$G$2:$S$143,12,FALSE) -> 0 | AL87: =SUM(Z87:AK87) -> 0 | AM87: =VLOOKUP($B87,'[3]ACT DEN1'!$AB$2:$AN$119,2,FALSE) -> 0 | AN87: =VLOOKUP($B87,'[3]ACT DEN1'!$AB$2:$AN$119,3,FALSE) -> 0 | AO87: =VLOOKUP($B87,'[3]ACT DEN1'!$AB$2:$AN$119,4,FALSE) -> 0 | AP87: =VLOOKUP($B87,'[3]ACT DEN1'!$AB$2:$AN$119,5,FALSE) -> 0 | AQ87: =VLOOKUP($B87,'[3]ACT DEN1'!$AB$2:$AN$119,6,FALSE) -> 0 | AR87: =VLOOKUP($B87,'[3]ACT DEN1'!$AB$2:$AN$119,7,FALSE) -> 0 | AS87: =VLOOKUP($B87,'[3]ACT DEN1'!$AB$2:$AN$119,8,FALSE) -> 0 | AT87: =VLOOKUP($B87,'[3]ACT DEN1'!$AB$2:$AN$119,9,FALSE) -> 0 | AU87: =VLOOKUP($B87,'[3]ACT DEN1'!$AB$2:$AN$119,10,FALSE) -> 0 | AV87: =VLOOKUP($B87,'[3]ACT DEN1'!$AB$2:$AN$119,11,FALSE) -> 0 | AW87: =VLOOKUP($B87,'[3]ACT DEN1'!$AB$2:$AN$119,12,FALSE) -> 0 | AY87: =SUM(AM87:AX87) -> 0
A88: 04204-SALAMANCA | B88: 105501-P.S.R. ARBOLEDA GRANDE | E88: =VLOOKUP($B88,[1]NUM1!$G$2:$T$157,2,FALSE) -> 0 | F88: =VLOOKUP($B88,[1]NUM1!$G$2:$T$157,3,FALSE) -> 2 | G88: =VLOOKUP($B88,[1]NUM1!$G$2:$T$157,4,FALSE) -> 2 | H88: =VLOOKUP($B88,[1]NUM1!$G$2:$T$157,5,FALSE) -> 6 | I88: =VLOOKUP($B88,[1]NUM1!$G$2:$T$157,6,FALSE) -> 4 | J88: =VLOOKUP($B88,[1]NUM1!$G$2:$T$157,7,FALSE) -> 1 | K88: =VLOOKUP($B88,[1]NUM1!$G$2:$T$157,8,FALSE) -> 0 | L88: =VLOOKUP($B88,[1]NUM1!$G$2:$T$157,9,FALSE) -> 0 | M88: =VLOOKUP($B88,[1]NUM1!$G$2:$T$157,10,FALSE) -> 0 | N88: =VLOOKUP($B88,[1]NUM1!$G$2:$T$157,11,FALSE) -> 0 | O88: =VLOOKUP($B88,[1]NUM1!$G$2:$T$157,12,FALSE) -> 8 | P88: =VLOOKUP($B88,[1]NUM1!$G$2:$T$157,13,FALSE) -> 1 | Q88: =SUM(E88:P88) -> 24 | S88: 3 | T88: =+S88+(Z88+AA88+AB88)-(AM88+AN88+AO88) -> 3 | U88: =VLOOKUP($B88,[2]DEN1!$G$2:$I$157,2,FALSE) -> 4 | V88: =+U88+(AF88+AG88)-(AS88+AT88) -> 5 | W88: =+U88+(AF88+AG88+AH88+AI88)-(AS88+AT88+AU88+AV88) -> 5 | X88: =VLOOKUP($B88,[1]DEN1!$G$2:$I$159,2,FALSE) -> 4 | Z88: =VLOOKUP($B88,'[3]ACT DEN1'!$G$2:$S$143,2,FALSE) -> 0 | AA88: =VLOOKUP($B88,'[3]ACT DEN1'!$G$2:$S$143,3,FALSE) -> 0 | AB88: =VLOOKUP($B88,'[3]ACT DEN1'!$G$2:$S$143,4,FALSE) -> 0 | AC88: =VLOOKUP($B88,'[3]ACT DEN1'!$G$2:$S$143,5,FALSE) -> 0 | AD88: =VLOOKUP($B88,'[3]ACT DEN1'!$G$2:$S$143,6,FALSE) -> 0 | AE88: =VLOOKUP($B88,'[3]ACT DEN1'!$G$2:$S$143,7,FALSE) -> 0 | AF88: =VLOOKUP($B88,'[3]ACT DEN1'!$G$2:$S$143,8,FALSE) -> 1 | AG88: =VLOOKUP($B88,'[3]ACT DEN1'!$G$2:$S$143,9,FALSE) -> 0 | AH88: =VLOOKUP($B88,'[3]ACT DEN1'!$G$2:$S$143,10,FALSE) -> 0 | AI88: =VLOOKUP($B88,'[3]ACT DEN1'!$G$2:$S$143,11,FALSE) -> 0 | AJ88: =VLOOKUP($B88,'[3]ACT DEN1'!$G$2:$S$143,12,FALSE) -> 0 | AL88: =SUM(Z88:AK88) -> 1 | AM88: =VLOOKUP($B88,'[3]ACT DEN1'!$AB$2:$AN$119,2,FALSE) -> 0 | AN88: =VLOOKUP($B88,'[3]ACT DEN1'!$AB$2:$AN$119,3,FALSE) -> 0 | AO88: =VLOOKUP($B88,'[3]ACT DEN1'!$AB$2:$AN$119,4,FALSE) -> 0 | AP88: =VLOOKUP($B88,'[3]ACT DEN1'!$AB$2:$AN$119,5,FALSE) -> 0 | AQ88: =VLOOKUP($B88,'[3]ACT DEN1'!$AB$2:$AN$119,6,FALSE) -> 0 | AR88: =VLOOKUP($B88,'[3]ACT DEN1'!$AB$2:$AN$119,7,FALSE) -> 0 | AS88: =VLOOKUP($B88,'[3]ACT DEN1'!$AB$2:$AN$119,8,FALSE) -> 0 | AT88: =VLOOKUP($B88,'[3]ACT DEN1'!$AB$2:$AN$119,9,FALSE) -> 0 | AU88: =VLOOKUP($B88,'[3]ACT DEN1'!$AB$2:$AN$119,10,FALSE) -> 0 | AV88: =VLOOKUP($B88,'[3]ACT DEN1'!$AB$2:$AN$119,11,FALSE) -> 0 | AW88: =VLOOKUP($B88,'[3]ACT DEN1'!$AB$2:$AN$119,12,FALSE) -> 0 | AY88: =SUM(AM88:AX88) -> 0
A89: TOTAL SALAMANCA MUNICIPAL | C89: =+D89/Metas!G116 -> 1.0512452 | D89: =+Q89/R89 -> 0.21024904 | E89: =SUM(E79:E88) -> 22 | F89: =SUM(F79:F88) -> 39 | G89: =SUM(G79:G88) -> 31 | H89: =SUM(H79:H88) -> 61 | I89: =SUM(I79:I88) -> 42 | J89: =SUM(J79:J88) -> 30 | K89: =SUM(K79:K88) -> 35 | L89: =SUM(L79:L88) -> 36 | ... Q89: =SUM(Q79:Q88) -> 439 | R89: =+Y89-X89 -> 2088 | S89: =SUM(S79:S88) -> 52 | T89: =SUM(T79:T88) -> 54 | U89: =SUM(U79:U88) -> 51 | V89: =SUM(V79:V88) -> 57 | W89: =SUM(W79:W88) -> 61 | X89: =SUM(X79:X88) -> 54 | Y89: 2142 | Z89: =SUM(Z79:Z88) -> 1 | AA89: =SUM(AA79:AA88) -> 1 | AB89: =SUM(AB79:AB88) -> 1 | AC89: =SUM(AC79:AC88) -> 1 | AD89: =SUM(AD79:AD88) -> 3 | AE89: =SUM(AE79:AE88) -> 1 | AF89: =SUM(AF79:AF88) -> 3 | AG89: =SUM(AG79:AG88) -> 3 | ... AK89: =SUM(AK79:AK88) -> 0 | AL89: =SUM(Z89:AK89) -> 19 | AM89: =SUM(AM79:AM88) -> 1 | AN89: =SUM(AN79:AN88) -> 0 | AO89: =SUM(AO79:AO88) -> 0 | AP89: =SUM(AP79:AP88) -> 0 | AQ89: =SUM(AQ79:AQ88) -> 0 | AR89: =SUM(AR79:AR88) -> 0 | AS89: =SUM(AS79:AS88) -> 0 | AT89: =SUM(AT79:AT88) -> 0 | ... AX89: =SUM(AX79:AX88) -> 0 | AY89: =SUM(AM89:AX89) -> 2
A90: 04301-OVALLE | B90: 105315-CES. RURAL C. DE TAMAYA | E90: =VLOOKUP($B90,[1]NUM1!$G$2:$T$157,2,FALSE) -> 23 | F90: =VLOOKUP($B90,[1]NUM1!$G$2:$T$157,3,FALSE) -> 5 | G90: =VLOOKUP($B90,[1]NUM1!$G$2:$T$157,4,FALSE) -> 61 | H90: =VLOOKUP($B90,[1]NUM1!$G$2:$T$157,5,FALSE) -> 2 | I90: =VLOOKUP($B90,[1]NUM1!$G$2:$T$157,6,FALSE) -> 18 | J90: =VLOOKUP($B90,[1]NUM1!$G$2:$T$157,7,FALSE) -> 6 | K90: =VLOOKUP($B90,[1]NUM1!$G$2:$T$157,8,FALSE) -> 16 | L90: =VLOOKUP($B90,[1]NUM1!$G$2:$T$157,9,FALSE) -> 26 | M90: =VLOOKUP($B90,[1]NUM1!$G$2:$T$157,10,FALSE) -> 2 | N90: =VLOOKUP($B90,[1]NUM1!$G$2:$T$157,11,FALSE) -> 0 | O90: =VLOOKUP($B90,[1]NUM1!$G$2:$T$157,12,FALSE) -> 12 | P90: =VLOOKUP($B90,[1]NUM1!$G$2:$T$157,13,FALSE) -> 22 | Q90: =SUM(E90:P90) -> 193 | S90: 36 | T90: =+S90+(Z90+AA90+AB90)-(AM90+AN90+AO90) -> 38 | U90: =VLOOKUP($B90,[2]DEN1!$G$2:$I$157,2,FALSE) -> 40 | V90: =+U90+(AF90+AG90)-(AS90+AT90) -> 42 | W90: =+U90+(AF90+AG90+AH90+AI90)-(AS90+AT90+AU90+AV90) -> 42 | X90: =VLOOKUP($B90,[1]DEN1!$G$2:$I$159,2,FALSE) -> 38 | Z90: =VLOOKUP($B90,'[3]ACT DEN1'!$G$2:$S$143,2,FALSE) -> 0 | AA90: =VLOOKUP($B90,'[3]ACT DEN1'!$G$2:$S$143,3,FALSE) -> 2 | AB90: =VLOOKUP($B90,'[3]ACT DEN1'!$G$2:$S$143,4,FALSE) -> 0 | AC90: =VLOOKUP($B90,'[3]ACT DEN1'!$G$2:$S$143,5,FALSE) -> 0 | AD90: =VLOOKUP($B90,'[3]ACT DEN1'!$G$2:$S$143,6,FALSE) -> 0 | AE90: =VLOOKUP($B90,'[3]ACT DEN1'!$G$2:$S$143,7,FALSE) -> 2 | AF90: =VLOOKUP($B90,'[3]ACT DEN1'!$G$2:$S$143,8,FALSE) -> 1 | AG90: =VLOOKUP($B90,'[3]ACT DEN1'!$G$2:$S$143,9,FALSE) -> 1 | AH90: =VLOOKUP($B90,'[3]ACT DEN1'!$G$2:$S$143,10,FALSE) -> 0 | AI90: =VLOOKUP($B90,'[3]ACT DEN1'!$G$2:$S$143,11,FALSE) -> 0 | AJ90: =VLOOKUP($B90,'[3]ACT DEN1'!$G$2:$S$143,12,FALSE) -> 0 | AL90: =SUM(Z90:AK90) -> 6 | AM90: =VLOOKUP($B90,'[3]ACT DEN1'!$AB$2:$AN$119,2,FALSE) -> 0 | AN90: =VLOOKUP($B90,'[3]ACT DEN1'!$AB$2:$AN$119,3,FALSE) -> 0 | AO90: =VLOOKUP($B90,'[3]ACT DEN1'!$AB$2:$AN$119,4,FALSE) -> 0 | AP90: =VLOOKUP($B90,'[3]ACT DEN1'!$AB$2:$AN$119,5,FALSE) -> 0 | AQ90: =VLOOKUP($B90,'[3]ACT DEN1'!$AB$2:$AN$119,6,FALSE) -> 0 | AR90: =VLOOKUP($B90,'[3]ACT DEN1'!$AB$2:$AN$119,7,FALSE) -> 0 | AS90: =VLOOKUP($B90,'[3]ACT DEN1'!$AB$2:$AN$119,8,FALSE) -> 0 | AT90: =VLOOKUP($B90,'[3]ACT DEN1'!$AB$2:$AN$119,9,FALSE) -> 0 | AU90: =VLOOKUP($B90,'[3]ACT DEN1'!$AB$2:$AN$119,10,FALSE) -> 0 | AV90: =VLOOKUP($B90,'[3]ACT DEN1'!$AB$2:$AN$119,11,FALSE) -> 0 | AW90: =VLOOKUP($B90,'[3]ACT DEN1'!$AB$2:$AN$119,12,FALSE) -> 0 | AY90: =SUM(AM90:AX90) -> 0
A91: 04301-OVALLE | B91: 105317-CES. JORGE JORDAN D. | E91: =VLOOKUP($B91,[1]NUM1!$G$2:$T$157,2,FALSE) -> 123 | F91: =VLOOKUP($B91,[1]NUM1!$G$2:$T$157,3,FALSE) -> 65 | G91: =VLOOKUP($B91,[1]NUM1!$G$2:$T$157,4,FALSE) -> 130 | H91: =VLOOKUP($B91,[1]NUM1!$G$2:$T$157,5,FALSE) -> 74 | I91: =VLOOKUP($B91,[1]NUM1!$G$2:$T$157,6,FALSE) -> 81 | J91: =VLOOKUP($B91,[1]NUM1!$G$2:$T$157,7,FALSE) -> 75 | K91: =VLOOKUP($B91,[1]NUM1!$G$2:$T$157,8,FALSE) -> 87 | L91: =VLOOKUP($B91,[1]NUM1!$G$2:$T$157,9,FALSE) -> 67 | M91: =VLOOKUP($B91,[1]NUM1!$G$2:$T$157,10,FALSE) -> 100 | N91: =VLOOKUP($B91,[1]NUM1!$G$2:$T$157,11,FALSE) -> 3 | O91: =VLOOKUP($B91,[1]NUM1!$G$2:$T$157,12,FALSE) -> 1 | P91: =VLOOKUP($B91,[1]NUM1!$G$2:$T$157,13,FALSE) -> 7 | Q91: =SUM(E91:P91) -> 813 | S91: 56 | T91: =+S91+(Z91+AA91+AB91)-(AM91+AN91+AO91) -> 60 | U91: =VLOOKUP($B91,[2]DEN1!$G$2:$I$157,2,FALSE) -> 59 | V91: =+U91+(AF91+AG91)-(AS91+AT91) -> 60 | W91: =+U91+(AF91+AG91+AH91+AI91)-(AS91+AT91+AU91+AV91) -> 61 | X91: =VLOOKUP($B91,[1]DEN1!$G$2:$I$159,2,FALSE) -> 63 | Z91: =VLOOKUP($B91,'[3]ACT DEN1'!$G$2:$S$143,2,FALSE) -> 3 | AA91: =VLOOKUP($B91,'[3]ACT DEN1'!$G$2:$S$143,3,FALSE) -> 1 | AB91: =VLOOKUP($B91,'[3]ACT DEN1'!$G$2:$S$143,4,FALSE) -> 0 | AC91: =VLOOKUP($B91,'[3]ACT DEN1'!$G$2:$S$143,5,FALSE) -> 2 | AD91: =VLOOKUP($B91,'[3]ACT DEN1'!$G$2:$S$143,6,FALSE) -> 2 | AE91: =VLOOKUP($B91,'[3]ACT DEN1'!$G$2:$S$143,7,FALSE) -> 1 | AF91: =VLOOKUP($B91,'[3]ACT DEN1'!$G$2:$S$143,8,FALSE) -> 0 | AG91: =VLOOKUP($B91,'[3]ACT DEN1'!$G$2:$S$143,9,FALSE) -> 1 | AH91: =VLOOKUP($B91,'[3]ACT DEN1'!$G$2:$S$143,10,FALSE) -> 1 | AI91: =VLOOKUP($B91,'[3]ACT DEN1'!$G$2:$S$143,11,FALSE) -> 0 | AJ91: =VLOOKUP($B91,'[3]ACT DEN1'!$G$2:$S$143,12,FALSE) -> 1 | AL91: =SUM(Z91:AK91) -> 12 | AM91: =VLOOKUP($B91,'[3]ACT DEN1'!$AB$2:$AN$119,2,FALSE) -> 0 | AN91: =VLOOKUP($B91,'[3]ACT DEN1'!$AB$2:$AN$119,3,FALSE) -> 0 | AO91: =VLOOKUP($B91,'[3]ACT DEN1'!$AB$2:$AN$119,4,FALSE) -> 0 | AP91: =VLOOKUP($B91,'[3]ACT DEN1'!$AB$2:$AN$119,5,FALSE) -> 0 | AQ91: =VLOOKUP($B91,'[3]ACT DEN1'!$AB$2:$AN$119,6,FALSE) -> 0 | AR91: =VLOOKUP($B91,'[3]ACT DEN1'!$AB$2:$AN$119,7,FALSE) -> 0 | AS91: =VLOOKUP($B91,'[3]ACT DEN1'!$AB$2:$AN$119,8,FALSE) -> 0 | AT91: =VLOOKUP($B91,'[3]ACT DEN1'!$AB$2:$AN$119,9,FALSE) -> 0 | AU91: =VLOOKUP($B91,'[3]ACT DEN1'!$AB$2:$AN$119,10,FALSE) -> 0 | AV91: =VLOOKUP($B91,'[3]ACT DEN1'!$AB$2:$AN$119,11,FALSE) -> 0 | AW91: =VLOOKUP($B91,'[3]ACT DEN1'!$AB$2:$AN$119,12,FALSE) -> 0 | AY91: =SUM(AM91:AX91) -> 0
A92: 04301-OVALLE | B92: 105322-CES. MARCOS MACUADA | E92: =VLOOKUP($B92,[1]NUM1!$G$2:$T$157,2,FALSE) -> 21 | F92: =VLOOKUP($B92,[1]NUM1!$G$2:$T$157,3,FALSE) -> 47 | G92: =VLOOKUP($B92,[1]NUM1!$G$2:$T$157,4,FALSE) -> 30 | H92: =VLOOKUP($B92,[1]NUM1!$G$2:$T$157,5,FALSE) -> 45 | I92: =VLOOKUP($B92,[1]NUM1!$G$2:$T$157,6,FALSE) -> 66 | J92: =VLOOKUP($B92,[1]NUM1!$G$2:$T$157,7,FALSE) -> 167 | K92: =VLOOKUP($B92,[1]NUM1!$G$2:$T$157,8,FALSE) -> 117 | L92: =VLOOKUP($B92,[1]NUM1!$G$2:$T$157,9,FALSE) -> 53 | M92: =VLOOKUP($B92,[1]NUM1!$G$2:$T$157,10,FALSE) -> 43 | N92: =VLOOKUP($B92,[1]NUM1!$G$2:$T$157,11,FALSE)+1 -> 74 | O92: =VLOOKUP($B92,[1]NUM1!$G$2:$T$157,12,FALSE) -> 82 | P92: =VLOOKUP($B92,[1]NUM1!$G$2:$T$157,13,FALSE) -> 259 | Q92: =SUM(E92:P92) -> 1004 | S92: 100 | T92: =+S92+(Z92+AA92+AB92)-(AM92+AN92+AO92) -> 102 | U92: =VLOOKUP($B92,[2]DEN1!$G$2:$I$157,2,FALSE) -> 103 | V92: =+U92+(AF92+AG92)-(AS92+AT92) -> 107 | W92: =+U92+(AF92+AG92+AH92+AI92)-(AS92+AT92+AU92+AV92) -> 107 | X92: =VLOOKUP($B92,[1]DEN1!$G$2:$I$159,2,FALSE)+3 -> 100 | Z92: =VLOOKUP($B92,'[3]ACT DEN1'!$G$2:$S$143,2,FALSE) -> 1 | AA92: =VLOOKUP($B92,'[3]ACT DEN1'!$G$2:$S$143,3,FALSE) -> 0 | AB92: =VLOOKUP($B92,'[3]ACT DEN1'!$G$2:$S$143,4,FALSE) -> 1 | AC92: =VLOOKUP($B92,'[3]ACT DEN1'!$G$2:$S$143,5,FALSE) -> 3 | AD92: =VLOOKUP($B92,'[3]ACT DEN1'!$G$2:$S$143,6,FALSE) -> 2 | AE92: =VLOOKUP($B92,'[3]ACT DEN1'!$G$2:$S$143,7,FALSE) -> 0 | AF92: =VLOOKUP($B92,'[3]ACT DEN1'!$G$2:$S$143,8,FALSE) -> 3 | AG92: =VLOOKUP($B92,'[3]ACT DEN1'!$G$2:$S$143,9,FALSE) -> 2 | AH92: =VLOOKUP($B92,'[3]ACT DEN1'!$G$2:$S$143,10,FALSE) -> 0 | AI92: =VLOOKUP($B92,'[3]ACT DEN1'!$G$2:$S$143,11,FALSE) -> 0 | AJ92: =VLOOKUP($B92,'[3]ACT DEN1'!$G$2:$S$143,12,FALSE) -> 0 | AL92: =SUM(Z92:AK92) -> 12 | AM92: =VLOOKUP($B92,'[3]ACT DEN1'!$AB$2:$AN$119,2,FALSE) -> 0 | AN92: =VLOOKUP($B92,'[3]ACT DEN1'!$AB$2:$AN$119,3,FALSE) -> 0 | AO92: =VLOOKUP($B92,'[3]ACT DEN1'!$AB$2:$AN$119,4,FALSE) -> 0 | AP92: =VLOOKUP($B92,'[3]ACT DEN1'!$AB$2:$AN$119,5,FALSE) -> 1 | AQ92: =VLOOKUP($B92,'[3]ACT DEN1'!$AB$2:$AN$119,6,FALSE) -> 0 | AR92: =VLOOKUP($B92,'[3]ACT DEN1'!$AB$2:$AN$119,7,FALSE) -> 2 | AS92: =VLOOKUP($B92,'[3]ACT DEN1'!$AB$2:$AN$119,8,FALSE) -> 1 | AT92: =VLOOKUP($B92,'[3]ACT DEN1'!$AB$2:$AN$119,9,FALSE) -> 0 | AU92: =VLOOKUP($B92,'[3]ACT DEN1'!$AB$2:$AN$119,10,FALSE) -> 0 | AV92: =VLOOKUP($B92,'[3]ACT DEN1'!$AB$2:$AN$119,11,FALSE) -> 0 | AW92: =VLOOKUP($B92,'[3]ACT DEN1'!$AB$2:$AN$119,12,FALSE) -> 0 | AY92: =SUM(AM92:AX92) -> 4
A93: 04301-OVALLE | B93: 105324-CES. SOTAQUI | E93: =VLOOKUP($B93,[1]NUM1!$G$2:$T$157,2,FALSE) -> 16 | F93: =VLOOKUP($B93,[1]NUM1!$G$2:$T$157,3,FALSE) -> 16 | G93: =VLOOKUP($B93,[1]NUM1!$G$2:$T$157,4,FALSE) -> 17 | H93: =VLOOKUP($B93,[1]NUM1!$G$2:$T$157,5,FALSE) -> 14 | I93: =VLOOKUP($B93,[1]NUM1!$G$2:$T$157,6,FALSE) -> 36 | J93: =VLOOKUP($B93,[1]NUM1!$G$2:$T$157,7,FALSE) -> 3 | K93: =VLOOKUP($B93,[1]NUM1!$G$2:$T$157,8,FALSE) -> 2 | L93: =VLOOKUP($B93,[1]NUM1!$G$2:$T$157,9,FALSE) -> 7 | M93: =VLOOKUP($B93,[1]NUM1!$G$2:$T$157,10,FALSE) -> 2 | N93: =VLOOKUP($B93,[1]NUM1!$G$2:$T$157,11,FALSE) -> 3 | O93: =VLOOKUP($B93,[1]NUM1!$G$2:$T$157,12,FALSE) -> 38 | P93: =VLOOKUP($B93,[1]NUM1!$G$2:$T$157,13,FALSE) -> 26 | Q93: =SUM(E93:P93) -> 180 | S93: 25 | T93: =+S93+(Z93+AA93+AB93)-(AM93+AN93+AO93) -> 27 | U93: =VLOOKUP($B93,[2]DEN1!$G$2:$I$157,2,FALSE) -> 25 | V93: =+U93+(AF93+AG93)-(AS93+AT93) -> 25 | W93: =+U93+(AF93+AG93+AH93+AI93)-(AS93+AT93+AU93+AV93) -> 26 | X93: =VLOOKUP($B93,[1]DEN1!$G$2:$I$159,2,FALSE) -> 26 | Z93: =VLOOKUP($B93,'[3]ACT DEN1'!$G$2:$S$143,2,FALSE) -> 0 | AA93: =VLOOKUP($B93,'[3]ACT DEN1'!$G$2:$S$143,3,FALSE) -> 2 | AB93: =VLOOKUP($B93,'[3]ACT DEN1'!$G$2:$S$143,4,FALSE) -> 0 | AC93: =VLOOKUP($B93,'[3]ACT DEN1'!$G$2:$S$143,5,FALSE) -> 0 | AD93: =VLOOKUP($B93,'[3]ACT DEN1'!$G$2:$S$143,6,FALSE) -> 0 | AE93: =VLOOKUP($B93,'[3]ACT DEN1'!$G$2:$S$143,7,FALSE) -> 0 | AF93: =VLOOKUP($B93,'[3]ACT DEN1'!$G$2:$S$143,8,FALSE) -> 0 | AG93: =VLOOKUP($B93,'[3]ACT DEN1'!$G$2:$S$143,9,FALSE) -> 0 | AH93: =VLOOKUP($B93,'[3]ACT DEN1'!$G$2:$S$143,10,FALSE) -> 1 | AI93: =VLOOKUP($B93,'[3]ACT DEN1'!$G$2:$S$143,11,FALSE) -> 0 | AJ93: =VLOOKUP($B93,'[3]ACT DEN1'!$G$2:$S$143,12,FALSE) -> 0 | AL93: =SUM(Z93:AK93) -> 3 | AM93: =VLOOKUP($B93,'[3]ACT DEN1'!$AB$2:$AN$119,2,FALSE) -> 0 | AN93: =VLOOKUP($B93,'[3]ACT DEN1'!$AB$2:$AN$119,3,FALSE) -> 0 | AO93: =VLOOKUP($B93,'[3]ACT DEN1'!$AB$2:$AN$119,4,FALSE) -> 0 | AP93: =VLOOKUP($B93,'[3]ACT DEN1'!$AB$2:$AN$119,5,FALSE) -> 0 | AQ93: =VLOOKUP($B93,'[3]ACT DEN1'!$AB$2:$AN$119,6,FALSE) -> 0 | AR93: =VLOOKUP($B93,'[3]ACT DEN1'!$AB$2:$AN$119,7,FALSE) -> 0 | AS93: =VLOOKUP($B93,'[3]ACT DEN1'!$AB$2:$AN$119,8,FALSE) -> 0 | AT93: =VLOOKUP($B93,'[3]ACT DEN1'!$AB$2:$AN$119,9,FALSE) -> 0 | AU93: =VLOOKUP($B93,'[3]ACT DEN1'!$AB$2:$AN$119,10,FALSE) -> 0 | AV93: =VLOOKUP($B93,'[3]ACT DEN1'!$AB$2:$AN$119,11,FALSE) -> 0 | AW93: =VLOOKUP($B93,'[3]ACT DEN1'!$AB$2:$AN$119,12,FALSE) -> 0 | AY93: =SUM(AM93:AX93) -> 0
A94: 04301-OVALLE | B94: 105415-P.S.R. BARRAZA | E94: =VLOOKUP($B94,[1]NUM1!$G$2:$T$157,2,FALSE) -> 0 | F94: =VLOOKUP($B94,[1]NUM1!$G$2:$T$157,3,FALSE) -> 0 | G94: =VLOOKUP($B94,[1]NUM1!$G$2:$T$157,4,FALSE) -> 0 | H94: =VLOOKUP($B94,[1]NUM1!$G$2:$T$157,5,FALSE) -> 0 | I94: =VLOOKUP($B94,[1]NUM1!$G$2:$T$157,6,FALSE) -> 0 | J94: =VLOOKUP($B94,[1]NUM1!$G$2:$T$157,7,FALSE) -> 0 | K94: =VLOOKUP($B94,[1]NUM1!$G$2:$T$157,8,FALSE) -> 0 | L94: =VLOOKUP($B94,[1]NUM1!$G$2:$T$157,9,FALSE) -> 0 | M94: =VLOOKUP($B94,[1]NUM1!$G$2:$T$157,10,FALSE) -> 0 | N94: =VLOOKUP($B94,[1]NUM1!$G$2:$T$157,11,FALSE) -> 0 | O94: =VLOOKUP($B94,[1]NUM1!$G$2:$T$157,12,FALSE) -> 0 | P94: =VLOOKUP($B94,[1]NUM1!$G$2:$T$157,13,FALSE) -> 0 | Q94: =SUM(E94:P94) -> 0 | S94: 7 | T94: =+S94+(Z94+AA94+AB94)-(AM94+AN94+AO94) -> 8 | U94: =VLOOKUP($B94,[2]DEN1!$G$2:$I$157,2,FALSE) -> 4 | V94: =+U94+(AF94+AG94)-(AS94+AT94) -> 4 | W94: =+U94+(AF94+AG94+AH94+AI94)-(AS94+AT94+AU94+AV94) -> 4 | X94: =VLOOKUP($B94,[1]DEN1!$G$2:$I$159,2,FALSE) -> 3 | Z94: =VLOOKUP($B94,'[3]ACT DEN1'!$G$2:$S$143,2,FALSE) -> 1 | AA94: =VLOOKUP($B94,'[3]ACT DEN1'!$G$2:$S$143,3,FALSE) -> 0 | AB94: =VLOOKUP($B94,'[3]ACT DEN1'!$G$2:$S$143,4,FALSE) -> 1 | AC94: =VLOOKUP($B94,'[3]ACT DEN1'!$G$2:$S$143,5,FALSE) -> 0 | AD94: =VLOOKUP($B94,'[3]ACT DEN1'!$G$2:$S$143,6,FALSE) -> 0 | AE94: =VLOOKUP($B94,'[3]ACT DEN1'!$G$2:$S$143,7,FALSE) -> 0 | AF94: =VLOOKUP($B94,'[3]ACT DEN1'!$G$2:$S$143,8,FALSE) -> 0 | AG94: =VLOOKUP($B94,'[3]ACT DEN1'!$G$2:$S$143,9,FALSE) -> 0 | AH94: =VLOOKUP($B94,'[3]ACT DEN1'!$G$2:$S$143,10,FALSE) -> 0 | AI94: =VLOOKUP($B94,'[3]ACT DEN1'!$G$2:$S$143,11,FALSE) -> 0 | AJ94: =VLOOKUP($B94,'[3]ACT DEN1'!$G$2:$S$143,12,FALSE) -> 0 | AL94: =SUM(Z94:AK94) -> 2 | AM94: =VLOOKUP($B94,'[3]ACT DEN1'!$AB$2:$AN$119,2,FALSE) -> 0 | AN94: =VLOOKUP($B94,'[3]ACT DEN1'!$AB$2:$AN$119,3,FALSE) -> 0 | AO94: =VLOOKUP($B94,'[3]ACT DEN1'!$AB$2:$AN$119,4,FALSE) -> 1 | AP94: =VLOOKUP($B94,'[3]ACT DEN1'!$AB$2:$AN$119,5,FALSE) -> 0 | AQ94: =VLOOKUP($B94,'[3]ACT DEN1'!$AB$2:$AN$119,6,FALSE) -> 0 | AR94: =VLOOKUP($B94,'[3]ACT DEN1'!$AB$2:$AN$119,7,FALSE) -> 0 | AS94: =VLOOKUP($B94,'[3]ACT DEN1'!$AB$2:$AN$119,8,FALSE) -> 0 | AT94: =VLOOKUP($B94,'[3]ACT DEN1'!$AB$2:$AN$119,9,FALSE) -> 0 | AU94: =VLOOKUP($B94,'[3]ACT DEN1'!$AB$2:$AN$119,10,FALSE) -> 0 | AV94: =VLOOKUP($B94,'[3]ACT DEN1'!$AB$2:$AN$119,11,FALSE) -> 0 | AW94: =VLOOKUP($B94,'[3]ACT DEN1'!$AB$2:$AN$119,12,FALSE) -> 0 | AY94: =SUM(AM94:AX94) -> 1
A95: 04301-OVALLE | B95: 105416-P.S.R. CAMARICO | E95: =VLOOKUP($B95,[1]NUM1!$G$2:$T$157,2,FALSE) -> 0 | F95: =VLOOKUP($B95,[1]NUM1!$G$2:$T$157,3,FALSE) -> 1 | G95: =VLOOKUP($B95,[1]NUM1!$G$2:$T$157,4,FALSE) -> 10 | H95: =VLOOKUP($B95,[1]NUM1!$G$2:$T$157,5,FALSE) -> 1 | I95: =VLOOKUP($B95,[1]NUM1!$G$2:$T$157,6,FALSE) -> 5 | J95: =VLOOKUP($B95,[1]NUM1!$G$2:$T$157,7,FALSE) -> 8 | K95: =VLOOKUP($B95,[1]NUM1!$G$2:$T$157,8,FALSE) -> 5 | L95: =VLOOKUP($B95,[1]NUM1!$G$2:$T$157,9,FALSE) -> 41 | M95: =VLOOKUP($B95,[1]NUM1!$G$2:$T$157,10,FALSE) -> 2 | N95: =VLOOKUP($B95,[1]NUM1!$G$2:$T$157,11,FALSE) -> 1 | O95: =VLOOKUP($B95,[1]NUM1!$G$2:$T$157,12,FALSE) -> 0 | P95: =VLOOKUP($B95,[1]NUM1!$G$2:$T$157,13,FALSE) -> 0 | Q95: =SUM(E95:P95) -> 74 | S95: 13 | T95: =+S95+(Z95+AA95+AB95)-(AM95+AN95+AO95) -> 14 | U95: =VLOOKUP($B95,[2]DEN1!$G$2:$I$157,2,FALSE) -> 14 | V95: =+U95+(AF95+AG95)-(AS95+AT95) -> 14 | W95: =+U95+(AF95+AG95+AH95+AI95)-(AS95+AT95+AU95+AV95) -> 14 | X95: =VLOOKUP($B95,[1]DEN1!$G$2:$I$159,2,FALSE) -> 12 | Z95: =VLOOKUP($B95,'[3]ACT DEN1'!$G$2:$S$143,2,FALSE) -> 1 | AA95: =VLOOKUP($B95,'[3]ACT DEN1'!$G$2:$S$143,3,FALSE) -> 0 | AB95: =VLOOKUP($B95,'[3]ACT DEN1'!$G$2:$S$143,4,FALSE) -> 0 | AC95: =VLOOKUP($B95,'[3]ACT DEN1'!$G$2:$S$143,5,FALSE) -> 0 | AD95: =VLOOKUP($B95,'[3]ACT DEN1'!$G$2:$S$143,6,FALSE) -> 0 | AE95: =VLOOKUP($B95,'[3]ACT DEN1'!$G$2:$S$143,7,FALSE) -> 0 | AF95: =VLOOKUP($B95,'[3]ACT DEN1'!$G$2:$S$143,8,FALSE) -> 0 | AG95: =VLOOKUP($B95,'[3]ACT DEN1'!$G$2:$S$143,9,FALSE) -> 0 | AH95: =VLOOKUP($B95,'[3]ACT DEN1'!$G$2:$S$143,10,FALSE) -> 0 | AI95: =VLOOKUP($B95,'[3]ACT DEN1'!$G$2:$S$143,11,FALSE) -> 0 | AJ95: =VLOOKUP($B95,'[3]ACT DEN1'!$G$2:$S$143,12,FALSE) -> 0 | AL95: =SUM(Z95:AK95) -> 1 | AM95: =VLOOKUP($B95,'[3]ACT DEN1'!$AB$2:$AN$119,2,FALSE) -> 0 | AN95: =VLOOKUP($B95,'[3]ACT DEN1'!$AB$2:$AN$119,3,FALSE) -> 0 | AO95: =VLOOKUP($B95,'[3]ACT DEN1'!$AB$2:$AN$119,4,FALSE) -> 0 | AP95: =VLOOKUP($B95,'[3]ACT DEN1'!$AB$2:$AN$119,5,FALSE) -> 0 | AQ95: =VLOOKUP($B95,'[3]ACT DEN1'!$AB$2:$AN$119,6,FALSE) -> 0 | AR95: =VLOOKUP($B95,'[3]ACT DEN1'!$AB$2:$AN$119,7,FALSE) -> 0 | AS95: =VLOOKUP($B95,'[3]ACT DEN1'!$AB$2:$AN$119,8,FALSE) -> 0 | AT95: =VLOOKUP($B95,'[3]ACT DEN1'!$AB$2:$AN$119,9,FALSE) -> 0 | AU95: =VLOOKUP($B95,'[3]ACT DEN1'!$AB$2:$AN$119,10,FALSE) -> 0 | AV95: =VLOOKUP($B95,'[3]ACT DEN1'!$AB$2:$AN$119,11,FALSE) -> 0 | AW95: =VLOOKUP($B95,'[3]ACT DEN1'!$AB$2:$AN$119,12,FALSE) -> 0 | AY95: =SUM(AM95:AX95) -> 0
A96: 04301-OVALLE | B96: 105417-P.S.R. ALCONES BAJOS | E96: =VLOOKUP($B96,[1]NUM1!$G$2:$T$157,2,FALSE) -> 0 | F96: =VLOOKUP($B96,[1]NUM1!$G$2:$T$157,3,FALSE) -> 5 | G96: =VLOOKUP($B96,[1]NUM1!$G$2:$T$157,4,FALSE) -> 0 | H96: =VLOOKUP($B96,[1]NUM1!$G$2:$T$157,5,FALSE) -> 0 | I96: =VLOOKUP($B96,[1]NUM1!$G$2:$T$157,6,FALSE) -> 2 | J96: =VLOOKUP($B96,[1]NUM1!$G$2:$T$157,7,FALSE) -> 1 | K96: =VLOOKUP($B96,[1]NUM1!$G$2:$T$157,8,FALSE) -> 1 | L96: =VLOOKUP($B96,[1]NUM1!$G$2:$T$157,9,FALSE) -> 0 | M96: =VLOOKUP($B96,[1]NUM1!$G$2:$T$157,10,FALSE) -> 0 | N96: =VLOOKUP($B96,[1]NUM1!$G$2:$T$157,11,FALSE) -> 0 | O96: =VLOOKUP($B96,[1]NUM1!$G$2:$T$157,12,FALSE) -> 0 | P96: =VLOOKUP($B96,[1]NUM1!$G$2:$T$157,13,FALSE) -> 20 | Q96: =SUM(E96:P96) -> 29 | S96: 6 | T96: =+S96+(Z96+AA96+AB96)-(AM96+AN96+AO96) -> 6 | U96: =VLOOKUP($B96,[2]DEN1!$G$2:$I$157,2,FALSE) -> 4 | V96: =+U96+(AF96+AG96)-(AS96+AT96) -> 4 | W96: =+U96+(AF96+AG96+AH96+AI96)-(AS96+AT96+AU96+AV96) -> 4 | X96: =VLOOKUP($B96,[1]DEN1!$G$2:$I$159,2,FALSE) -> 4 | Z96: =VLOOKUP($B96,'[3]ACT DEN1'!$G$2:$S$143,2,FALSE) -> 0 | AA96: =VLOOKUP($B96,'[3]ACT DEN1'!$G$2:$S$143,3,FALSE) -> 0 | AB96: =VLOOKUP($B96,'[3]ACT DEN1'!$G$2:$S$143,4,FALSE) -> 0 | AC96: =VLOOKUP($B96,'[3]ACT DEN1'!$G$2:$S$143,5,FALSE) -> 0 | AD96: =VLOOKUP($B96,'[3]ACT DEN1'!$G$2:$S$143,6,FALSE) -> 0 | AE96: =VLOOKUP($B96,'[3]ACT DEN1'!$G$2:$S$143,7,FALSE) -> 0 | AF96: =VLOOKUP($B96,'[3]ACT DEN1'!$G$2:$S$143,8,FALSE) -> 0 | AG96: =VLOOKUP($B96,'[3]ACT DEN1'!$G$2:$S$143,9,FALSE) -> 0 | AH96: =VLOOKUP($B96,'[3]ACT DEN1'!$G$2:$S$143,10,FALSE) -> 0 | AI96: =VLOOKUP($B96,'[3]ACT DEN1'!$G$2:$S$143,11,FALSE) -> 0 | AJ96: =VLOOKUP($B96,'[3]ACT DEN1'!$G$2:$S$143,12,FALSE) -> 0 | AL96: =SUM(Z96:AK96) -> 0 | AM96: =VLOOKUP($B96,'[3]ACT DEN1'!$AB$2:$AN$119,2,FALSE) -> 0 | AN96: =VLOOKUP($B96,'[3]ACT DEN1'!$AB$2:$AN$119,3,FALSE) -> 0 | AO96: =VLOOKUP($B96,'[3]ACT DEN1'!$AB$2:$AN$119,4,FALSE) -> 0 | AP96: =VLOOKUP($B96,'[3]ACT DEN1'!$AB$2:$AN$119,5,FALSE) -> 0 | AQ96: =VLOOKUP($B96,'[3]ACT DEN1'!$AB$2:$AN$119,6,FALSE) -> 1 | AR96: =VLOOKUP($B96,'[3]ACT DEN1'!$AB$2:$AN$119,7,FALSE) -> 0 | AS96: =VLOOKUP($B96,'[3]ACT DEN1'!$AB$2:$AN$119,8,FALSE) -> 0 | AT96: =VLOOKUP($B96,'[3]ACT DEN1'!$AB$2:$AN$119,9,FALSE) -> 0 | AU96: =VLOOKUP($B96,'[3]ACT DEN1'!$AB$2:$AN$119,10,FALSE) -> 0 | AV96: =VLOOKUP($B96,'[3]ACT DEN1'!$AB$2:$AN$119,11,FALSE) -> 0 | AW96: =VLOOKUP($B96,'[3]ACT DEN1'!$AB$2:$AN$119,12,FALSE) -> 0 | AY96: =SUM(AM96:AX96) -> 1
A97: 04301-OVALLE | B97: 105419-P.S.R. LAS SOSSAS | E97: =VLOOKUP($B97,[1]NUM1!$G$2:$T$157,2,FALSE) -> 0 | F97: =VLOOKUP($B97,[1]NUM1!$G$2:$T$157,3,FALSE) -> 0 | G97: =VLOOKUP($B97,[1]NUM1!$G$2:$T$157,4,FALSE) -> 0 | H97: =VLOOKUP($B97,[1]NUM1!$G$2:$T$157,5,FALSE) -> 0 | I97: =VLOOKUP($B97,[1]NUM1!$G$2:$T$157,6,FALSE) -> 1 | J97: =VLOOKUP($B97,[1]NUM1!$G$2:$T$157,7,FALSE) -> 0 | K97: =VLOOKUP($B97,[1]NUM1!$G$2:$T$157,8,FALSE) -> 0 | L97: =VLOOKUP($B97,[1]NUM1!$G$2:$T$157,9,FALSE) -> 0 | M97: =VLOOKUP($B97,[1]NUM1!$G$2:$T$157,10,FALSE) -> 0 | N97: =VLOOKUP($B97,[1]NUM1!$G$2:$T$157,11,FALSE) -> 0 | O97: =VLOOKUP($B97,[1]NUM1!$G$2:$T$157,12,FALSE) -> 1 | P97: =VLOOKUP($B97,[1]NUM1!$G$2:$T$157,13,FALSE) -> 0 | Q97: =SUM(E97:P97) -> 2 | S97: 4 | T97: =+S97+(Z97+AA97+AB97)-(AM97+AN97+AO97) -> 4 | U97: =VLOOKUP($B97,[2]DEN1!$G$2:$I$157,2,FALSE) -> 2 | V97: =+U97+(AF97+AG97)-(AS97+AT97) -> 2 | W97: =+U97+(AF97+AG97+AH97+AI97)-(AS97+AT97+AU97+AV97) -> 3 | X97: =VLOOKUP($B97,[1]DEN1!$G$2:$I$159,2,FALSE) -> 3 | Z97: =VLOOKUP($B97,'[3]ACT DEN1'!$G$2:$S$143,2,FALSE) -> 0 | AA97: =VLOOKUP($B97,'[3]ACT DEN1'!$G$2:$S$143,3,FALSE) -> 0 | AB97: =VLOOKUP($B97,'[3]ACT DEN1'!$G$2:$S$143,4,FALSE) -> 0 | AC97: =VLOOKUP($B97,'[3]ACT DEN1'!$G$2:$S$143,5,FALSE) -> 0 | AD97: =VLOOKUP($B97,'[3]ACT DEN1'!$G$2:$S$143,6,FALSE) -> 0 | AE97: =VLOOKUP($B97,'[3]ACT DEN1'!$G$2:$S$143,7,FALSE) -> 0 | AF97: =VLOOKUP($B97,'[3]ACT DEN1'!$G$2:$S$143,8,FALSE) -> 0 | AG97: =VLOOKUP($B97,'[3]ACT DEN1'!$G$2:$S$143,9,FALSE) -> 0 | AH97: =VLOOKUP($B97,'[3]ACT DEN1'!$G$2:$S$143,10,FALSE) -> 1 | AI97: =VLOOKUP($B97,'[3]ACT DEN1'!$G$2:$S$143,11,FALSE) -> 0 | AJ97: =VLOOKUP($B97,'[3]ACT DEN1'!$G$2:$S$143,12,FALSE) -> 0 | AL97: =SUM(Z97:AK97) -> 1 | AM97: =VLOOKUP($B97,'[3]ACT DEN1'!$AB$2:$AN$119,2,FALSE) -> 0 | AN97: =VLOOKUP($B97,'[3]ACT DEN1'!$AB$2:$AN$119,3,FALSE) -> 0 | AO97: =VLOOKUP($B97,'[3]ACT DEN1'!$AB$2:$AN$119,4,FALSE) -> 0 | AP97: =VLOOKUP($B97,'[3]ACT DEN1'!$AB$2:$AN$119,5,FALSE) -> 0 | AQ97: =VLOOKUP($B97,'[3]ACT DEN1'!$AB$2:$AN$119,6,FALSE) -> 0 | AR97: =VLOOKUP($B97,'[3]ACT DEN1'!$AB$2:$AN$119,7,FALSE) -> 0 | AS97: =VLOOKUP($B97,'[3]ACT DEN1'!$AB$2:$AN$119,8,FALSE) -> 0 | AT97: =VLOOKUP($B97,'[3]ACT DEN1'!$AB$2:$AN$119,9,FALSE) -> 0 | AU97: =VLOOKUP($B97,'[3]ACT DEN1'!$AB$2:$AN$119,10,FALSE) -> 0 | AV97: =VLOOKUP($B97,'[3]ACT DEN1'!$AB$2:$AN$119,11,FALSE) -> 0 | AW97: =VLOOKUP($B97,'[3]ACT DEN1'!$AB$2:$AN$119,12,FALSE) -> 0 | AY97: =SUM(AM97:AX97) -> 0
A98: 04301-OVALLE | B98: 105420-P.S.R. LIMARI | E98: =VLOOKUP($B98,[1]NUM1!$G$2:$T$157,2,FALSE) -> 0 | F98: =VLOOKUP($B98,[1]NUM1!$G$2:$T$157,3,FALSE) -> 0 | G98: =VLOOKUP($B98,[1]NUM1!$G$2:$T$157,4,FALSE) -> 4 | H98: =VLOOKUP($B98,[1]NUM1!$G$2:$T$157,5,FALSE) -> 7 | I98: =VLOOKUP($B98,[1]NUM1!$G$2:$T$157,6,FALSE) -> 9 | J98: =VLOOKUP($B98,[1]NUM1!$G$2:$T$157,7,FALSE) -> 6 | K98: =VLOOKUP($B98,[1]NUM1!$G$2:$T$157,8,FALSE) -> 20 | L98: =VLOOKUP($B98,[1]NUM1!$G$2:$T$157,9,FALSE) -> 2 | M98: =VLOOKUP($B98,[1]NUM1!$G$2:$T$157,10,FALSE) -> 11 | N98: =VLOOKUP($B98,[1]NUM1!$G$2:$T$157,11,FALSE) -> 6 | O98: =VLOOKUP($B98,[1]NUM1!$G$2:$T$157,12,FALSE) -> 3 | P98: =VLOOKUP($B98,[1]NUM1!$G$2:$T$157,13,FALSE) -> 4 | Q98: =SUM(E98:P98) -> 72 | S98: 7 | T98: =+S98+(Z98+AA98+AB98)-(AM98+AN98+AO98) -> 7 | U98: =VLOOKUP($B98,[2]DEN1!$G$2:$I$157,2,FALSE) -> 8 | V98: =+U98+(AF98+AG98)-(AS98+AT98) -> 8 | W98: =+U98+(AF98+AG98+AH98+AI98)-(AS98+AT98+AU98+AV98) -> 8 | X98: =VLOOKUP($B98,[1]DEN1!$G$2:$I$159,2,FALSE) -> 5 | Z98: =VLOOKUP($B98,'[3]ACT DEN1'!$G$2:$S$143,2,FALSE) -> 0 | AA98: =VLOOKUP($B98,'[3]ACT DEN1'!$G$2:$S$143,3,FALSE) -> 0 | AB98: =VLOOKUP($B98,'[3]ACT DEN1'!$G$2:$S$143,4,FALSE) -> 0 | AC98: =VLOOKUP($B98,'[3]ACT DEN1'!$G$2:$S$143,5,FALSE) -> 0 | AD98: =VLOOKUP($B98,'[3]ACT DEN1'!$G$2:$S$143,6,FALSE) -> 1 | AE98: =VLOOKUP($B98,'[3]ACT DEN1'!$G$2:$S$143,7,FALSE) -> 0 | AF98: =VLOOKUP($B98,'[3]ACT DEN1'!$G$2:$S$143,8,FALSE) -> 0 | AG98: =VLOOKUP($B98,'[3]ACT DEN1'!$G$2:$S$143,9,FALSE) -> 0 | AH98: =VLOOKUP($B98,'[3]ACT DEN1'!$G$2:$S$143,10,FALSE) -> 0 | AI98: =VLOOKUP($B98,'[3]ACT DEN1'!$G$2:$S$143,11,FALSE) -> 0 | AJ98: =VLOOKUP($B98,'[3]ACT DEN1'!$G$2:$S$143,12,FALSE) -> 0 | AL98: =SUM(Z98:AK98) -> 1 | AM98: =VLOOKUP($B98,'[3]ACT DEN1'!$AB$2:$AN$119,2,FALSE) -> 0 | AN98: =VLOOKUP($B98,'[3]ACT DEN1'!$AB$2:$AN$119,3,FALSE) -> 0 | AO98: =VLOOKUP($B98,'[3]ACT DEN1'!$AB$2:$AN$119,4,FALSE) -> 0 | AP98: =VLOOKUP($B98,'[3]ACT DEN1'!$AB$2:$AN$119,5,FALSE) -> 0 | AQ98: =VLOOKUP($B98,'[3]ACT DEN1'!$AB$2:$AN$119,6,FALSE) -> 0 | AR98: =VLOOKUP($B98,'[3]ACT DEN1'!$AB$2:$AN$119,7,FALSE) -> 1 | AS98: =VLOOKUP($B98,'[3]ACT DEN1'!$AB$2:$AN$119,8,FALSE) -> 0 | AT98: =VLOOKUP($B98,'[3]ACT DEN1'!$AB$2:$AN$119,9,FALSE) -> 0 | AU98: =VLOOKUP($B98,'[3]ACT DEN1'!$AB$2:$AN$119,10,FALSE) -> 0 | AV98: =VLOOKUP($B98,'[3]ACT DEN1'!$AB$2:$AN$119,11,FALSE) -> 0 | AW98: =VLOOKUP($B98,'[3]ACT DEN1'!$AB$2:$AN$119,12,FALSE) -> 0 | AY98: =SUM(AM98:AX98) -> 1
A99: 04301-OVALLE | B99: 105422-P.S.R. HORNILLOS | E99: =VLOOKUP($B99,[1]NUM1!$G$2:$T$157,2,FALSE) -> 0 | F99: =VLOOKUP($B99,[1]NUM1!$G$2:$T$157,3,FALSE) -> 0 | G99: =VLOOKUP($B99,[1]NUM1!$G$2:$T$157,4,FALSE) -> 2 | H99: =VLOOKUP($B99,[1]NUM1!$G$2:$T$157,5,FALSE) -> 0 | I99: =VLOOKUP($B99,[1]NUM1!$G$2:$T$157,6,FALSE) -> 1 | J99: =VLOOKUP($B99,[1]NUM1!$G$2:$T$157,7,FALSE) -> 4 | K99: =VLOOKUP($B99,[1]NUM1!$G$2:$T$157,8,FALSE) -> 0 | L99: =VLOOKUP($B99,[1]NUM1!$G$2:$T$157,9,FALSE) -> 0 | M99: =VLOOKUP($B99,[1]NUM1!$G$2:$T$157,10,FALSE) -> 0 | N99: =VLOOKUP($B99,[1]NUM1!$G$2:$T$157,11,FALSE) -> 0 | O99: =VLOOKUP($B99,[1]NUM1!$G$2:$T$157,12,FALSE) -> 0 | P99: =VLOOKUP($B99,[1]NUM1!$G$2:$T$157,13,FALSE) -> 1 | Q99: =SUM(E99:P99) -> 8 | S99: 7 | T99: =+S99+(Z99+AA99+AB99)-(AM99+AN99+AO99) -> 7 | U99: =VLOOKUP($B99,[2]DEN1!$G$2:$I$157,2,FALSE) -> 7 | V99: =+U99+(AF99+AG99)-(AS99+AT99) -> 7 | W99: =+U99+(AF99+AG99+AH99+AI99)-(AS99+AT99+AU99+AV99) -> 7 | X99: =VLOOKUP($B99,[1]DEN1!$G$2:$I$159,2,FALSE) -> 8 | Z99: =VLOOKUP($B99,'[3]ACT DEN1'!$G$2:$S$143,2,FALSE) -> 0 | AA99: =VLOOKUP($B99,'[3]ACT DEN1'!$G$2:$S$143,3,FALSE) -> 0 | AB99: =VLOOKUP($B99,'[3]ACT DEN1'!$G$2:$S$143,4,FALSE) -> 0 | AC99: =VLOOKUP($B99,'[3]ACT DEN1'!$G$2:$S$143,5,FALSE) -> 0 | AD99: =VLOOKUP($B99,'[3]ACT DEN1'!$G$2:$S$143,6,FALSE) -> 0 | AE99: =VLOOKUP($B99,'[3]ACT DEN1'!$G$2:$S$143,7,FALSE) -> 0 | AF99: =VLOOKUP($B99,'[3]ACT DEN1'!$G$2:$S$143,8,FALSE) -> 0 | AG99: =VLOOKUP($B99,'[3]ACT DEN1'!$G$2:$S$143,9,FALSE) -> 0 | AH99: =VLOOKUP($B99,'[3]ACT DEN1'!$G$2:$S$143,10,FALSE) -> 0 | AI99: =VLOOKUP($B99,'[3]ACT DEN1'!$G$2:$S$143,11,FALSE) -> 0 | AJ99: =VLOOKUP($B99,'[3]ACT DEN1'!$G$2:$S$143,12,FALSE) -> 0 | AL99: =SUM(Z99:AK99) -> 0 | AM99: =VLOOKUP($B99,'[3]ACT DEN1'!$AB$2:$AN$119,2,FALSE) -> 0 | AN99: =VLOOKUP($B99,'[3]ACT DEN1'!$AB$2:$AN$119,3,FALSE) -> 0 | AO99: =VLOOKUP($B99,'[3]ACT DEN1'!$AB$2:$AN$119,4,FALSE) -> 0 | AP99: =VLOOKUP($B99,'[3]ACT DEN1'!$AB$2:$AN$119,5,FALSE) -> 0 | AQ99: =VLOOKUP($B99,'[3]ACT DEN1'!$AB$2:$AN$119,6,FALSE) -> 0 | AR99: =VLOOKUP($B99,'[3]ACT DEN1'!$AB$2:$AN$119,7,FALSE) -> 0 | AS99: =VLOOKUP($B99,'[3]ACT DEN1'!$AB$2:$AN$119,8,FALSE) -> 0 | AT99: =VLOOKUP($B99,'[3]ACT DEN1'!$AB$2:$AN$119,9,FALSE) -> 0 | AU99: =VLOOKUP($B99,'[3]ACT DEN1'!$AB$2:$AN$119,10,FALSE) -> 0 | AV99: =VLOOKUP($B99,'[3]ACT DEN1'!$AB$2:$AN$119,11,FALSE) -> 0 | AW99: =VLOOKUP($B99,'[3]ACT DEN1'!$AB$2:$AN$119,12,FALSE) -> 0 | AY99: =SUM(AM99:AX99) -> 0
A100: 04301-OVALLE | B100: 105437-P.S.R. CHALINGA | E100: =VLOOKUP($B100,[1]NUM1!$G$2:$T$157,2,FALSE) -> 0 | F100: =VLOOKUP($B100,[1]NUM1!$G$2:$T$157,3,FALSE) -> 0 | G100: =VLOOKUP($B100,[1]NUM1!$G$2:$T$157,4,FALSE) -> 1 | H100: =VLOOKUP($B100,[1]NUM1!$G$2:$T$157,5,FALSE) -> 0 | I100: =VLOOKUP($B100,[1]NUM1!$G$2:$T$157,6,FALSE) -> 0 | J100: =VLOOKUP($B100,[1]NUM1!$G$2:$T$157,7,FALSE) -> 2 | K100: =VLOOKUP($B100,[1]NUM1!$G$2:$T$157,8,FALSE) -> 0 | L100: =VLOOKUP($B100,[1]NUM1!$G$2:$T$157,9,FALSE) -> 0 | M100: =VLOOKUP($B100,[1]NUM1!$G$2:$T$157,10,FALSE) -> 0 | N100: =VLOOKUP($B100,[1]NUM1!$G$2:$T$157,11,FALSE) -> 0 | O100: =VLOOKUP($B100,[1]NUM1!$G$2:$T$157,12,FALSE) -> 0 | P100: =VLOOKUP($B100,[1]NUM1!$G$2:$T$157,13,FALSE) -> 0 | Q100: =SUM(E100:P100) -> 3 | S100: 8 | T100: =+S100+(Z100+AA100+AB100)-(AM100+AN100+AO100) -> 8 | U100: =VLOOKUP($B100,[2]DEN1!$G$2:$I$157,2,FALSE) -> 8 | V100: =+U100+(AF100+AG100)-(AS100+AT100) -> 8 | W100: =+U100+(AF100+AG100+AH100+AI100)-(AS100+AT100+AU100+AV100) -> 8 | X100: =VLOOKUP($B100,[1]DEN1!$G$2:$I$159,2,FALSE) -> 8 | Z100: =VLOOKUP($B100,'[3]ACT DEN1'!$G$2:$S$143,2,FALSE) -> 0 | AA100: =VLOOKUP($B100,'[3]ACT DEN1'!$G$2:$S$143,3,FALSE) -> 0 | AB100: =VLOOKUP($B100,'[3]ACT DEN1'!$G$2:$S$143,4,FALSE) -> 0 | AC100: =VLOOKUP($B100,'[3]ACT DEN1'!$G$2:$S$143,5,FALSE) -> 0 | AD100: =VLOOKUP($B100,'[3]ACT DEN1'!$G$2:$S$143,6,FALSE) -> 0 | AE100: =VLOOKUP($B100,'[3]ACT DEN1'!$G$2:$S$143,7,FALSE) -> 0 | AF100: =VLOOKUP($B100,'[3]ACT DEN1'!$G$2:$S$143,8,FALSE) -> 0 | AG100: =VLOOKUP($B100,'[3]ACT DEN1'!$G$2:$S$143,9,FALSE) -> 0 | AH100: =VLOOKUP($B100,'[3]ACT DEN1'!$G$2:$S$143,10,FALSE) -> 0 | AI100: =VLOOKUP($B100,'[3]ACT DEN1'!$G$2:$S$143,11,FALSE) -> 0 | AJ100: =VLOOKUP($B100,'[3]ACT DEN1'!$G$2:$S$143,12,FALSE) -> 0 | AL100: =SUM(Z100:AK100) -> 0 | AM100: =VLOOKUP($B100,'[3]ACT DEN1'!$AB$2:$AN$119,2,FALSE) -> 0 | AN100: =VLOOKUP($B100,'[3]ACT DEN1'!$AB$2:$AN$119,3,FALSE) -> 0 | AO100: =VLOOKUP($B100,'[3]ACT DEN1'!$AB$2:$AN$119,4,FALSE) -> 0 | AP100: =VLOOKUP($B100,'[3]ACT DEN1'!$AB$2:$AN$119,5,FALSE) -> 0 | AQ100: =VLOOKUP($B100,'[3]ACT DEN1'!$AB$2:$AN$119,6,FALSE) -> 0 | AR100: =VLOOKUP($B100,'[3]ACT DEN1'!$AB$2:$AN$119,7,FALSE) -> 0 | AS100: =VLOOKUP($B100,'[3]ACT DEN1'!$AB$2:$AN$119,8,FALSE) -> 0 | AT100: =VLOOKUP($B100,'[3]ACT DEN1'!$AB$2:$AN$119,9,FALSE) -> 0 | AU100: =VLOOKUP($B100,'[3]ACT DEN1'!$AB$2:$AN$119,10,FALSE) -> 0 | AV100: =VLOOKUP($B100,'[3]ACT DEN1'!$AB$2:$AN$119,11,FALSE) -> 0 | AW100: =VLOOKUP($B100,'[3]ACT DEN1'!$AB$2:$AN$119,12,FALSE) -> 0 | AY100: =SUM(AM100:AX100) -> 0
